Workbook

Sheet Original Data)
A8: Month | G8: Series 1 | H8: Series 2 | I8: Series 3 | J8: Series 4 | K8: Series 5 | L8: Series 6 | M8: Series 7 | N8: Series 8 | O8: Series 9 | P8: Series 10 | Q8: Series 11 | R8: Series 12 | S8: Series 13 | T8: Series 14 | U8: Series 15 | V8: Series 16 | W8: Series 17 | X8: Series 18 | Y8: Series 19 | Z8: Series 20 | AA8: Series 21 | AB8: Series 22 | AC8: Series 23 | AD8: Series 24 | AE8: Series 25 | AF8: Series 26 | AG8: Series 27 | AH8: Series 28 | AI8: Series 29 | AJ8: Series 30 | AK8: Series 31 | AL8: Series 32 | AM8: Series 33 | AN8: Series 34 | AO8: Series 35 | AP8: Series 36 | AQ8: Series 37 | AR8: Series 38 | AS8: Series 39 | AT8: Series 40 | AU8: Series 41 | AV8: Series 42
A9: 2004.5 | G9: 289.6053 | H9: 289.5872 | I9: 289.653 | J9: 290.7695 | K9: 289.153 | L9: 290.1174 | M9: 289.5991 | N9: 289.6434 | O9: 289.003 | P9: 289.3433 | Q9: 289.3339 | R9: 289.7659 | S9: 288.5935 | T9: 288.6247 | U9: 288.2614 | V9: 289.321 | W9: 289.0816 | X9: 289.2402 | Y9: 289.5135 | Z9: 290.6431 | AA9: 290.79 | AB9: 291.0437 | AC9: 290.2444 | AD9: 290.1585 | AE9: 290.2718 | AF9: 290.3175 | AG9: 289.9229 | AH9: 290.265 | AI9: 289.0862 | AJ9: 289.4523 | AK9: 289.1697 | AL9: 288.6028 | AM9: 289.261 | AN9: 289.4924 | AO9: 290.8826 | AP9: 288.958 | AQ9: 289.1218 | AR9: 289.3636 | AS9: 289.563 | AT9: 289.4311 | AU9: 289.0115 | AV9: 288.7134
A10: 2004.5833 | G10: 289.3928 | H10: 289.419 | I10: 289.5793 | J10: 290.5235 | K10: 288.8809 | L10: 289.7784 | M10: 289.4651 | N10: 289.5146 | O10: 288.6306 | P10: 289.1676 | Q10: 289.1511 | R10: 289.4099 | S10: 288.3951 | T10: 288.4492 | U10: 287.9957 | V10: 289.0324 | W10: 289.0038 | X10: 289.0171 | Y10: 289.3048 | Z10: 290.4068 | AA10: 290.5341 | AB10: 290.727 | AC10: 289.9625 | AD10: 290.0414 | AE10: 290.1272 | AF10: 290.2825 | AG10: 289.9867 | AH10: 289.8647 | AI10: 288.7103 | AJ10: 289.192 | AK10: 288.7404 | AL10: 288.4193 | AM10: 289.3409 | AN10: 289.3307 | AO10: 290.6795 | AP10: 288.7376 | AQ10: 288.8544 | AR10: 289.2439 | AS10: 289.4344 | AT10: 289.1339 | AU10: 288.9393 | AV10: 288.6193
A11: 2004.6667 | G11: 288.5411 | H11: 288.8417 | I11: 288.9159 | J11: 289.9017 | K11: 288.1235 | L11: 288.864 | M11: 288.755 | N11: 288.7051 | O11: 287.9335 | P11: 288.4437 | Q11: 288.3822 | R11: 288.5168 | S11: 287.6803 | T11: 287.7112 | U11: 287.2311 | V11: 288.2716 | W11: 288.2577 | X11: 288.2926 | Y11: 288.5858 | Z11: 289.7926 | AA11: 289.9207 | AB11: 290.0953 | AC11: 289.4305 | AD11: 289.4234 | AE11: 289.5229 | AF11: 289.7107 | AG11: 289.371 | AH11: 289.1678 | AI11: 288.028 | AJ11: 288.5103 | AK11: 288.0424 | AL11: 287.6818 | AM11: 288.629 | AN11: 288.4585 | AO11: 289.9504 | AP11: 287.8605 | AQ11: 288.0517 | AR11: 288.6404 | AS11: 288.7632 | AT11: 288.2491 | AU11: 287.9975 | AV11: 287.9663
A12: 2004.75 | G12: 287.7188 | H12: 287.9372 | I12: 287.9859 | J12: 288.7586 | K12: 287.283 | L12: 287.9658 | M12: 287.6188 | N12: 287.79 | O12: 286.8176 | P12: 287.2654 | Q12: 287.4912 | R12: 287.3608 | S12: 286.6498 | T12: 286.7038 | U12: 286.1476 | V12: 287.4865 | W12: 287.3623 | X12: 287.2203 | Y12: 287.4967 | Z12: 288.9785 | AA12: 288.9186 | AB12: 289.2033 | AC12: 288.582 | AD12: 288.5811 | AE12: 288.4077 | AF12: 288.8189 | AG12: 288.3752 | AH12: 288.1243 | AI12: 286.9287 | AJ12: 287.475 | AK12: 287.0556 | AL12: 286.4679 | AM12: 287.3367 | AN12: 287.1534 | AO12: 288.9569 | AP12: 287.1161 | AQ12: 287.2735 | AR12: 287.5223 | AS12: 287.8169 | AT12: 286.9607 | AU12: 287.0027 | AV12: 286.9258
A13: 2004.8333 | G13: 286.6192 | H13: 286.9235 | I13: 287.1616 | J13: 287.9132 | K13: 286.3158 | L13: 286.9215 | M13: 286.6231 | N13: 286.9101 | O13: 285.6955 | P13: 286.3106 | Q13: 286.3877 | R13: 286.2097 | S13: 285.5056 | T13: 285.7132 | U13: 285.1727 | V13: 286.5659 | W13: 286.2857 | X13: 286.2858 | Y13: 286.5445 | Z13: 287.9883 | AA13: 288.0752 | AB13: 288.4698 | AC13: 287.7616 | AD13: 287.464 | AE13: 287.3018 | AF13: 287.5188 | AG13: 287.4649 | AH13: 286.9737 | AI13: 285.8844 | AJ13: 286.16 | AK13: 286.165 | AL13: 285.3634 | AM13: 286.1405 | AN13: 285.7735 | AO13: 287.844 | AP13: 286.3663 | AQ13: 286.5995 | AR13: 286.4035 | AS13: 286.8896 | AT13: 285.892 | AU13: 285.9646 | AV13: 286.1009
A14: 2004.9167 | G14: 285.8869 | H14: 286.2279 | I14: 286.7154 | J14: 287.3509 | K14: 285.8939 | L14: 286.2324 | M14: 286.2081 | N14: 286.309 | O14: 285.0712 | P14: 285.6636 | Q14: 285.6443 | R14: 285.7171 | S14: 284.8676 | T14: 285.2769 | U14: 284.5008 | V14: 285.6122 | W14: 285.5188 | X14: 285.4633 | Y14: 285.9534 | Z14: 287.5048 | AA14: 287.4007 | AB14: 287.8579 | AC14: 287.1176 | AD14: 286.7817 | AE14: 286.6848 | AF14: 286.8718 | AG14: 286.7452 | AH14: 286.2585 | AI14: 284.7976 | AJ14: 285.326 | AK14: 285.5448 | AL14: 284.9278 | AM14: 285.434 | AN14: 284.7426 | AO14: 287.2602 | AP14: 285.9845 | AQ14: 286.0667 | AR14: 285.6067 | AS14: 286.2474 | AT14: 285.5002 | AU14: 285.4844 | AV14: 285.3898
A15: 2005 | G15: 285.8358 | H15: 286.0547 | I15: 286.0943 | J15: 287.1591 | K15: 285.5246 | L15: 286.1761 | M15: 286.0218 | N15: 286.439 | O15: 284.8335 | P15: 285.3558 | Q15: 285.5498 | R15: 285.5408 | S15: 284.563 | T15: 285.381 | U15: 284.2613 | V15: 285.4563 | W15: 285.2754 | X15: 285.3504 | Y15: 286.2425 | Z15: 287.4038 | AA15: 287.4582 | AB15: 287.692 | AC15: 287.0685 | AD15: 286.527 | AE15: 286.4666 | AF15: 286.4753 | AG15: 286.5121 | AH15: 285.9832 | AI15: 284.4849 | AJ15: 285.1196 | AK15: 285.0281 | AL15: 284.8488 | AM15: 285.3769 | AN15: 284.6685 | AO15: 286.8852 | AP15: 285.8679 | AQ15: 285.7969 | AR15: 285.4364 | AS15: 285.9725 | AT15: 285.3873 | AU15: 285.4756 | AV15: 285.2299
A16: 2005.0833 | G16: 286.0145 | H16: 286.222 | I16: 286.4835 | J16: 287.4116 | K16: 285.977 | L16: 286.3794 | M16: 286.4219 | N16: 286.6336 | O16: 285.5058 | P16: 285.764 | Q16: 285.8176 | R16: 285.918 | S16: 284.987 | T16: 285.622 | U16: 284.5625 | V16: 285.7806 | W16: 285.6785 | X16: 285.9221 | Y16: 286.4656 | Z16: 287.7187 | AA16: 287.8446 | AB16: 287.9775 | AC16: 287.4325 | AD16: 286.9321 | AE16: 286.9401 | AF16: 286.8329 | AG16: 286.8426 | AH16: 286.2567 | AI16: 284.8211 | AJ16: 285.5551 | AK16: 285.1458 | AL16: 284.8807 | AM16: 285.8509 | AN16: 285.1069 | AO16: 286.8529 | AP16: 286.0174 | AQ16: 286.0398 | AR16: 285.9229 | AS16: 286.3284 | AT16: 286.0962 | AU16: 285.5228 | AV16: 285.4237
A17: 2005.1667 | G17: 286.693 | H17: 286.7782 | I17: 287.3518 | J17: 288.2468 | K17: 286.2692 | L17: 287.0765 | M17: 286.9229 | N17: 287.1075 | O17: 286.3714 | P17: 286.4382 | Q17: 286.8659 | R17: 286.3318 | S17: 285.7273 | T17: 286.0546 | U17: 285.2457 | V17: 286.358 | W17: 286.2224 | X17: 286.607 | Y17: 286.9518 | Z17: 288.2591 | AA17: 288.5547 | AB17: 288.5794 | AC17: 288.1982 | AD17: 287.5094 | AE17: 287.5934 | AF17: 287.5414 | AG17: 287.5054 | AH17: 287.0839 | AI17: 285.5062 | AJ17: 286.0741 | AK17: 285.9302 | AL17: 285.7252 | AM17: 286.4097 | AN17: 285.8474 | AO17: 287.3427 | AP17: 286.3927 | AQ17: 286.4512 | AR17: 286.6989 | AS17: 286.9748 | AT17: 286.7722 | AU17: 286.3022 | AV17: 286.1331
A18: 2005.25 | G18: 287.4739 | H18: 287.6711 | I18: 288.0595 | J18: 289.4067 | K18: 286.9765 | L18: 288.2256 | M18: 287.5553 | N18: 287.9162 | O18: 287.19 | P18: 287.6466 | Q18: 287.8342 | R18: 287.2204 | S18: 286.9032 | T18: 286.8567 | U18: 286.1488 | V18: 287.2911 | W18: 287.1421 | X18: 287.6652 | Y18: 287.8339 | Z18: 289.1003 | AA18: 289.1986 | AB18: 289.4453 | AC18: 288.9448 | AD18: 288.3879 | AE18: 288.5044 | AF18: 288.5378 | AG18: 288.5694 | AH18: 288.1613 | AI18: 286.4857 | AJ18: 287.2441 | AK18: 287.0295 | AL18: 286.5956 | AM18: 287.203 | AN18: 286.9119 | AO18: 288.5599 | AP18: 287.0031 | AQ18: 287.0661 | AR18: 287.7679 | AS18: 288.0122 | AT18: 287.5717 | AU18: 287.163 | AV18: 286.9777
A19: 2005.3333 | G19: 288.5708 | H19: 288.71 | I19: 288.9384 | J19: 290.0496 | K19: 287.8155 | L19: 288.9813 | M19: 288.6246 | N19: 288.8463 | O19: 288.0625 | P19: 288.5392 | Q19: 288.909 | R19: 288.1619 | S19: 287.9601 | T19: 287.6639 | U19: 287.0551 | V19: 288.0285 | W19: 288.1125 | X19: 288.4839 | Y19: 288.6818 | Z19: 289.7942 | AA19: 289.9349 | AB19: 290.1083 | AC19: 289.6239 | AD19: 289.2822 | AE19: 289.3237 | AF19: 289.486 | AG19: 289.4391 | AH19: 289.2089 | AI19: 287.8495 | AJ19: 288.5102 | AK19: 288.2165 | AL19: 287.54 | AM19: 288.198 | AN19: 288.2112 | AO19: 289.5655 | AP19: 288.0268 | AQ19: 288.1635 | AR19: 288.541 | AS19: 288.9029 | AT19: 288.3943 | AU19: 287.9097 | AV19: 287.657
A20: 2005.4167 | G20: 289.3374 | H20: 289.471 | I20: 289.6652 | J20: 290.5628 | K20: 288.7122 | L20: 289.7321 | M20: 289.2373 | N20: 289.5155 | O20: 288.7706 | P20: 289.1501 | Q20: 289.5115 | R20: 289.1201 | S20: 288.4981 | T20: 288.3141 | U20: 287.7074 | V20: 288.8109 | W20: 288.8591 | X20: 289.209 | Y20: 289.3726 | Z20: 290.3413 | AA20: 290.5319 | AB20: 290.7915 | AC20: 290.033 | AD20: 289.7921 | AE20: 289.8582 | AF20: 290.1657 | AG20: 289.866 | AH20: 289.9805 | AI20: 288.8744 | AJ20: 289.3939 | AK20: 288.8899 | AL20: 288.3376 | AM20: 288.8896 | AN20: 289.0467 | AO20: 290.6006 | AP20: 288.8 | AQ20: 288.9683 | AR20: 289.1516 | AS20: 289.4831 | AT20: 289.1452 | AU20: 288.5913 | AV20: 288.3087
... A188: 2019.4167 | G188: 289.7009 | H188: 289.9442 | I188: 289.7308 | J188: 290.8694 | K188: 289.4312 | L188: 289.9249 | M188: 289.4241 | N188: 289.5599 | O188: 289.12 | P188: 289.6055 | Q188: 289.7589 | R188: 289.2302 | S188: 288.623 | T188: 288.5262 | U188: 288.1662 | V188: 288.9938 | W188: 289.3912 | X188: 288.8845 | Y188: 289.4424 | Z188: 290.7263 | AA188: 290.7767 | AB188: 291.0707 | AC188: 290.2656 | AD188: 290.1034 | AE188: 289.8731 | AF188: 290.3551 | AG188: 290.0279 | AH188: 289.9689 | AI188: 289.4472 | AJ188: 289.7913 | AK188: 289.0545 | AL188: 288.6194 | AM188: 289.3229 | AN188: 289.0695 | AO188: 290.2688 | AP188: 289.4273 | AQ188: 289.2194 | AR188: 289.4761 | AS188: 289.6735 | AT188: 289.0337 | AU188: 288.9506 | AV188: 288.3605
A192: Month | B192: Actual | G192: Series 1 | H192: Series 2 | I192: Series 3 | J192: Series 4 | K192: Series 5 | L192: Series 6 | M192: Series 7 | N192: Series 8 | O192: Series 9 | P192: Series 10 | Q192: Series 11 | R192: Series 12 | S192: Series 13 | T192: Series 14 | U192: Series 15 | V192: Series 16 | W192: Series 17 | X192: Series 18 | Y192: Series 19 | Z192: Series 20 | AA192: Series 21 | AB192: Series 22 | AC192: Series 23 | AD192: Series 24 | AE192: Series 25 | AF192: Series 26 | AG192: Series 27 | AH192: Series 28 | AI192: Series 29 | AJ192: Series 30 | AK192: Series 31 | AL192: Series 32 | AM192: Series 33 | AN192: Series 34 | AO192: Series 35 | AP192: Series 36 | AQ192: Series 37 | AR192: Series 38 | AS192: Series 39 | AT192: Series 40 | AU192: Series 41 | AV192: Series 42

Sheet Prepared
F1: Jan | G1: Feb | H1: Mar | I1: Apr | J1: May | K1: Jun | L1: Jul | M1: Aug | N1: Sep | O1: Oct | P1: Nov | Q1: Dec
E2: Trend Intercept | F2: -31.841165 | G2: -41.422903 | H2: -36.478 | I2: -33.667297 | J2: -29.086291 | K2: -33.942844 | L2: -35.287006 | M2: -37.940075 | N2: -32.043108 | O2: -37.216612 | P2: -31.872104 | Q2: -30.326241
E3: Trend Slope | F3: 0.016155951 | G3: 0.020976863 | H3: 0.018475195 | I3: 0.01705673 | J3: 0.014720578 | K3: 0.017161068 | L3: 0.017840887 | M3: 0.019171429 | N3: 0.016197537 | O3: 0.018811823 | P3: 0.016117734 | Q3: 0.01537931
A8: Month | B8: Actual | D8: Average | E8: Trend | G8: Series 1 | H8: Series 2 | I8: Series 3 | J8: Series 4 | K8: Series 5 | L8: Series 6 | M8: Series 7 | N8: Series 8 | O8: Series 9 | P8: Series 10 | Q8: Series 11 | R8: Series 12 | S8: Series 13 | T8: Series 14 | U8: Series 15 | V8: Series 16 | W8: Series 17 | X8: Series 18 | Y8: Series 19 | Z8: Series 20 | AA8: Series 21 | AB8: Series 22 | AC8: Series 23 | AD8: Series 24 | AE8: Series 25 | AF8: Series 26 | AG8: Series 27 | AH8: Series 28 | AI8: Series 29 | AJ8: Series 30 | AK8: Series 31 | AL8: Series 32 | AM8: Series 33 | AN8: Series 34 | AO8: Series 35 | AP8: Series 36 | AQ8: Series 37 | AR8: Series 38 | AS8: Series 39 | AT8: Series 40 | AU8: Series 41 | AV8: Series 42
A9: 2004.5 | B9: 0.253 | D9: 0.188 | E9: =ROUND($L$2+$L$3*TRUNC(A9),3) -> 0.466 | G9: 289.6053 | H9: 289.5872 | I9: 289.653 | J9: 290.7695 | K9: 289.153 | L9: 290.1174 | M9: 289.5991 | N9: 289.6434 | O9: 289.003 | P9: 289.3433 | Q9: 289.3339 | R9: 289.7659 | S9: 288.5935 | T9: 288.6247 | U9: 288.2614 | V9: 289.321 | W9: 289.0816 | X9: 289.2402 | Y9: 289.5135 | Z9: 290.6431 | AA9: 290.79 | AB9: 291.0437 | AC9: 290.2444 | AD9: 290.1585 | AE9: 290.2718 | AF9: 290.3175 | AG9: 289.9229 | AH9: 290.265 | AI9: 289.0862 | AJ9: 289.4523 | AK9: 289.1697 | AL9: 288.6028 | AM9: 289.261 | AN9: 289.4924 | AO9: 290.8826 | AP9: 288.958 | AQ9: 289.1218 | AR9: 289.3636 | AS9: 289.563 | AT9: 289.4311 | AU9: 289.0115 | AV9: 288.7134
A10: 2004.5833 | B10: 0.381 | D10: 0.186 | E10: =ROUND($M$2+$M$3*TRUNC(A9),3) -> 0.479 | G10: 289.3928 | H10: 289.419 | I10: 289.5793 | J10: 290.5235 | K10: 288.8809 | L10: 289.7784 | M10: 289.4651 | N10: 289.5146 | O10: 288.6306 | P10: 289.1676 | Q10: 289.1511 | R10: 289.4099 | S10: 288.3951 | T10: 288.4492 | U10: 287.9957 | V10: 289.0324 | W10: 289.0038 | X10: 289.0171 | Y10: 289.3048 | Z10: 290.4068 | AA10: 290.5341 | AB10: 290.727 | AC10: 289.9625 | AD10: 290.0414 | AE10: 290.1272 | AF10: 290.2825 | AG10: 289.9867 | AH10: 289.8647 | AI10: 288.7103 | AJ10: 289.192 | AK10: 288.7404 | AL10: 288.4193 | AM10: 289.3409 | AN10: 289.3307 | AO10: 290.6795 | AP10: 288.7376 | AQ10: 288.8544 | AR10: 289.2439 | AS10: 289.4344 | AT10: 289.1339 | AU10: 288.9393 | AV10: 288.6193
A11: 2004.6667 | B11: 0.413 | D11: 0.164 | E11: =ROUND($N$2+$N$3*TRUNC(A9),3) -> 0.417 | G11: 288.5411 | H11: 288.8417 | I11: 288.9159 | J11: 289.9017 | K11: 288.1235 | L11: 288.864 | M11: 288.755 | N11: 288.7051 | O11: 287.9335 | P11: 288.4437 | Q11: 288.3822 | R11: 288.5168 | S11: 287.6803 | T11: 287.7112 | U11: 287.2311 | V11: 288.2716 | W11: 288.2577 | X11: 288.2926 | Y11: 288.5858 | Z11: 289.7926 | AA11: 289.9207 | AB11: 290.0953 | AC11: 289.4305 | AD11: 289.4234 | AE11: 289.5229 | AF11: 289.7107 | AG11: 289.371 | AH11: 289.1678 | AI11: 288.028 | AJ11: 288.5103 | AK11: 288.0424 | AL11: 287.6818 | AM11: 288.629 | AN11: 288.4585 | AO11: 289.9504 | AP11: 287.8605 | AQ11: 288.0517 | AR11: 288.6404 | AS11: 288.7632 | AT11: 288.2491 | AU11: 287.9975 | AV11: 287.9663
A12: 2004.75 | B12: 0.503 | D12: 0.19 | E12: =ROUND($O$2+$O$3*TRUNC(A9),3) -> 0.482 | G12: 287.7188 | H12: 287.9372 | I12: 287.9859 | J12: 288.7586 | K12: 287.283 | L12: 287.9658 | M12: 287.6188 | N12: 287.79 | O12: 286.8176 | P12: 287.2654 | Q12: 287.4912 | R12: 287.3608 | S12: 286.6498 | T12: 286.7038 | U12: 286.1476 | V12: 287.4865 | W12: 287.3623 | X12: 287.2203 | Y12: 287.4967 | Z12: 288.9785 | AA12: 288.9186 | AB12: 289.2033 | AC12: 288.582 | AD12: 288.5811 | AE12: 288.4077 | AF12: 288.8189 | AG12: 288.3752 | AH12: 288.1243 | AI12: 286.9287 | AJ12: 287.475 | AK12: 287.0556 | AL12: 286.4679 | AM12: 287.3367 | AN12: 287.1534 | AO12: 288.9569 | AP12: 287.1161 | AQ12: 287.2735 | AR12: 287.5223 | AS12: 287.8169 | AT12: 286.9607 | AU12: 287.0027 | AV12: 286.9258
A13: 2004.8333 | B13: 0.625 | D13: 0.177 | E13: =ROUND($P$2+$P$3*TRUNC(A9),3) -> 0.428 | G13: 286.6192 | H13: 286.9235 | I13: 287.1616 | J13: 287.9132 | K13: 286.3158 | L13: 286.9215 | M13: 286.6231 | N13: 286.9101 | O13: 285.6955 | P13: 286.3106 | Q13: 286.3877 | R13: 286.2097 | S13: 285.5056 | T13: 285.7132 | U13: 285.1727 | V13: 286.5659 | W13: 286.2857 | X13: 286.2858 | Y13: 286.5445 | Z13: 287.9883 | AA13: 288.0752 | AB13: 288.4698 | AC13: 287.7616 | AD13: 287.464 | AE13: 287.3018 | AF13: 287.5188 | AG13: 287.4649 | AH13: 286.9737 | AI13: 285.8844 | AJ13: 286.16 | AK13: 286.165 | AL13: 285.3634 | AM13: 286.1405 | AN13: 285.7735 | AO13: 287.844 | AP13: 286.3663 | AQ13: 286.5995 | AR13: 286.4035 | AS13: 286.8896 | AT13: 285.892 | AU13: 285.9646 | AV13: 286.1009
A14: 2004.9167 | B14: 0.436 | D14: 0.252 | E14: =ROUND($Q$2+$Q$3*TRUNC(A9),3) -> 0.494 | G14: 285.8869 | H14: 286.2279 | I14: 286.7154 | J14: 287.3509 | K14: 285.8939 | L14: 286.2324 | M14: 286.2081 | N14: 286.309 | O14: 285.0712 | P14: 285.6636 | Q14: 285.6443 | R14: 285.7171 | S14: 284.8676 | T14: 285.2769 | U14: 284.5008 | V14: 285.6122 | W14: 285.5188 | X14: 285.4633 | Y14: 285.9534 | Z14: 287.5048 | AA14: 287.4007 | AB14: 287.8579 | AC14: 287.1176 | AD14: 286.7817 | AE14: 286.6848 | AF14: 286.8718 | AG14: 286.7452 | AH14: 286.2585 | AI14: 284.7976 | AJ14: 285.326 | AK14: 285.5448 | AL14: 284.9278 | AM14: 285.434 | AN14: 284.7426 | AO14: 287.2602 | AP14: 285.9845 | AQ14: 286.0667 | AR14: 285.6067 | AS14: 286.2474 | AT14: 285.5002 | AU14: 285.4844 | AV14: 285.3898
A15: 2005 | B15: 0.632 | D15: 0.301 | E15: =ROUND($F$2+$F$3*TRUNC(A9),3) -> 0.535 | G15: 285.8358 | H15: 286.0547 | I15: 286.0943 | J15: 287.1591 | K15: 285.5246 | L15: 286.1761 | M15: 286.0218 | N15: 286.439 | O15: 284.8335 | P15: 285.3558 | Q15: 285.5498 | R15: 285.5408 | S15: 284.563 | T15: 285.381 | U15: 284.2613 | V15: 285.4563 | W15: 285.2754 | X15: 285.3504 | Y15: 286.2425 | Z15: 287.4038 | AA15: 287.4582 | AB15: 287.692 | AC15: 287.0685 | AD15: 286.527 | AE15: 286.4666 | AF15: 286.4753 | AG15: 286.5121 | AH15: 285.9832 | AI15: 284.4849 | AJ15: 285.1196 | AK15: 285.0281 | AL15: 284.8488 | AM15: 285.3769 | AN15: 284.6685 | AO15: 286.8852 | AP15: 285.8679 | AQ15: 285.7969 | AR15: 285.4364 | AS15: 285.9725 | AT15: 285.3873 | AU15: 285.4756 | AV15: 285.2299
A16: 2005.0833 | B16: 0.503 | D16: 0.311 | E16: =ROUND($G$2+$G$3*TRUNC(A9),3) -> 0.615 | G16: 286.0145 | H16: 286.222 | I16: 286.4835 | J16: 287.4116 | K16: 285.977 | L16: 286.3794 | M16: 286.4219 | N16: 286.6336 | O16: 285.5058 | P16: 285.764 | Q16: 285.8176 | R16: 285.918 | S16: 284.987 | T16: 285.622 | U16: 284.5625 | V16: 285.7806 | W16: 285.6785 | X16: 285.9221 | Y16: 286.4656 | Z16: 287.7187 | AA16: 287.8446 | AB16: 287.9775 | AC16: 287.4325 | AD16: 286.9321 | AE16: 286.9401 | AF16: 286.8329 | AG16: 286.8426 | AH16: 286.2567 | AI16: 284.8211 | AJ16: 285.5551 | AK16: 285.1458 | AL16: 284.8807 | AM16: 285.8509 | AN16: 285.1069 | AO16: 286.8529 | AP16: 286.0174 | AQ16: 286.0398 | AR16: 285.9229 | AS16: 286.3284 | AT16: 286.0962 | AU16: 285.5228 | AV16: 285.4237
A17: 2005.1667 | B17: 0.679 | D17: 0.278 | E17: =ROUND($H$2+$H$3*TRUNC(A9),3) -> 0.546 | G17: 286.693 | H17: 286.7782 | I17: 287.3518 | J17: 288.2468 | K17: 286.2692 | L17: 287.0765 | M17: 286.9229 | N17: 287.1075 | O17: 286.3714 | P17: 286.4382 | Q17: 286.8659 | R17: 286.3318 | S17: 285.7273 | T17: 286.0546 | U17: 285.2457 | V17: 286.358 | W17: 286.2224 | X17: 286.607 | Y17: 286.9518 | Z17: 288.2591 | AA17: 288.5547 | AB17: 288.5794 | AC17: 288.1982 | AD17: 287.5094 | AE17: 287.5934 | AF17: 287.5414 | AG17: 287.5054 | AH17: 287.0839 | AI17: 285.5062 | AJ17: 286.0741 | AK17: 285.9302 | AL17: 285.7252 | AM17: 286.4097 | AN17: 285.8474 | AO17: 287.3427 | AP17: 286.3927 | AQ17: 286.4512 | AR17: 286.6989 | AS17: 286.9748 | AT17: 286.7722 | AU17: 286.3022 | AV17: 286.1331
A18: 2005.25 | B18: 0.682 | D18: 0.267 | E18: =ROUND($I$2+$I$3*TRUNC(A9),3) -> 0.514 | G18: 287.4739 | H18: 287.6711 | I18: 288.0595 | J18: 289.4067 | K18: 286.9765 | L18: 288.2256 | M18: 287.5553 | N18: 287.9162 | O18: 287.19 | P18: 287.6466 | Q18: 287.8342 | R18: 287.2204 | S18: 286.9032 | T18: 286.8567 | U18: 286.1488 | V18: 287.2911 | W18: 287.1421 | X18: 287.6652 | Y18: 287.8339 | Z18: 289.1003 | AA18: 289.1986 | AB18: 289.4453 | AC18: 288.9448 | AD18: 288.3879 | AE18: 288.5044 | AF18: 288.5378 | AG18: 288.5694 | AH18: 288.1613 | AI18: 286.4857 | AJ18: 287.2441 | AK18: 287.0295 | AL18: 286.5956 | AM18: 287.203 | AN18: 286.9119 | AO18: 288.5599 | AP18: 287.0031 | AQ18: 287.0661 | AR18: 287.7679 | AS18: 288.0122 | AT18: 287.5717 | AU18: 287.163 | AV18: 286.9777
A19: 2005.3333 | B19: 0.535 | D19: 0.2 | E19: =ROUND($J$2+$J$3*TRUNC(A9),3) -> 0.414 | G19: 288.5708 | H19: 288.71 | I19: 288.9384 | J19: 290.0496 | K19: 287.8155 | L19: 288.9813 | M19: 288.6246 | N19: 288.8463 | O19: 288.0625 | P19: 288.5392 | Q19: 288.909 | R19: 288.1619 | S19: 287.9601 | T19: 287.6639 | U19: 287.0551 | V19: 288.0285 | W19: 288.1125 | X19: 288.4839 | Y19: 288.6818 | Z19: 289.7942 | AA19: 289.9349 | AB19: 290.1083 | AC19: 289.6239 | AD19: 289.2822 | AE19: 289.3237 | AF19: 289.486 | AG19: 289.4391 | AH19: 289.2089 | AI19: 287.8495 | AJ19: 288.5102 | AK19: 288.2165 | AL19: 287.54 | AM19: 288.198 | AN19: 288.2112 | AO19: 289.5655 | AP19: 288.0268 | AQ19: 288.1635 | AR19: 288.541 | AS19: 288.9029 | AT19: 288.3943 | AU19: 287.9097 | AV19: 287.657
A20: 2005.4167 | B20: 0.555 | D20: 0.199 | E20: =ROUND($K$2+$K$3*TRUNC(A9),3) -> 0.448 | G20: 289.3374 | H20: 289.471 | I20: 289.6652 | J20: 290.5628 | K20: 288.7122 | L20: 289.7321 | M20: 289.2373 | N20: 289.5155 | O20: 288.7706 | P20: 289.1501 | Q20: 289.5115 | R20: 289.1201 | S20: 288.4981 | T20: 288.3141 | U20: 287.7074 | V20: 288.8109 | W20: 288.8591 | X20: 289.209 | Y20: 289.3726 | Z20: 290.3413 | AA20: 290.5319 | AB20: 290.7915 | AC20: 290.033 | AD20: 289.7921 | AE20: 289.8582 | AF20: 290.1657 | AG20: 289.866 | AH20: 289.9805 | AI20: 288.8744 | AJ20: 289.3939 | AK20: 288.8899 | AL20: 288.3376 | AM20: 288.8896 | AN20: 289.0467 | AO20: 290.6006 | AP20: 288.8 | AQ20: 288.9683 | AR20: 289.1516 | AS20: 289.4831 | AT20: 289.1452 | AU20: 288.5913 | AV20: 288.3087
A21: 2005.5 | B21: 0.527 | D21: 0.188 | E21: =ROUND($L$2+$L$3*TRUNC(A21),3) -> 0.484 | G21: 289.528 | H21: 289.669 | I21: 289.8326 | J21: 290.7677 | K21: 289.0901 | L21: 290.2787 | M21: 289.5082 | N21: 289.9305 | O21: 289.1223 | P21: 289.4125 | Q21: 289.5478 | R21: 289.689 | S21: 288.563 | T21: 288.5776 | U21: 288.1972 | V21: 288.9689 | W21: 289.3238 | X21: 289.4799 | Y21: 289.6413 | Z21: 290.5452 | AA21: 290.7648 | AB21: 290.9504 | AC21: 290.3342 | AD21: 290.0279 | AE21: 290.212 | AF21: 290.2923 | AG21: 290.0556 | AH21: 290.1605 | AI21: 289.035 | AJ21: 289.5609 | AK21: 288.971 | AL21: 288.6906 | AM21: 289.4497 | AN21: 289.4627 | AO21: 290.9916 | AP21: 289.1314 | AQ21: 289.3558 | AR21: 289.4055 | AS21: 289.6208 | AT21: 289.3867 | AU21: 289.0724 | AV21: 288.691
A22: 2005.5833 | B22: 0.497 | D22: 0.186 | E22: =ROUND($M$2+$M$3*TRUNC(A21),3) -> 0.499 | G22: 289.1222 | H22: 289.4146 | I22: 289.6267 | J22: 290.6576 | K22: 289.1209 | L22: 289.9683 | M22: 289.4944 | N22: 289.633 | O22: 288.8429 | P22: 288.9372 | Q22: 289.3913 | R22: 289.5071 | S22: 288.2955 | T22: 288.3762 | U22: 288.0261 | V22: 288.7914 | W22: 289.2416 | X22: 289.2165 | Y22: 289.3449 | Z22: 290.4847 | AA22: 290.5785 | AB22: 290.7379 | AC22: 290.1007 | AD22: 289.9803 | AE22: 290.1649 | AF22: 290.3565 | AG22: 289.9956 | AH22: 290.0654 | AI22: 288.812 | AJ22: 289.3991 | AK22: 288.6613 | AL22: 288.7015 | AM22: 289.3863 | AN22: 289.3356 | AO22: 290.7363 | AP22: 288.8703 | AQ22: 288.8963 | AR22: 289.3043 | AS22: 289.3657 | AT22: 289.1432 | AU22: 288.9098 | AV22: 288.4868
A23: 2005.6667 | B23: 0.589 | D23: 0.164 | E23: =ROUND($N$2+$N$3*TRUNC(A21),3) -> 0.433 | G23: 288.5526 | H23: 288.8597 | I23: 288.8542 | J23: 289.7477 | K23: 288.4025 | L23: 289.0758 | M23: 288.6595 | N23: 288.9436 | O23: 288.0941 | P23: 288.2358 | Q23: 288.6035 | R23: 288.6465 | S23: 287.6481 | T23: 287.6715 | U23: 287.1534 | V23: 288.1642 | W23: 288.413 | X23: 288.3025 | Y23: 288.5083 | Z23: 289.7769 | AA23: 289.8963 | AB23: 290.1452 | AC23: 289.4413 | AD23: 289.4206 | AE23: 289.5841 | AF23: 289.7304 | AG23: 289.4078 | AH23: 289.3332 | AI23: 288.005 | AJ23: 288.6811 | AK23: 287.8097 | AL23: 287.8918 | AM23: 288.7701 | AN23: 288.5557 | AO23: 289.7884 | AP23: 288.0906 | AQ23: 288.1527 | AR23: 288.7003 | AS23: 288.6997 | AT23: 288.2523 | AU23: 288.1064 | AV23: 287.7867
A24: 2005.75 | B24: 0.646 | D24: 0.19 | E24: =ROUND($O$2+$O$3*TRUNC(A21),3) -> 0.501 | G24: 287.6913 | H24: 287.8755 | I24: 287.9901 | J24: 288.8703 | K24: 287.4074 | L24: 288.1829 | M24: 287.6372 | N24: 287.8116 | O24: 287.1011 | P24: 287.1185 | Q24: 287.5973 | R24: 287.5147 | S24: 286.626 | T24: 286.7948 | U24: 286.0374 | V24: 287.3961 | W24: 287.3792 | X24: 287.2262 | Y24: 287.4955 | Z24: 288.7738 | AA24: 289.0094 | AB24: 289.3281 | AC24: 288.5769 | AD24: 288.3058 | AE24: 288.5825 | AF24: 288.8328 | AG24: 288.5008 | AH24: 288.3495 | AI24: 287.0215 | AJ24: 287.6388 | AK24: 286.8365 | AL24: 286.5172 | AM24: 287.5464 | AN24: 287.2114 | AO24: 288.6448 | AP24: 287.1476 | AQ24: 287.156 | AR24: 287.6177 | AS24: 287.9242 | AT24: 286.9258 | AU24: 287.0666 | AV24: 286.7026
A25: 2005.8333 | B25: 0.611 | D25: 0.177 | E25: =ROUND($P$2+$P$3*TRUNC(A21),3) -> 0.444 | G25: 286.5987 | H25: 287.153 | I25: 287.2293 | J25: 288.0179 | K25: 286.9349 | L25: 287.3026 | M25: 286.8108 | N25: 286.8683 | O25: 286.0773 | P25: 286.0138 | Q25: 286.3731 | R25: 286.4561 | S25: 285.5933 | T25: 285.8278 | U25: 284.9895 | V25: 286.5287 | W25: 286.3385 | X25: 285.9549 | Y25: 286.4304 | Z25: 287.8671 | AA25: 288.0652 | AB25: 288.4483 | AC25: 287.5736 | AD25: 287.3771 | AE25: 287.4956 | AF25: 287.6606 | AG25: 287.3327 | AH25: 287.4729 | AI25: 285.7289 | AJ25: 286.4955 | AK25: 286.1087 | AL25: 285.254 | AM25: 286.548 | AN25: 285.5322 | AO25: 287.5351 | AP25: 286.3097 | AQ25: 286.3913 | AR25: 286.3964 | AS25: 286.9312 | AT25: 285.7723 | AU25: 285.9725 | AV25: 285.9091
A26: 2005.9167 | B26: 0.6 | D26: 0.252 | E26: =ROUND($Q$2+$Q$3*TRUNC(A21),3) -> 0.509 | G26: 285.6942 | H26: 286.3379 | I26: 286.7313 | J26: 287.3282 | K26: 286.2648 | L26: 286.8118 | M26: 286.1443 | N26: 286.4343 | O26: 285.1986 | P26: 285.3044 | Q26: 285.8319 | R26: 285.7256 | S26: 284.8684 | T26: 285.1394 | U26: 284.3508 | V26: 285.808 | W26: 285.7838 | X26: 285.3968 | Y26: 285.9185 | Z26: 287.4478 | AA26: 287.6865 | AB26: 287.6714 | AC26: 287.007 | AD26: 286.5339 | AE26: 286.655 | AF26: 286.7693 | AG26: 286.5253 | AH26: 286.4733 | AI26: 284.7826 | AJ26: 285.567 | AK26: 285.5106 | AL26: 284.7557 | AM26: 285.6459 | AN26: 284.4275 | AO26: 286.8141 | AP26: 285.949 | AQ26: 285.9662 | AR26: 285.6782 | AS26: 285.9491 | AT26: 285.2317 | AU26: 285.3791 | AV26: 285.1362
A27: 2006 | B27: 0.468 | D27: 0.301 | E27: =ROUND($F$2+$F$3*TRUNC(A21),3) -> 0.552 | G27: 285.5254 | H27: 286.0912 | I27: 286.3692 | J27: 287.2475 | K27: 286.1183 | L27: 286.5078 | M27: 286.2334 | N27: 286.0594 | O27: 285.0434 | P27: 285.3124 | Q27: 285.7073 | R27: 285.5842 | S27: 284.6073 | T27: 284.9502 | U27: 284.3459 | V27: 285.4157 | W27: 285.8402 | X27: 285.43 | Y27: 286.0737 | Z27: 287.4258 | AA27: 287.6145 | AB27: 287.7351 | AC27: 287.1992 | AD27: 286.5801 | AE27: 286.5024 | AF27: 286.6753 | AG27: 286.3546 | AH27: 286.2176 | AI27: 284.4942 | AJ27: 285.2692 | AK27: 285.0447 | AL27: 284.8251 | AM27: 285.5689 | AN27: 284.4575 | AO27: 286.4526 | AP27: 285.7316 | AQ27: 285.8354 | AR27: 285.4727 | AS27: 286.026 | AT27: 285.3281 | AU27: 285.2556 | AV27: 285.0276
A28: 2006.0833 | B28: 0.627 | D28: 0.311 | E28: =ROUND($G$2+$G$3*TRUNC(A21),3) -> 0.636 | G28: 285.6174 | H28: 286.413 | I28: 286.6444 | J28: 287.4378 | K28: 286.1343 | L28: 286.9112 | M28: 286.5518 | N28: 286.4094 | O28: 285.4472 | P28: 285.5863 | Q28: 285.9814 | R28: 285.8816 | S28: 284.8972 | T28: 285.3818 | U28: 284.6497 | V28: 285.4862 | W28: 285.973 | X28: 285.6336 | Y28: 286.4759 | Z28: 287.6377 | AA28: 287.6248 | AB28: 288.0282 | AC28: 287.4057 | AD28: 286.795 | AE28: 286.9728 | AF28: 287.1393 | AG28: 286.6482 | AH28: 286.5725 | AI28: 284.9449 | AJ28: 285.5594 | AK28: 285.0275 | AL28: 285.0332 | AM28: 285.836 | AN28: 284.8554 | AO28: 286.6689 | AP28: 285.9763 | AQ28: 285.8059 | AR28: 285.9804 | AS28: 286.4576 | AT28: 285.7455 | AU28: 285.6105 | AV28: 285.4464
A29: 2006.1667 | B29: 0.527 | D29: 0.278 | E29: =ROUND($H$2+$H$3*TRUNC(A21),3) -> 0.565 | G29: 286.4849 | H29: 286.9569 | I29: 287.3667 | J29: 288.1447 | K29: 286.9342 | L29: 287.4103 | M29: 286.8735 | N29: 287.1344 | O29: 286.1125 | P29: 286.4343 | Q29: 286.7491 | R29: 286.3683 | S29: 285.5231 | T29: 286.1205 | U29: 285.2432 | V29: 286.2033 | W29: 286.761 | X29: 286.4018 | Y29: 287.0818 | Z29: 288.2944 | AA29: 288.4198 | AB29: 288.5819 | AC29: 287.9146 | AD29: 287.5147 | AE29: 287.6605 | AF29: 287.9219 | AG29: 287.4799 | AH29: 287.1604 | AI29: 285.7316 | AJ29: 286.3365 | AK29: 285.553 | AL29: 285.6759 | AM29: 286.3932 | AN29: 285.7378 | AO29: 286.981 | AP29: 286.425 | AQ29: 286.4312 | AR29: 286.7757 | AS29: 286.9855 | AT29: 286.2442 | AU29: 286.2223 | AV29: 285.8398
A30: 2006.25 | B30: 0.451 | D30: 0.267 | E30: =ROUND($I$2+$I$3*TRUNC(A21),3) -> 0.531 | G30: 287.3696 | H30: 287.6998 | I30: 288.0739 | J30: 289.1627 | K30: 287.5311 | L30: 288.2946 | M30: 287.7178 | N30: 287.9538 | O30: 287.3266 | P30: 287.4032 | Q30: 287.8585 | R30: 287.1331 | S30: 286.4886 | T30: 286.7863 | U30: 286.1119 | V30: 287.2226 | W30: 287.4693 | X30: 287.3681 | Y30: 287.8619 | Z30: 289.2447 | AA30: 289.3122 | AB30: 289.4407 | AC30: 288.8349 | AD30: 288.2626 | AE30: 288.4845 | AF30: 288.8799 | AG30: 288.5235 | AH30: 288.1538 | AI30: 286.6279 | AJ30: 287.3369 | AK30: 286.7874 | AL30: 286.4497 | AM30: 287.2864 | AN30: 286.9671 | AO30: 287.9032 | AP30: 287.148 | AQ30: 287.135 | AR30: 287.8676 | AS30: 288.052 | AT30: 287.3067 | AU30: 287.0804 | AV30: 286.7751
A31: 2006.3333 | B31: 0.367 | D31: 0.2 | E31: =ROUND($J$2+$J$3*TRUNC(A21),3) -> 0.428 | G31: 288.3978 | H31: 288.618 | I31: 288.7786 | J31: 289.9657 | K31: 288.2952 | L31: 289.2298 | M31: 288.6986 | N31: 288.725 | O31: 288.1247 | P31: 288.4187 | Q31: 288.8515 | R31: 288.1767 | S31: 287.6591 | T31: 287.5286 | U31: 287.201 | V31: 288.1296 | W31: 288.299 | X31: 288.3198 | Y31: 288.7338 | Z31: 289.9627 | AA31: 290.0343 | AB31: 290.2926 | AC31: 289.526 | AD31: 289.1456 | AE31: 289.5022 | AF31: 289.7245 | AG31: 289.4402 | AH31: 289.3601 | AI31: 288.0377 | AJ31: 288.4369 | AK31: 288.1251 | AL31: 287.486 | AM31: 288.1514 | AN31: 288.0281 | AO31: 289.2882 | AP31: 288.1875 | AQ31: 288.0846 | AR31: 288.6534 | AS31: 288.8561 | AT31: 288.2352 | AU31: 288.0571 | AV31: 287.5388
A32: 2006.4167 | B32: 0.529 | D32: 0.199 | E32: =ROUND($K$2+$K$3*TRUNC(A21),3) -> 0.465 | G32: 289.2364 | H32: 289.4779 | I32: 289.4216 | J32: 290.4604 | K32: 289.2139 | L32: 289.8613 | M32: 289.5049 | N32: 289.4518 | O32: 288.7945 | P32: 289.2256 | Q32: 289.52 | R32: 288.9656 | S32: 288.1876 | T32: 288.2257 | U32: 287.9155 | V32: 289.0382 | W32: 289.1048 | X32: 289.0432 | Y32: 289.3904 | Z32: 290.4456 | AA32: 290.5635 | AB32: 290.8184 | AC32: 290.0381 | AD32: 289.8051 | AE32: 290.0508 | AF32: 290.2884 | AG32: 289.8536 | AH32: 290.0821 | AI32: 288.8661 | AJ32: 289.457 | AK32: 288.9233 | AL32: 288.2139 | AM32: 288.9872 | AN32: 288.9453 | AO32: 290.3286 | AP32: 288.9056 | AQ32: 288.874 | AR32: 289.2216 | AS32: 289.477 | AT32: 289.0432 | AU32: 288.667 | AV32: 288.1787
A33: 2006.5 | B33: 0.433 | D33: 0.188 | E33: =ROUND($L$2+$L$3*TRUNC(A33),3) -> 0.502 | G33: 289.4638 | H33: 289.629 | I33: 289.88 | J33: 290.7275 | K33: 289.7071 | L33: 290.3449 | M33: 289.843 | N33: 289.7174 | O33: 289.2517 | P33: 289.3814 | Q33: 289.4694 | R33: 289.5662 | S33: 288.3098 | T33: 288.6345 | U33: 288.2729 | V33: 289.26 | W33: 289.309 | X33: 289.125 | Y33: 289.5792 | Z33: 290.6461 | AA33: 290.7701 | AB33: 291.0052 | AC33: 290.2536 | AD33: 290.1775 | AE33: 290.209 | AF33: 290.5565 | AG33: 290.0826 | AH33: 290.2655 | AI33: 288.9499 | AJ33: 289.5367 | AK33: 289.1705 | AL33: 288.5899 | AM33: 289.4365 | AN33: 289.284 | AO33: 290.6986 | AP33: 289.2045 | AQ33: 289.3528 | AR33: 289.5228 | AS33: 289.5706 | AT33: 289.3614 | AU33: 289.0098 | AV33: 288.5318
A34: 2006.5833 | B34: 0.595 | D34: 0.186 | E34: =ROUND($M$2+$M$3*TRUNC(A33),3) -> 0.518 | G34: 289.365 | H34: 289.4667 | I34: 289.4583 | J34: 290.4481 | K34: 289.42 | L34: 290.1469 | M34: 289.4745 | N34: 289.4932 | O34: 288.9655 | P34: 289.1616 | Q34: 289.2951 | R34: 289.5826 | S34: 288.0912 | T34: 288.5186 | U34: 288.0457 | V34: 288.9741 | W34: 289.2464 | X34: 288.9781 | Y34: 289.4394 | Z34: 290.5518 | AA34: 290.5481 | AB34: 290.8101 | AC34: 290.0048 | AD34: 290.1162 | AE34: 290.0854 | AF34: 290.3013 | AG34: 290.053 | AH34: 289.9841 | AI34: 288.7151 | AJ34: 289.2525 | AK34: 288.6564 | AL34: 288.4041 | AM34: 289.3736 | AN34: 289.2521 | AO34: 290.4653 | AP34: 289.0403 | AQ34: 288.9928 | AR34: 289.3262 | AS34: 289.2501 | AT34: 289.0426 | AU34: 288.9433 | AV34: 288.5367
A35: 2006.6667 | B35: 0.473 | D35: 0.164 | E35: =ROUND($N$2+$N$3*TRUNC(A33),3) -> 0.449 | G35: 288.6411 | H35: 288.8001 | I35: 288.9308 | J35: 289.7318 | K35: 288.6086 | L35: 289.2856 | M35: 288.8225 | N35: 288.7749 | O35: 288.1577 | P35: 288.1394 | Q35: 288.6503 | R35: 288.4463 | S35: 287.2816 | T35: 287.8303 | U35: 287.1877 | V35: 288.3296 | W35: 288.4327 | X35: 288.2093 | Y35: 288.6495 | Z35: 289.9458 | AA35: 289.9177 | AB35: 290.1602 | AC35: 289.4977 | AD35: 289.5053 | AE35: 289.5234 | AF35: 289.7847 | AG35: 289.4732 | AH35: 289.316 | AI35: 288.0284 | AJ35: 288.6052 | AK35: 287.9358 | AL35: 287.6882 | AM35: 288.5401 | AN35: 288.4561 | AO35: 289.7343 | AP35: 288.1679 | AQ35: 288.1477 | AR35: 288.7563 | AS35: 288.7231 | AT35: 288.2195 | AU35: 288.1656 | AV35: 287.6271
A36: 2006.75 | B36: 0.556 | D36: 0.19 | E36: =ROUND($O$2+$O$3*TRUNC(A33),3) -> 0.52 | G36: 287.7319 | H36: 287.8845 | I36: 288.1046 | J36: 288.8459 | K36: 288.0045 | L36: 288.1732 | M36: 287.7463 | N36: 287.8358 | O36: 286.9994 | P36: 287.1893 | Q36: 287.502 | R36: 287.4208 | S36: 286.4277 | T36: 286.6562 | U36: 285.9341 | V36: 287.5785 | W36: 287.4344 | X36: 287.0815 | Y36: 287.5935 | Z36: 289.0666 | AA36: 289.0461 | AB36: 289.3307 | AC36: 288.5401 | AD36: 288.4799 | AE36: 288.4987 | AF36: 288.8007 | AG36: 288.5844 | AH36: 288.401 | AI36: 287.0645 | AJ36: 287.5658 | AK36: 287.0847 | AL36: 286.3907 | AM36: 287.2378 | AN36: 287.078 | AO36: 288.6884 | AP36: 287.4564 | AQ36: 287.2368 | AR36: 287.7812 | AS36: 287.9126 | AT36: 286.9463 | AU36: 286.9574 | AV36: 286.5742
A37: 2006.8333 | B37: 0.532 | D37: 0.177 | E37: =ROUND($P$2+$P$3*TRUNC(A33),3) -> 0.46 | G37: 286.969 | H37: 287.1295 | I37: 287.2373 | J37: 287.8681 | K37: 287.2841 | L37: 287.1542 | M37: 286.8116 | N37: 286.9628 | O37: 286.1266 | P37: 286.111 | Q37: 286.5374 | R37: 286.3856 | S37: 285.1902 | T37: 285.6277 | U37: 284.8376 | V37: 286.8397 | W37: 286.5794 | X37: 286.1169 | Y37: 286.5235 | Z37: 288.1342 | AA37: 288.2517 | AB37: 288.3983 | AC37: 287.5403 | AD37: 287.4928 | AE37: 287.4107 | AF37: 287.5668 | AG37: 287.247 | AH37: 287.3636 | AI37: 285.9513 | AJ37: 286.3674 | AK37: 286.3201 | AL37: 285.1849 | AM37: 286.0582 | AN37: 285.4904 | AO37: 287.5079 | AP37: 286.5937 | AQ37: 286.5919 | AR37: 286.7038 | AS37: 286.9949 | AT37: 286.1042 | AU37: 286.0287 | AV37: 285.6873
A38: 2006.9167 | B38: 0.689 | D38: 0.252 | E38: =ROUND($Q$2+$Q$3*TRUNC(A33),3) -> 0.525 | G38: 285.987 | H38: 286.3112 | I38: 286.5064 | J38: 287.1718 | K38: 286.5214 | L38: 286.167 | M38: 286.4763 | N38: 286.163 | O38: 285.124 | P38: 285.4623 | Q38: 285.7969 | R38: 285.6743 | S38: 284.5285 | T38: 285.1055 | U38: 284.3414 | V38: 286.2014 | W38: 285.7333 | X38: 285.5355 | Y38: 285.9108 | Z38: 287.5588 | AA38: 287.6762 | AB38: 287.9764 | AC38: 287.0275 | AD38: 286.8366 | AE38: 286.6102 | AF38: 286.8374 | AG38: 286.7549 | AH38: 286.4868 | AI38: 285.0691 | AJ38: 285.4627 | AK38: 285.6339 | AL38: 284.4884 | AM38: 285.4584 | AN38: 284.5758 | AO38: 286.7569 | AP38: 286.2786 | AQ38: 286.2055 | AR38: 286.0916 | AS38: 286.1476 | AT38: 285.374 | AU38: 285.1881 | AV38: 285.2256
A39: 2007 | B39: 0.894 | D39: 0.301 | E39: =ROUND($F$2+$F$3*TRUNC(A33),3) -> 0.568 | G39: 285.7841 | H39: 286.0879 | I39: 286.3441 | J39: 286.8916 | K39: 286.4489 | L39: 285.9926 | M39: 286.2381 | N39: 285.9092 | O39: 285.0675 | P39: 285.2842 | Q39: 285.5632 | R39: 285.3249 | S39: 284.2402 | T39: 285.1162 | U39: 284.4096 | V39: 285.6305 | W39: 285.6438 | X39: 285.472 | Y39: 286.4046 | Z39: 287.6086 | AA39: 287.498 | AB39: 287.7832 | AC39: 287.134 | AD39: 286.6347 | AE39: 286.528 | AF39: 286.6358 | AG39: 286.6145 | AH39: 286.1448 | AI39: 284.8694 | AJ39: 285.277 | AK39: 285.1686 | AL39: 284.5493 | AM39: 285.1692 | AN39: 284.544 | AO39: 286.5225 | AP39: 285.9698 | AQ39: 285.9072 | AR39: 285.7181 | AS39: 285.7952 | AT39: 285.3875 | AU39: 285.1205 | AV39: 284.9141
A40: 2007.0833 | B40: 0.621 | D40: 0.311 | E40: =ROUND($G$2+$G$3*TRUNC(A33),3) -> 0.657 | G40: 286.0029 | H40: 286.2308 | I40: 286.6352 | J40: 287.0715 | K40: 286.2915 | L40: 286.2465 | M40: 286.5767 | N40: 286.502 | O40: 285.3447 | P40: 285.5227 | Q40: 286.1106 | R40: 285.7906 | S40: 284.6669 | T40: 285.5698 | U40: 284.7813 | V40: 285.9988 | W40: 285.7868 | X40: 285.4955 | Y40: 286.6606 | Z40: 287.8824 | AA40: 287.8132 | AB40: 288.246 | AC40: 287.2839 | AD40: 286.9662 | AE40: 286.8746 | AF40: 287.0463 | AG40: 286.8423 | AH40: 286.3474 | AI40: 285.1352 | AJ40: 285.4536 | AK40: 285.2641 | AL40: 284.8301 | AM40: 285.8764 | AN40: 284.9411 | AO40: 286.4503 | AP40: 286.1278 | AQ40: 286.0189 | AR40: 286.0316 | AS40: 286.5042 | AT40: 286.0892 | AU40: 285.2247 | AV40: 285.0727
A41: 2007.1667 | B41: 0.582 | D41: 0.278 | E41: =ROUND($H$2+$H$3*TRUNC(A33),3) -> 0.583 | G41: 286.622 | H41: 286.7949 | I41: 287.2177 | J41: 287.8789 | K41: 286.807 | L41: 286.9525 | M41: 287.226 | N41: 286.9749 | O41: 286.236 | P41: 286.5644 | Q41: 286.7903 | R41: 286.1891 | S41: 285.2722 | T41: 286.1393 | U41: 285.4295 | V41: 286.8538 | W41: 286.4594 | X41: 286.0865 | Y41: 287.4115 | Z41: 288.5995 | AA41: 288.4705 | AB41: 288.6972 | AC41: 288.0468 | AD41: 287.7301 | AE41: 287.6186 | AF41: 287.7468 | AG41: 287.6073 | AH41: 286.92 | AI41: 285.8357 | AJ41: 286.165 | AK41: 286.0377 | AL41: 285.6689 | AM41: 286.3463 | AN41: 285.8395 | AO41: 286.9647 | AP41: 286.6563 | AQ41: 286.533 | AR41: 286.7151 | AS41: 286.9012 | AT41: 286.5716 | AU41: 286.1047 | AV41: 285.7859
A42: 2007.25 | B42: 0.649 | D42: 0.267 | E42: =ROUND($I$2+$I$3*TRUNC(A33),3) -> 0.549 | G42: 287.6609 | H42: 287.6984 | I42: 288.2871 | J42: 288.8351 | K42: 287.5049 | L42: 287.8797 | M42: 288.0103 | N42: 287.886 | O42: 287.2075 | P42: 287.4957 | Q42: 287.8714 | R42: 287.0063 | S42: 286.4644 | T42: 287.0403 | U42: 286.1834 | V42: 287.5928 | W42: 287.3378 | X42: 287.1685 | Y42: 288.2586 | Z42: 289.3362 | AA42: 289.1357 | AB42: 289.4095 | AC42: 289.0506 | AD42: 288.5559 | AE42: 288.4584 | AF42: 288.7556 | AG42: 288.6614 | AH42: 288.0644 | AI42: 286.7448 | AJ42: 287.2864 | AK42: 287.1077 | AL42: 286.5141 | AM42: 287.4343 | AN42: 287.1529 | AO42: 287.9168 | AP42: 287.1908 | AQ42: 287.1596 | AR42: 287.9651 | AS42: 288.0629 | AT42: 287.2849 | AU42: 287.0204 | AV42: 286.4909
A43: 2007.3333 | B43: 0.539 | D43: 0.2 | E43: =ROUND($J$2+$J$3*TRUNC(A33),3) -> 0.443 | G43: 288.5837 | H43: 288.7305 | I43: 289.2001 | J43: 289.7669 | K43: 288.3867 | L43: 288.821 | M43: 288.9584 | N43: 288.6372 | O43: 288.1744 | P43: 288.5952 | Q43: 288.9741 | R43: 287.8485 | S43: 287.5067 | T43: 287.7077 | U43: 287.0631 | V43: 288.2806 | W43: 288.2101 | X43: 288.2321 | Y43: 289.089 | Z43: 290.073 | AA43: 289.9373 | AB43: 290.2844 | AC43: 289.5771 | AD43: 289.409 | AE43: 289.2704 | AF43: 289.6282 | AG43: 289.4419 | AH43: 289.1837 | AI43: 287.9525 | AJ43: 288.4489 | AK43: 288.1382 | AL43: 287.2994 | AM43: 288.1931 | AN43: 288.0765 | AO43: 289.1677 | AP43: 288.1445 | AQ43: 288.3146 | AR43: 288.7838 | AS43: 288.9038 | AT43: 288.0885 | AU43: 287.8607 | AV43: 287.4526
A44: 2007.4167 | B44: 0.476 | D44: 0.199 | E44: =ROUND($K$2+$K$3*TRUNC(A33),3) -> 0.482 | G44: 289.3703 | H44: 289.3367 | I44: 289.6273 | J44: 290.4485 | K44: 288.9409 | L44: 289.5328 | M44: 289.6273 | N44: 289.3838 | O44: 288.7478 | P44: 289.4159 | Q44: 289.5775 | R44: 288.8804 | S44: 288.25 | T44: 288.3052 | U44: 287.8648 | V44: 289.0121 | W44: 288.7394 | X44: 288.8646 | Y44: 289.6558 | Z44: 290.5763 | AA44: 290.5174 | AB44: 290.9225 | AC44: 289.9874 | AD44: 289.8448 | AE44: 289.8434 | AF44: 290.0292 | AG44: 290.0178 | AH44: 289.8387 | AI44: 288.9473 | AJ44: 289.1984 | AK44: 288.9087 | AL44: 288.2615 | AM44: 288.9442 | AN44: 289.007 | AO44: 290.1951 | AP44: 289.1006 | AQ44: 289.0609 | AR44: 289.3037 | AS44: 289.457 | AT44: 288.8445 | AU44: 288.4174 | AV44: 288.0213
...

Sheet Offsets
A8: Month | B8: Actual | G8: Series 1 | H8: Series 2 | I8: Series 3 | J8: Series 4 | K8: Series 5 | L8: Series 6 | M8: Series 7 | N8: Series 8 | O8: Series 9 | P8: Series 10 | Q8: Series 11 | R8: Series 12 | S8: Series 13 | T8: Series 14 | U8: Series 15 | V8: Series 16 | W8: Series 17 | X8: Series 18 | Y8: Series 19 | Z8: Series 20 | AA8: Series 21 | AB8: Series 22 | AC8: Series 23 | AD8: Series 24 | AE8: Series 25 | AF8: Series 26 | AG8: Series 27 | AH8: Series 28 | AI8: Series 29 | AJ8: Series 30 | AK8: Series 31 | AL8: Series 32 | AM8: Series 33 | AN8: Series 34 | AO8: Series 35 | AP8: Series 36 | AQ8: Series 37 | AR8: Series 38 | AS8: Series 39 | AT8: Series 40 | AU8: Series 41 | AV8: Series 42
A9: 2004.5 | B9: 0.253 | G9: -288.97171 | H9: -289.17448 | I9: -289.2278 | J9: -289.9321 | K9: -288.43206 | L9: -289.28692 | M9: -289.03909 | N9: -289.06825 | O9: -288.53252 | P9: -288.85483 | Q9: -289.08815 | R9: -289.00706 | S9: -288.0508 | T9: -288.03728 | U9: -287.76606 | V9: -288.67472 | W9: -288.47241 | X9: -288.60857 | Y9: -289.08564 | Z9: -290.13591 | AA9: -290.17246 | AB9: -290.41565 | AC9: -289.7165 | AD9: -289.57898 | AE9: -289.64406 | AF9: -289.75145 | AG9: -289.58158 | AH9: -289.29992 | AI9: -288.64065 | AJ9: -288.91557 | AK9: -288.62152 | AL9: -288.00196 | AM9: -288.74905 | AN9: -288.95647 | AO9: -290.18128 | AP9: -288.76145 | AQ9: -288.67632 | AR9: -288.97268 | AS9: -289.12209 | AT9: -288.99385 | AU9: -288.40815 | AV9: -288.00349
A10: 2004.5833 | B10: 0.381 | G10: -288.67663 | H10: -288.94868 | I10: -288.95541 | J10: -289.59407 | K10: -288.32804 | L10: -288.96932 | M10: -288.80222 | N10: -288.86585 | O10: -288.30779 | P10: -288.52281 | Q10: -288.78285 | R10: -288.80083 | S10: -287.76293 | T10: -287.79862 | U10: -287.44623 | V10: -288.4473 | W10: -288.38182 | X10: -288.42922 | Y10: -288.82385 | Z10: -289.92237 | AA10: -289.97565 | AB10: -290.22107 | AC10: -289.4776 | AD10: -289.4739 | AE10: -289.55635 | AF10: -289.6695 | AG10: -289.50042 | AH10: -289.07162 | AI10: -288.38706 | AJ10: -288.6713 | AK10: -288.31011 | AL10: -287.88013 | AM10: -288.64121 | AN10: -288.88422 | AO10: -289.94238 | AP10: -288.441 | AQ10: -288.37979 | AR10: -288.80673 | AS10: -288.94133 | AT10: -288.67869 | AU10: -288.2938 | AV10: -287.87903
A11: 2004.6667 | B11: 0.413 | G11: -287.97394 | H11: -288.19974 | I11: -288.33103 | J11: -288.97623 | K11: -287.64543 | L11: -288.16035 | M11: -288.07447 | N11: -288.1352 | O11: -287.56506 | P11: -287.75859 | Q11: -288.04863 | R11: -287.92486 | S11: -286.99295 | T11: -287.09738 | U11: -286.64641 | V11: -287.889 | W11: -287.70723 | X11: -287.68198 | Y11: -288.05462 | Z11: -289.29369 | AA11: -289.33074 | AB11: -289.60979 | AC11: -288.88397 | AD11: -288.91384 | AE11: -288.99132 | AF11: -289.08795 | AG11: -288.90534 | AH11: -288.39332 | AI11: -287.63262 | AJ11: -287.93159 | AK11: -287.53303 | AL11: -287.10678 | AM11: -287.86373 | AN11: -288.0871 | AO11: -289.1232 | AP11: -287.65799 | AQ11: -287.57333 | AR11: -288.19903 | AS11: -288.34844 | AT11: -287.84664 | AU11: -287.59479 | AV11: -287.15737
A12: 2004.75 | B12: 0.503 | G12: -287.03908 | H12: -287.23633 | I12: -287.45523 | J12: -288.11299 | K12: -286.66265 | L12: -287.17 | M12: -287.011 | N12: -287.0934 | O12: -286.42416 | P12: -286.5986 | Q12: -286.99217 | R12: -286.68493 | S12: -285.94472 | T12: -286.10709 | U12: -285.49369 | V12: -287.03289 | W12: -286.66584 | X12: -286.50525 | Y12: -286.92768 | Z12: -288.32175 | AA12: -288.31837 | AB12: -288.62095 | AC12: -287.93094 | AD12: -287.87582 | AE12: -287.95983 | AF12: -288.0372 | AG12: -287.86111 | AH12: -287.36053 | AI12: -286.50679 | AJ12: -286.90917 | AK12: -286.61358 | AL12: -285.79996 | AM12: -286.6327 | AN12: -286.54225 | AO12: -287.87553 | AP12: -286.73619 | AQ12: -286.6576 | AR12: -287.16954 | AS12: -287.33895 | AT12: -286.58933 | AU12: -286.48031 | AV12: -286.03921
A13: 2004.8333 | B13: 0.625 | G13: -286.13951 | H13: -286.30588 | I13: -286.54258 | J13: -287.16338 | K13: -285.92077 | L13: -286.22347 | M13: -286.01945 | N13: -286.12084 | O13: -285.33785 | P13: -285.51497 | Q13: -285.98854 | R13: -285.62362 | S13: -284.9661 | T13: -285.10257 | U13: -284.41148 | V13: -286.13723 | W13: -285.59932 | X13: -285.44752 | Y13: -285.94597 | Z13: -287.39192 | AA13: -287.3888 | AB13: -287.6892 | AC13: -287.02498 | AD13: -286.7924 | AE13: -286.83937 | AF13: -286.92008 | AG13: -286.78051 | AH13: -286.24379 | AI13: -285.3387 | AJ13: -285.78554 | AK13: -285.71915 | AL13: -284.63949 | AM13: -285.4829 | AN13: -285.04348 | AO13: -286.74853 | AP13: -286.07976 | AQ13: -285.96661 | AR13: -286.03073 | AS13: -286.24384 | AT13: -285.55646 | AU13: -285.45695 | AV13: -285.07865
A14: 2004.9167 | B14: 0.436 | G14: -285.30277 | H14: -285.47693 | I14: -285.84434 | J14: -286.42324 | K14: -285.4262 | L14: -285.48062 | M14: -285.40834 | N14: -285.47586 | O14: -284.56324 | P14: -284.75493 | Q14: -285.22925 | R14: -284.86853 | S14: -284.16031 | T14: -284.44409 | U14: -283.73451 | V14: -285.3835 | W14: -284.86164 | X14: -284.73409 | Y14: -285.35424 | Z14: -286.79007 | AA14: -286.80897 | AB14: -287.05269 | AC14: -286.4293 | AD14: -286.00094 | AE14: -286.03371 | AF14: -286.07962 | AG14: -286.01264 | AH14: -285.34377 | AI14: -284.35808 | AJ14: -284.81274 | AK14: -284.9975 | AL14: -283.86318 | AM14: -284.71291 | AN14: -284.08195 | AO14: -286.00536 | AP14: -285.57657 | AQ14: -285.48428 | AR14: -285.27274 | AS14: -285.43842 | AT14: -284.96536 | AU14: -284.75632 | AV14: -284.40307
A15: 2005 | B15: 0.632 | G15: -284.97873 | H15: -285.22887 | I15: -285.59361 | J15: -286.20211 | K15: -285.21644 | L15: -285.1959 | M15: -285.19805 | N15: -285.31569 | O15: -284.38303 | P15: -284.55142 | Q15: -284.96481 | R15: -284.64572 | S15: -283.92235 | T15: -284.33073 | U15: -283.64215 | V15: -285.09634 | W15: -284.77601 | X15: -284.62646 | Y15: -285.35167 | Z15: -286.68697 | AA15: -286.72261 | AB15: -286.95173 | AC15: -286.28482 | AD15: -285.79995 | AE15: -285.87597 | AF15: -285.82568 | AG15: -285.82466 | AH15: -285.03352 | AI15: -284.06031 | AJ15: -284.43879 | AK15: -284.72803 | AL15: -283.76345 | AM15: -284.66575 | AN15: -283.9774 | AO15: -285.6824 | AP15: -285.3082 | AQ15: -285.23333 | AR15: -285.00901 | AS15: -285.17979 | AT15: -285.0287 | AU15: -284.57448 | AV15: -284.23959
A16: 2005.0833 | B16: 0.503 | G16: -285.1766 | H16: -285.4948 | I16: -285.90928 | J16: -286.5098 | K16: -285.30611 | L16: -285.43935 | M16: -285.42821 | N16: -285.59901 | O16: -284.71931 | P16: -284.8621 | Q16: -285.35543 | R16: -284.95765 | S16: -284.18097 | T16: -284.66568 | U16: -283.97331 | V16: -285.2775 | W16: -285.08818 | X16: -284.92782 | Y16: -285.72487 | Z16: -287.03523 | AA16: -287.07209 | AB16: -287.27642 | AC16: -286.64272 | AD16: -286.11032 | AE16: -286.23104 | AF16: -286.17987 | AG16: -286.15859 | AH16: -285.30425 | AI16: -284.43215 | AJ16: -284.74541 | AK16: -284.791 | AL16: -284.12363 | AM16: -284.99798 | AN16: -284.4509 | AO16: -285.816 | AP16: -285.3995 | AQ16: -285.3157 | AR16: -285.37098 | AS16: -285.56802 | AT16: -285.40706 | AU16: -284.86057 | AV16: -284.44325
A17: 2005.1667 | B17: 0.679 | G17: -285.85925 | H17: -286.17438 | I17: -286.63091 | J17: -287.24307 | K17: -285.75221 | L17: -286.10825 | M17: -286.10619 | N17: -286.21821 | O17: -285.52066 | P17: -285.78233 | Q17: -286.24333 | R17: -285.59293 | S17: -284.96737 | T17: -285.36968 | U17: -284.63294 | V17: -285.97823 | W17: -285.71043 | X17: -285.68556 | Y17: -286.36441 | Z17: -287.76023 | AA17: -287.77649 | AB17: -287.99399 | AC17: -287.39783 | AD17: -286.89974 | AE17: -286.99247 | AF17: -286.98926 | AG17: -286.9136 | AH17: -286.07622 | AI17: -285.1776 | AJ17: -285.5251 | AK17: -285.4118 | AL17: -284.90154 | AM17: -285.71764 | AN17: -285.38823 | AO17: -286.37518 | AP17: -285.92119 | AQ17: -285.7923 | AR17: -286.22701 | AS17: -286.38679 | AT17: -286.05398 | AU17: -285.54792 | AV17: -285.15882
A18: 2005.25 | B18: 0.682 | G18: -286.86433 | H18: -287.05512 | I18: -287.56576 | J18: -288.22587 | K18: -286.52864 | L18: -287.14764 | M18: -286.91927 | N18: -287.00338 | O18: -286.51137 | P18: -286.90775 | Q18: -287.30287 | R18: -286.45596 | S18: -286.09947 | T18: -286.19984 | U18: -285.52257 | V18: -286.87769 | W18: -286.51376 | X18: -286.69362 | Y18: -287.22137 | Z18: -288.54461 | AA18: -288.59528 | AB18: -288.79807 | AC18: -288.19177 | AD18: -287.84084 | AE18: -287.91885 | AF18: -287.99235 | AG18: -287.87149 | AH18: -287.15704 | AI18: -286.28842 | AJ18: -286.64396 | AK18: -286.53451 | AL18: -285.83889 | AM18: -286.62159 | AN18: -286.53095 | AO18: -287.38021 | AP18: -286.62024 | AQ18: -286.47287 | AR18: -287.24507 | AS18: -287.38737 | AT18: -286.92648 | AU18: -286.50463 | AV18: -286.06604
A19: 2005.3333 | B19: 0.535 | G19: -287.98669 | H19: -288.08443 | I19: -288.46265 | J19: -289.15647 | K19: -287.43844 | L19: -288.1674 | M19: -287.86758 | N19: -287.9451 | O19: -287.48304 | P19: -288.05601 | Q19: -288.35444 | R19: -287.48795 | S19: -287.2417 | T19: -287.06352 | U19: -286.55663 | V19: -287.8086 | W19: -287.42359 | X19: -287.75367 | Y19: -288.15968 | Z19: -289.35761 | AA19: -289.4082 | AB19: -289.6203 | AC19: -288.98168 | AD19: -288.76194 | AE19: -288.81168 | AF19: -288.90958 | AG19: -288.7682 | AH19: -288.33105 | AI19: -287.59817 | AJ19: -287.88948 | AK19: -287.77523 | AL19: -286.79259 | AM19: -287.59906 | AN19: -287.71381 | AO19: -288.68233 | AP19: -287.65158 | AQ19: -287.53496 | AR19: -288.17634 | AS19: -288.3312 | AT19: -287.85582 | AU19: -287.43269 | AV19: -287.00439
A20: 2005.4167 | B20: 0.555 | G20: -288.80842 | H20: -288.89677 | I20: -289.04638 | J20: -289.70779 | K20: -288.11974 | L20: -288.95579 | M20: -288.62921 | N20: -288.69499 | O20: -288.18492 | P20: -288.73225 | Q20: -288.97785 | R20: -288.43986 | S20: -287.92516 | T20: -287.75125 | U20: -287.33884 | V20: -288.50069 | W20: -288.07166 | X20: -288.40142 | Y20: -288.83219 | Z20: -289.90236 | AA20: -289.95088 | AB20: -290.19459 | AC20: -289.50789 | AD20: -289.27967 | AE20: -289.34242 | AF20: -289.45192 | AG20: -289.2687 | AH20: -289.12103 | AI20: -288.4812 | AJ20: -288.7442 | AK20: -288.49493 | AL20: -287.61393 | AM20: -288.34721 | AN20: -288.54626 | AO20: -289.755 | AP20: -288.41005 | AQ20: -288.32512 | AR20: -288.75674 | AS20: -288.93046 | AT20: -288.60331 | AU20: -288.05214 | AV20: -287.66118
... A188: 2019.4167 | B188: 0.68 | G188: -288.80842 | H188: -288.89677 | I188: -289.04638 | J188: -289.70779 | K188: -288.11974 | L188: -288.95579 | M188: -288.62921 | N188: -288.69499 | O188: -288.18492 | P188: -288.73225 | Q188: -288.97785 | R188: -288.43986 | S188: -287.92516 | T188: -287.75125 | U188: -287.33884 | V188: -288.50069 | W188: -288.07166 | X188: -288.40142 | Y188: -288.83219 | Z188: -289.90236 | AA188: -289.95088 | AB188: -290.19459 | AC188: -289.50789 | AD188: -289.27967 | AE188: -289.34242 | AF188: -289.45192 | AG188: -289.2687 | AH188: -289.12103 | AI188: -288.4812 | AJ188: -288.7442 | AK188: -288.49493 | AL188: -287.61393 | AM188: -288.34721 | AN188: -288.54626 | AO188: -289.755 | AP188: -288.41005 | AQ188: -288.32512 | AR188: -288.75674 | AS188: -288.93046 | AT188: -288.60331 | AU188: -288.05214 | AV188: -287.66118
A192: Month | B192: Actual | G192: Series 1 | H192: Series 2 | I192: Series 3 | J192: Series 4 | K192: Series 5 | L192: Series 6 | M192: Series 7 | N192: Series 8 | O192: Series 9 | P192: Series 10 | Q192: Series 11 | R192: Series 12 | S192: Series 13 | T192: Series 14 | U192: Series 15 | V192: Series 16 | W192: Series 17 | X192: Series 18 | Y192: Series 19 | Z192: Series 20 | AA192: Series 21 | AB192: Series 22 | AC192: Series 23 | AD192: Series 24 | AE192: Series 25 | AF192: Series 26 | AG192: Series 27 | AH192: Series 28 | AI192: Series 29 | AJ192: Series 30 | AK192: Series 31 | AL192: Series 32 | AM192: Series 33 | AN192: Series 34 | AO192: Series 35 | AP192: Series 36 | AQ192: Series 37 | AR192: Series 38 | AS192: Series 39 | AT192: Series 40 | AU192: Series 41 | AV192: Series 42

Sheet Offsets Applied
F1: Jan | G1: Feb | H1: Mar | I1: Apr | J1: May | K1: Jun | L1: Jul | M1: Aug | N1: Sep | O1: Oct | P1: Nov | Q1: Dec
E2: Trend Intercept | F2: -31.841165 | G2: -41.422903 | H2: -36.478 | I2: -33.667297 | J2: -29.086291 | K2: -33.942844 | L2: -35.287006 | M2: -37.940075 | N2: -32.043108 | O2: -37.216612 | P2: -31.872104 | Q2: -30.326241
E3: Trend Slope | F3: 0.016155951 | G3: 0.020976863 | H3: 0.018475195 | I3: 0.01705673 | J3: 0.014720578 | K3: 0.017161068 | L3: 0.017840887 | M3: 0.019171429 | N3: 0.016197537 | O3: 0.018811823 | P3: 0.016117734 | Q3: 0.01537931
A8: Month | B8: Actual | D8: Average | E8: Trend | G8: Series 1 | H8: Series 2 | I8: Series 3 | J8: Series 4 | K8: Series 5 | L8: Series 6 | M8: Series 7 | N8: Series 8 | O8: Series 9 | P8: Series 10 | Q8: Series 11 | R8: Series 12 | S8: Series 13 | T8: Series 14 | U8: Series 15 | V8: Series 16 | W8: Series 17 | X8: Series 18 | Y8: Series 19 | Z8: Series 20 | AA8: Series 21 | AB8: Series 22 | AC8: Series 23 | AD8: Series 24 | AE8: Series 25 | AF8: Series 26 | AG8: Series 27 | AH8: Series 28 | AI8: Series 29 | AJ8: Series 30 | AK8: Series 31 | AL8: Series 32 | AM8: Series 33 | AN8: Series 34 | AO8: Series 35 | AP8: Series 36 | AQ8: Series 37 | AR8: Series 38 | AS8: Series 39 | AT8: Series 40 | AU8: Series 41 | AV8: Series 42
A9: 2004.5 | B9: 0.253 | D9: 0.188 | E9: =ROUND($L$2+$L$3*TRUNC(A9),3) -> 0.466 | G9: =Offsets!G9+Prepared!G9 -> 0.63358667 | H9: =Offsets!H9+Prepared!H9 -> 0.41271667 | I9: =Offsets!I9+Prepared!I9 -> 0.42519667 | J9: =Offsets!J9+Prepared!J9 -> 0.83740333 | K9: =Offsets!K9+Prepared!K9 -> 0.72094 | L9: =Offsets!L9+Prepared!L9 -> 0.83047667 | M9: =Offsets!M9+Prepared!M9 -> 0.56000667 | N9: =Offsets!N9+Prepared!N9 -> 0.57515 | ... AV9: =Offsets!AV9+Prepared!AV9 -> 0.70991
A10: 2004.5833 | B10: 0.381 | D10: 0.186 | E10: =ROUND($M$2+$M$3*TRUNC(A9),3) -> 0.479 | G10: =Offsets!G10+Prepared!G10 -> 0.71617333 | H10: =Offsets!H10+Prepared!H10 -> 0.47032 | I10: =Offsets!I10+Prepared!I10 -> 0.62389333 | J10: =Offsets!J10+Prepared!J10 -> 0.92942667 | K10: =Offsets!K10+Prepared!K10 -> 0.55286333 | L10: =Offsets!L10+Prepared!L10 -> 0.80907667 | M10: =Offsets!M10+Prepared!M10 -> 0.66288 | N10: =Offsets!N10+Prepared!N10 -> 0.64875333 | ... AV10: =Offsets!AV10+Prepared!AV10 -> 0.74027
A11: 2004.6667 | B11: 0.413 | D11: 0.164 | E11: =ROUND($N$2+$N$3*TRUNC(A9),3) -> 0.417 | G11: =Offsets!G11+Prepared!G11 -> 0.56716333 | H11: =Offsets!H11+Prepared!H11 -> 0.64196 | I11: =Offsets!I11+Prepared!I11 -> 0.58487333 | J11: =Offsets!J11+Prepared!J11 -> 0.92547 | K11: =Offsets!K11+Prepared!K11 -> 0.47807 | L11: =Offsets!L11+Prepared!L11 -> 0.70364667 | M11: =Offsets!M11+Prepared!M11 -> 0.68052667 | N11: =Offsets!N11+Prepared!N11 -> 0.5699 | ... AV11: =Offsets!AV11+Prepared!AV11 -> 0.80892667
A12: 2004.75 | B12: 0.503 | D12: 0.19 | E12: =ROUND($O$2+$O$3*TRUNC(A9),3) -> 0.482 | G12: =Offsets!G12+Prepared!G12 -> 0.67972 | H12: =Offsets!H12+Prepared!H12 -> 0.70087 | I12: =Offsets!I12+Prepared!I12 -> 0.53066667 | J12: =Offsets!J12+Prepared!J12 -> 0.64561333 | K12: =Offsets!K12+Prepared!K12 -> 0.62034667 | L12: =Offsets!L12+Prepared!L12 -> 0.7958 | M12: =Offsets!M12+Prepared!M12 -> 0.60779667 | N12: =Offsets!N12+Prepared!N12 -> 0.69660333 | ... AV12: =Offsets!AV12+Prepared!AV12 -> 0.88658667
A13: 2004.8333 | B13: 0.625 | D13: 0.177 | E13: =ROUND($P$2+$P$3*TRUNC(A9),3) -> 0.428 | G13: =Offsets!G13+Prepared!G13 -> 0.47969 | H13: =Offsets!H13+Prepared!H13 -> 0.61762333 | I13: =Offsets!I13+Prepared!I13 -> 0.61901667 | J13: =Offsets!J13+Prepared!J13 -> 0.74982 | K13: =Offsets!K13+Prepared!K13 -> 0.39503 | L13: =Offsets!L13+Prepared!L13 -> 0.69803333 | M13: =Offsets!M13+Prepared!M13 -> 0.60365333 | N13: =Offsets!N13+Prepared!N13 -> 0.78925667 | ... AV13: =Offsets!AV13+Prepared!AV13 -> 1.0222533
A14: 2004.9167 | B14: 0.436 | D14: 0.252 | E14: =ROUND($Q$2+$Q$3*TRUNC(A9),3) -> 0.494 | G14: =Offsets!G14+Prepared!G14 -> 0.58413333 | H14: =Offsets!H14+Prepared!H14 -> 0.75096667 | I14: =Offsets!I14+Prepared!I14 -> 0.87106 | J14: =Offsets!J14+Prepared!J14 -> 0.92766 | K14: =Offsets!K14+Prepared!K14 -> 0.46770333 | L14: =Offsets!L14+Prepared!L14 -> 0.75178 | M14: =Offsets!M14+Prepared!M14 -> 0.79976 | N14: =Offsets!N14+Prepared!N14 -> 0.83313667 | ... AV14: =Offsets!AV14+Prepared!AV14 -> 0.98673333
A15: 2005 | B15: 0.632 | D15: 0.301 | E15: =ROUND($F$2+$F$3*TRUNC(A9),3) -> 0.535 | G15: =Offsets!G15+Prepared!G15 -> 0.85706667 | H15: =Offsets!H15+Prepared!H15 -> 0.82583333 | I15: =Offsets!I15+Prepared!I15 -> 0.50069333 | J15: =Offsets!J15+Prepared!J15 -> 0.95699333 | K15: =Offsets!K15+Prepared!K15 -> 0.30816333 | L15: =Offsets!L15+Prepared!L15 -> 0.9802 | M15: =Offsets!M15+Prepared!M15 -> 0.82375333 | N15: =Offsets!N15+Prepared!N15 -> 1.12331 | ... AV15: =Offsets!AV15+Prepared!AV15 -> 0.99031333
A16: 2005.0833 | B16: 0.503 | D16: 0.311 | E16: =ROUND($G$2+$G$3*TRUNC(A9),3) -> 0.615 | G16: =Offsets!G16+Prepared!G16 -> 0.8379 | H16: =Offsets!H16+Prepared!H16 -> 0.7272 | I16: =Offsets!I16+Prepared!I16 -> 0.57421667 | J16: =Offsets!J16+Prepared!J16 -> 0.90179667 | K16: =Offsets!K16+Prepared!K16 -> 0.67088667 | L16: =Offsets!L16+Prepared!L16 -> 0.94005 | M16: =Offsets!M16+Prepared!M16 -> 0.99368667 | N16: =Offsets!N16+Prepared!N16 -> 1.03459 | ... AV16: =Offsets!AV16+Prepared!AV16 -> 0.98044667
A17: 2005.1667 | B17: 0.679 | D17: 0.278 | E17: =ROUND($H$2+$H$3*TRUNC(A9),3) -> 0.546 | G17: =Offsets!G17+Prepared!G17 -> 0.83374667 | H17: =Offsets!H17+Prepared!H17 -> 0.60382333 | I17: =Offsets!I17+Prepared!I17 -> 0.72088667 | J17: =Offsets!J17+Prepared!J17 -> 1.0037267 | K17: =Offsets!K17+Prepared!K17 -> 0.51698667 | L17: =Offsets!L17+Prepared!L17 -> 0.96825 | M17: =Offsets!M17+Prepared!M17 -> 0.81670667 | N17: =Offsets!N17+Prepared!N17 -> 0.88928667 | ... AV17: =Offsets!AV17+Prepared!AV17 -> 0.97427667
A18: 2005.25 | B18: 0.682 | D18: 0.267 | E18: =ROUND($I$2+$I$3*TRUNC(A9),3) -> 0.514 | G18: =Offsets!G18+Prepared!G18 -> 0.60956667 | H18: =Offsets!H18+Prepared!H18 -> 0.61598333 | I18: =Offsets!I18+Prepared!I18 -> 0.49374 | J18: =Offsets!J18+Prepared!J18 -> 1.1808333 | K18: =Offsets!K18+Prepared!K18 -> 0.44785667 | L18: =Offsets!L18+Prepared!L18 -> 1.0779633 | M18: =Offsets!M18+Prepared!M18 -> 0.63602667 | N18: =Offsets!N18+Prepared!N18 -> 0.91281667 | ... AV18: =Offsets!AV18+Prepared!AV18 -> 0.91166
A19: 2005.3333 | B19: 0.535 | D19: 0.2 | E19: =ROUND($J$2+$J$3*TRUNC(A9),3) -> 0.414 | G19: =Offsets!G19+Prepared!G19 -> 0.58411333 | H19: =Offsets!H19+Prepared!H19 -> 0.62556667 | I19: =Offsets!I19+Prepared!I19 -> 0.47575 | J19: =Offsets!J19+Prepared!J19 -> 0.89313 | K19: =Offsets!K19+Prepared!K19 -> 0.37705667 | L19: =Offsets!L19+Prepared!L19 -> 0.81389667 | M19: =Offsets!M19+Prepared!M19 -> 0.75702 | N19: =Offsets!N19+Prepared!N19 -> 0.90120333 | ... AV19: =Offsets!AV19+Prepared!AV19 -> 0.65261
A20: 2005.4167 | B20: 0.555 | D20: 0.199 | E20: =ROUND($K$2+$K$3*TRUNC(A9),3) -> 0.448 | G20: =Offsets!G20+Prepared!G20 -> 0.52897667 | H20: =Offsets!H20+Prepared!H20 -> 0.57423333 | I20: =Offsets!I20+Prepared!I20 -> 0.61881667 | J20: =Offsets!J20+Prepared!J20 -> 0.85501 | K20: =Offsets!K20+Prepared!K20 -> 0.59245667 | L20: =Offsets!L20+Prepared!L20 -> 0.77630667 | M20: =Offsets!M20+Prepared!M20 -> 0.60808667 | N20: =Offsets!N20+Prepared!N20 -> 0.82051333 | ... AV20: =Offsets!AV20+Prepared!AV20 -> 0.64752
A21: 2005.5 | B21: 0.527 | D21: 0.188 | E21: =ROUND($L$2+$L$3*TRUNC(A21),3) -> 0.484 | G21: =Offsets!G21+Prepared!G21 -> 0.55628667 | H21: =Offsets!H21+Prepared!H21 -> 0.49451667 | I21: =Offsets!I21+Prepared!I21 -> 0.60479667 | J21: =Offsets!J21+Prepared!J21 -> 0.83560333 | K21: =Offsets!K21+Prepared!K21 -> 0.65804 | L21: =Offsets!L21+Prepared!L21 -> 0.99177667 | M21: =Offsets!M21+Prepared!M21 -> 0.46910667 | N21: =Offsets!N21+Prepared!N21 -> 0.86225 | ... AV21: =Offsets!AV21+Prepared!AV21 -> 0.68751
