Workbook

Sheet Original Data)
A8: Month | G8: Series 1 | H8: Series 2 | I8: Series 3 | J8: Series 4 | K8: Series 5 | L8: Series 6 | M8: Series 7 | N8: Series 8 | O8: Series 9 | P8: Series 10 | Q8: Series 11 | R8: Series 12 | S8: Series 13 | T8: Series 14 | U8: Series 15 | V8: Series 16 | W8: Series 17 | X8: Series 18 | Y8: Series 19 | Z8: Series 20 | AA8: Series 21 | AB8: Series 22 | AC8: Series 23 | AD8: Series 24 | AE8: Series 25 | AF8: Series 26 | AG8: Series 27 | AH8: Series 28 | AI8: Series 29 | AJ8: Series 30 | AK8: Series 31 | AL8: Series 32 | AM8: Series 33 | AN8: Series 34 | AO8: Series 35 | AP8: Series 36 | AQ8: Series 37 | AR8: Series 38 | AS8: Series 39 | AT8: Series 40 | AU8: Series 41 | AV8: Series 42
A9: 2004.5 | G9: 289.6053 | H9: 289.5872 | I9: 289.653 | J9: 290.7695 | K9: 289.153 | L9: 290.1174 | M9: 289.5991 | N9: 289.6434 | O9: 289.003 | P9: 289.3433 | Q9: 289.3339 | R9: 289.7659 | S9: 288.5935 | T9: 288.6247 | U9: 288.2614 | V9: 289.321 | W9: 289.0816 | X9: 289.2402 | Y9: 289.5135 | Z9: 290.6431 | AA9: 290.79 | AB9: 291.0437 | AC9: 290.2444 | AD9: 290.1585 | AE9: 290.2718 | AF9: 290.3175 | AG9: 289.9229 | AH9: 290.265 | AI9: 289.0862 | AJ9: 289.4523 | AK9: 289.1697 | AL9: 288.6028 | AM9: 289.261 | AN9: 289.4924 | AO9: 290.8826 | AP9: 288.958 | AQ9: 289.1218 | AR9: 289.3636 | AS9: 289.563 | AT9: 289.4311 | AU9: 289.0115 | AV9: 288.7134
A10: 2004.5833 | G10: 289.3928 | H10: 289.419 | I10: 289.5793 | J10: 290.5235 | K10: 288.8809 | L10: 289.7784 | M10: 289.4651 | N10: 289.5146 | O10: 288.6306 | P10: 289.1676 | Q10: 289.1511 | R10: 289.4099 | S10: 288.3951 | T10: 288.4492 | U10: 287.9957 | V10: 289.0324 | W10: 289.0038 | X10: 289.0171 | Y10: 289.3048 | Z10: 290.4068 | AA10: 290.5341 | AB10: 290.727 | AC10: 289.9625 | AD10: 290.0414 | AE10: 290.1272 | AF10: 290.2825 | AG10: 289.9867 | AH10: 289.8647 | AI10: 288.7103 | AJ10: 289.192 | AK10: 288.7404 | AL10: 288.4193 | AM10: 289.3409 | AN10: 289.3307 | AO10: 290.6795 | AP10: 288.7376 | AQ10: 288.8544 | AR10: 289.2439 | AS10: 289.4344 | AT10: 289.1339 | AU10: 288.9393 | AV10: 288.6193
A11: 2004.6667 | G11: 288.5411 | H11: 288.8417 | I11: 288.9159 | J11: 289.9017 | K11: 288.1235 | L11: 288.864 | M11: 288.755 | N11: 288.7051 | O11: 287.9335 | P11: 288.4437 | Q11: 288.3822 | R11: 288.5168 | S11: 287.6803 | T11: 287.7112 | U11: 287.2311 | V11: 288.2716 | W11: 288.2577 | X11: 288.2926 | Y11: 288.5858 | Z11: 289.7926 | AA11: 289.9207 | AB11: 290.0953 | AC11: 289.4305 | AD11: 289.4234 | AE11: 289.5229 | AF11: 289.7107 | AG11: 289.371 | AH11: 289.1678 | AI11: 288.028 | AJ11: 288.5103 | AK11: 288.0424 | AL11: 287.6818 | AM11: 288.629 | AN11: 288.4585 | AO11: 289.9504 | AP11: 287.8605 | AQ11: 288.0517 | AR11: 288.6404 | AS11: 288.7632 | AT11: 288.2491 | AU11: 287.9975 | AV11: 287.9663
A12: 2004.75 | G12: 287.7188 | H12: 287.9372 | I12: 287.9859 | J12: 288.7586 | K12: 287.283 | L12: 287.9658 | M12: 287.6188 | N12: 287.79 | O12: 286.8176 | P12: 287.2654 | Q12: 287.4912 | R12: 287.3608 | S12: 286.6498 | T12: 286.7038 | U12: 286.1476 | V12: 287.4865 | W12: 287.3623 | X12: 287.2203 | Y12: 287.4967 | Z12: 288.9785 | AA12: 288.9186 | AB12: 289.2033 | AC12: 288.582 | AD12: 288.5811 | AE12: 288.4077 | AF12: 288.8189 | AG12: 288.3752 | AH12: 288.1243 | AI12: 286.9287 | AJ12: 287.475 | AK12: 287.0556 | AL12: 286.4679 | AM12: 287.3367 | AN12: 287.1534 | AO12: 288.9569 | AP12: 287.1161 | AQ12: 287.2735 | AR12: 287.5223 | AS12: 287.8169 | AT12: 286.9607 | AU12: 287.0027 | AV12: 286.9258
A13: 2004.8333 | G13: 286.6192 | H13: 286.9235 | I13: 287.1616 | J13: 287.9132 | K13: 286.3158 | L13: 286.9215 | M13: 286.6231 | N13: 286.9101 | O13: 285.6955 | P13: 286.3106 | Q13: 286.3877 | R13: 286.2097 | S13: 285.5056 | T13: 285.7132 | U13: 285.1727 | V13: 286.5659 | W13: 286.2857 | X13: 286.2858 | Y13: 286.5445 | Z13: 287.9883 | AA13: 288.0752 | AB13: 288.4698 | AC13: 287.7616 | AD13: 287.464 | AE13: 287.3018 | AF13: 287.5188 | AG13: 287.4649 | AH13: 286.9737 | AI13: 285.8844 | AJ13: 286.16 | AK13: 286.165 | AL13: 285.3634 | AM13: 286.1405 | AN13: 285.7735 | AO13: 287.844 | AP13: 286.3663 | AQ13: 286.5995 | AR13: 286.4035 | AS13: 286.8896 | AT13: 285.892 | AU13: 285.9646 | AV13: 286.1009
A14: 2004.9167 | G14: 285.8869 | H14: 286.2279 | I14: 286.7154 | J14: 287.3509 | K14: 285.8939 | L14: 286.2324 | M14: 286.2081 | N14: 286.309 | O14: 285.0712 | P14: 285.6636 | Q14: 285.6443 | R14: 285.7171 | S14: 284.8676 | T14: 285.2769 | U14: 284.5008 | V14: 285.6122 | W14: 285.5188 | X14: 285.4633 | Y14: 285.9534 | Z14: 287.5048 | AA14: 287.4007 | AB14: 287.8579 | AC14: 287.1176 | AD14: 286.7817 | AE14: 286.6848 | AF14: 286.8718 | AG14: 286.7452 | AH14: 286.2585 | AI14: 284.7976 | AJ14: 285.326 | AK14: 285.5448 | AL14: 284.9278 | AM14: 285.434 | AN14: 284.7426 | AO14: 287.2602 | AP14: 285.9845 | AQ14: 286.0667 | AR14: 285.6067 | AS14: 286.2474 | AT14: 285.5002 | AU14: 285.4844 | AV14: 285.3898
A15: 2005 | G15: 285.8358 | H15: 286.0547 | I15: 286.0943 | J15: 287.1591 | K15: 285.5246 | L15: 286.1761 | M15: 286.0218 | N15: 286.439 | O15: 284.8335 | P15: 285.3558 | Q15: 285.5498 | R15: 285.5408 | S15: 284.563 | T15: 285.381 | U15: 284.2613 | V15: 285.4563 | W15: 285.2754 | X15: 285.3504 | Y15: 286.2425 | Z15: 287.4038 | AA15: 287.4582 | AB15: 287.692 | AC15: 287.0685 | AD15: 286.527 | AE15: 286.4666 | AF15: 286.4753 | AG15: 286.5121 | AH15: 285.9832 | AI15: 284.4849 | AJ15: 285.1196 | AK15: 285.0281 | AL15: 284.8488 | AM15: 285.3769 | AN15: 284.6685 | AO15: 286.8852 | AP15: 285.8679 | AQ15: 285.7969 | AR15: 285.4364 | AS15: 285.9725 | AT15: 285.3873 | AU15: 285.4756 | AV15: 285.2299
A16: 2005.0833 | G16: 286.0145 | H16: 286.222 | I16: 286.4835 | J16: 287.4116 | K16: 285.977 | L16: 286.3794 | M16: 286.4219 | N16: 286.6336 | O16: 285.5058 | P16: 285.764 | Q16: 285.8176 | R16: 285.918 | S16: 284.987 | T16: 285.622 | U16: 284.5625 | V16: 285.7806 | W16: 285.6785 | X16: 285.9221 | Y16: 286.4656 | Z16: 287.7187 | AA16: 287.8446 | AB16: 287.9775 | AC16: 287.4325 | AD16: 286.9321 | AE16: 286.9401 | AF16: 286.8329 | AG16: 286.8426 | AH16: 286.2567 | AI16: 284.8211 | AJ16: 285.5551 | AK16: 285.1458 | AL16: 284.8807 | AM16: 285.8509 | AN16: 285.1069 | AO16: 286.8529 | AP16: 286.0174 | AQ16: 286.0398 | AR16: 285.9229 | AS16: 286.3284 | AT16: 286.0962 | AU16: 285.5228 | AV16: 285.4237
A17: 2005.1667 | G17: 286.693 | H17: 286.7782 | I17: 287.3518 | J17: 288.2468 | K17: 286.2692 | L17: 287.0765 | M17: 286.9229 | N17: 287.1075 | O17: 286.3714 | P17: 286.4382 | Q17: 286.8659 | R17: 286.3318 | S17: 285.7273 | T17: 286.0546 | U17: 285.2457 | V17: 286.358 | W17: 286.2224 | X17: 286.607 | Y17: 286.9518 | Z17: 288.2591 | AA17: 288.5547 | AB17: 288.5794 | AC17: 288.1982 | AD17: 287.5094 | AE17: 287.5934 | AF17: 287.5414 | AG17: 287.5054 | AH17: 287.0839 | AI17: 285.5062 | AJ17: 286.0741 | AK17: 285.9302 | AL17: 285.7252 | AM17: 286.4097 | AN17: 285.8474 | AO17: 287.3427 | AP17: 286.3927 | AQ17: 286.4512 | AR17: 286.6989 | AS17: 286.9748 | AT17: 286.7722 | AU17: 286.3022 | AV17: 286.1331
A18: 2005.25 | G18: 287.4739 | H18: 287.6711 | I18: 288.0595 | J18: 289.4067 | K18: 286.9765 | L18: 288.2256 | M18: 287.5553 | N18: 287.9162 | O18: 287.19 | P18: 287.6466 | Q18: 287.8342 | R18: 287.2204 | S18: 286.9032 | T18: 286.8567 | U18: 286.1488 | V18: 287.2911 | W18: 287.1421 | X18: 287.6652 | Y18: 287.8339 | Z18: 289.1003 | AA18: 289.1986 | AB18: 289.4453 | AC18: 288.9448 | AD18: 288.3879 | AE18: 288.5044 | AF18: 288.5378 | AG18: 288.5694 | AH18: 288.1613 | AI18: 286.4857 | AJ18: 287.2441 | AK18: 287.0295 | AL18: 286.5956 | AM18: 287.203 | AN18: 286.9119 | AO18: 288.5599 | AP18: 287.0031 | AQ18: 287.0661 | AR18: 287.7679 | AS18: 288.0122 | AT18: 287.5717 | AU18: 287.163 | AV18: 286.9777
A19: 2005.3333 | G19: 288.5708 | H19: 288.71 | I19: 288.9384 | J19: 290.0496 | K19: 287.8155 | L19: 288.9813 | M19: 288.6246 | N19: 288.8463 | O19: 288.0625 | P19: 288.5392 | Q19: 288.909 | R19: 288.1619 | S19: 287.9601 | T19: 287.6639 | U19: 287.0551 | V19: 288.0285 | W19: 288.1125 | X19: 288.4839 | Y19: 288.6818 | Z19: 289.7942 | AA19: 289.9349 | AB19: 290.1083 | AC19: 289.6239 | AD19: 289.2822 | AE19: 289.3237 | AF19: 289.486 | AG19: 289.4391 | AH19: 289.2089 | AI19: 287.8495 | AJ19: 288.5102 | AK19: 288.2165 | AL19: 287.54 | AM19: 288.198 | AN19: 288.2112 | AO19: 289.5655 | AP19: 288.0268 | AQ19: 288.1635 | AR19: 288.541 | AS19: 288.9029 | AT19: 288.3943 | AU19: 287.9097 | AV19: 287.657
A20: 2005.4167 | G20: 289.3374 | H20: 289.471 | I20: 289.6652 | J20: 290.5628 | K20: 288.7122 | L20: 289.7321 | M20: 289.2373 | N20: 289.5155 | O20: 288.7706 | P20: 289.1501 | Q20: 289.5115 | R20: 289.1201 | S20: 288.4981 | T20: 288.3141 | U20: 287.7074 | V20: 288.8109 | W20: 288.8591 | X20: 289.209 | Y20: 289.3726 | Z20: 290.3413 | AA20: 290.5319 | AB20: 290.7915 | AC20: 290.033 | AD20: 289.7921 | AE20: 289.8582 | AF20: 290.1657 | AG20: 289.866 | AH20: 289.9805 | AI20: 288.8744 | AJ20: 289.3939 | AK20: 288.8899 | AL20: 288.3376 | AM20: 288.8896 | AN20: 289.0467 | AO20: 290.6006 | AP20: 288.8 | AQ20: 288.9683 | AR20: 289.1516 | AS20: 289.4831 | AT20: 289.1452 | AU20: 288.5913 | AV20: 288.3087
... A188: 2019.4167 | G188: 289.7009 | H188: 289.9442 | I188: 289.7308 | J188: 290.8694 | K188: 289.4312 | L188: 289.9249 | M188: 289.4241 | N188: 289.5599 | O188: 289.12 | P188: 289.6055 | Q188: 289.7589 | R188: 289.2302 | S188: 288.623 | T188: 288.5262 | U188: 288.1662 | V188: 288.9938 | W188: 289.3912 | X188: 288.8845 | Y188: 289.4424 | Z188: 290.7263 | AA188: 290.7767 | AB188: 291.0707 | AC188: 290.2656 | AD188: 290.1034 | AE188: 289.8731 | AF188: 290.3551 | AG188: 290.0279 | AH188: 289.9689 | AI188: 289.4472 | AJ188: 289.7913 | AK188: 289.0545 | AL188: 288.6194 | AM188: 289.3229 | AN188: 289.0695 | AO188: 290.2688 | AP188: 289.4273 | AQ188: 289.2194 | AR188: 289.4761 | AS188: 289.6735 | AT188: 289.0337 | AU188: 288.9506 | AV188: 288.3605
A192: Month | B192: Actual | G192: Series 1 | H192: Series 2 | I192: Series 3 | J192: Series 4 | K192: Series 5 | L192: Series 6 | M192: Series 7 | N192: Series 8 | O192: Series 9 | P192: Series 10 | Q192: Series 11 | R192: Series 12 | S192: Series 13 | T192: Series 14 | U192: Series 15 | V192: Series 16 | W192: Series 17 | X192: Series 18 | Y192: Series 19 | Z192: Series 20 | AA192: Series 21 | AB192: Series 22 | AC192: Series 23 | AD192: Series 24 | AE192: Series 25 | AF192: Series 26 | AG192: Series 27 | AH192: Series 28 | AI192: Series 29 | AJ192: Series 30 | AK192: Series 31 | AL192: Series 32 | AM192: Series 33 | AN192: Series 34 | AO192: Series 35 | AP192: Series 36 | AQ192: Series 37 | AR192: Series 38 | AS192: Series 39 | AT192: Series 40 | AU192: Series 41 | AV192: Series 42

Sheet Prepared
F1: Jan | G1: Feb | H1: Mar | I1: Apr | J1: May | K1: Jun | L1: Jul | M1: Aug | N1: Sep | O1: Oct | P1: Nov | Q1: Dec
E2: Trend Intercept | F2: -31.841165 | G2: -41.422903 | H2: -36.478 | I2: -33.667297 | J2: -29.086291 | K2: -33.942844 | L2: -35.287006 | M2: -37.940075 | N2: -32.043108 | O2: -37.216612 | P2: -31.872104 | Q2: -30.326241
E3: Trend Slope | F3: 0.016155951 | G3: 0.020976863 | H3: 0.018475195 | I3: 0.01705673 | J3: 0.014720578 | K3: 0.017161068 | L3: 0.017840887 | M3: 0.019171429 | N3: 0.016197537 | O3: 0.018811823 | P3: 0.016117734 | Q3: 0.01537931
A8: Month | B8: Actual | D8: Average | E8: Trend | G8: Series 1 | H8: Series 2 | I8: Series 3 | J8: Series 4 | K8: Series 5 | L8: Series 6 | M8: Series 7 | N8: Series 8 | O8: Series 9 | P8: Series 10 | Q8: Series 11 | R8: Series 12 | S8: Series 13 | T8: Series 14 | U8: Series 15 | V8: Series 16 | W8: Series 17 | X8: Series 18 | Y8: Series 19 | Z8: Series 20 | AA8: Series 21 | AB8: Series 22 | AC8: Series 23 | AD8: Series 24 | AE8: Series 25 | AF8: Series 26 | AG8: Series 27 | AH8: Series 28 | AI8: Series 29 | AJ8: Series 30 | AK8: Series 31 | AL8: Series 32 | AM8: Series 33 | AN8: Series 34 | AO8: Series 35 | AP8: Series 36 | AQ8: Series 37 | AR8: Series 38 | AS8: Series 39 | AT8: Series 40 | AU8: Series 41 | AV8: Series 42
A9: 2004.5 | B9: 0.253 | D9: 0.188 | E9: =ROUND($L$2+$L$3*TRUNC(A9),3) -> 0.466 | G9: 289.6053 | H9: 289.5872 | I9: 289.653 | J9: 290.7695 | K9: 289.153 | L9: 290.1174 | M9: 289.5991 | N9: 289.6434 | O9: 289.003 | P9: 289.3433 | Q9: 289.3339 | R9: 289.7659 | S9: 288.5935 | T9: 288.6247 | U9: 288.2614 | V9: 289.321 | W9: 289.0816 | X9: 289.2402 | Y9: 289.5135 | Z9: 290.6431 | AA9: 290.79 | AB9: 291.0437 | AC9: 290.2444 | AD9: 290.1585 | AE9: 290.2718 | AF9: 290.3175 | AG9: 289.9229 | AH9: 290.265 | AI9: 289.0862 | AJ9: 289.4523 | AK9: 289.1697 | AL9: 288.6028 | AM9: 289.261 | AN9: 289.4924 | AO9: 290.8826 | AP9: 288.958 | AQ9: 289.1218 | AR9: 289.3636 | AS9: 289.563 | AT9: 289.4311 | AU9: 289.0115 | AV9: 288.7134
A10: 2004.5833 | B10: 0.381 | D10: 0.186 | E10: =ROUND($M$2+$M$3*TRUNC(A9),3) -> 0.479 | G10: 289.3928 | H10: 289.419 | I10: 289.5793 | J10: 290.5235 | K10: 288.8809 | L10: 289.7784 | M10: 289.4651 | N10: 289.5146 | O10: 288.6306 | P10: 289.1676 | Q10: 289.1511 | R10: 289.4099 | S10: 288.3951 | T10: 288.4492 | U10: 287.9957 | V10: 289.0324 | W10: 289.0038 | X10: 289.0171 | Y10: 289.3048 | Z10: 290.4068 | AA10: 290.5341 | AB10: 290.727 | AC10: 289.9625 | AD10: 290.0414 | AE10: 290.1272 | AF10: 290.2825 | AG10: 289.9867 | AH10: 289.8647 | AI10: 288.7103 | AJ10: 289.192 | AK10: 288.7404 | AL10: 288.4193 | AM10: 289.3409 | AN10: 289.3307 | AO10: 290.6795 | AP10: 288.7376 | AQ10: 288.8544 | AR10: 289.2439 | AS10: 289.4344 | AT10: 289.1339 | AU10: 288.9393 | AV10: 288.6193
A11: 2004.6667 | B11: 0.413 | D11: 0.164 | E11: =ROUND($N$2+$N$3*TRUNC(A9),3) -> 0.417 | G11: 288.5411 | H11: 288.8417 | I11: 288.9159 | J11: 289.9017 | K11: 288.1235 | L11: 288.864 | M11: 288.755 | N11: 288.7051 | O11: 287.9335 | P11: 288.4437 | Q11: 288.3822 | R11: 288.5168 | S11: 287.6803 | T11: 287.7112 | U11: 287.2311 | V11: 288.2716 | W11: 288.2577 | X11: 288.2926 | Y11: 288.5858 | Z11: 289.7926 | AA11: 289.9207 | AB11: 290.0953 | AC11: 289.4305 | AD11: 289.4234 | AE11: 289.5229 | AF11: 289.7107 | AG11: 289.371 | AH11: 289.1678 | AI11: 288.028 | AJ11: 288.5103 | AK11: 288.0424 | AL11: 287.6818 | AM11: 288.629 | AN11: 288.4585 | AO11: 289.9504 | AP11: 287.8605 | AQ11: 288.0517 | AR11: 288.6404 | AS11: 288.7632 | AT11: 288.2491 | AU11: 287.9975 | AV11: 287.9663
A12: 2004.75 | B12: 0.503 | D12: 0.19 | E12: =ROUND($O$2+$O$3*TRUNC(A9),3) -> 0.482 | G12: 287.7188 | H12: 287.9372 | I12: 287.9859 | J12: 288.7586 | K12: 287.283 | L12: 287.9658 | M12: 287.6188 | N12: 287.79 | O12: 286.8176 | P12: 287.2654 | Q12: 287.4912 | R12: 287.3608 | S12: 286.6498 | T12: 286.7038 | U12: 286.1476 | V12: 287.4865 | W12: 287.3623 | X12: 287.2203 | Y12: 287.4967 | Z12: 288.9785 | AA12: 288.9186 | AB12: 289.2033 | AC12: 288.582 | AD12: 288.5811 | AE12: 288.4077 | AF12: 288.8189 | AG12: 288.3752 | AH12: 288.1243 | AI12: 286.9287 | AJ12: 287.475 | AK12: 287.0556 | AL12: 286.4679 | AM12: 287.3367 | AN12: 287.1534 | AO12: 288.9569 | AP12: 287.1161 | AQ12: 287.2735 | AR12: 287.5223 | AS12: 287.8169 | AT12: 286.9607 | AU12: 287.0027 | AV12: 286.9258
A13: 2004.8333 | B13: 0.625 | D13: 0.177 | E13: =ROUND($P$2+$P$3*TRUNC(A9),3) -> 0.428 | G13: 286.6192 | H13: 286.9235 | I13: 287.1616 | J13: 287.9132 | K13: 286.3158 | L13: 286.9215 | M13: 286.6231 | N13: 286.9101 | O13: 285.6955 | P13: 286.3106 | Q13: 286.3877 | R13: 286.2097 | S13: 285.5056 | T13: 285.7132 | U13: 285.1727 | V13: 286.5659 | W13: 286.2857 | X13: 286.2858 | Y13: 286.5445 | Z13: 287.9883 | AA13: 288.0752 | AB13: 288.4698 | AC13: 287.7616 | AD13: 287.464 | AE13: 287.3018 | AF13: 287.5188 | AG13: 287.4649 | AH13: 286.9737 | AI13: 285.8844 | AJ13: 286.16 | AK13: 286.165 | AL13: 285.3634 | AM13: 286.1405 | AN13: 285.7735 | AO13: 287.844 | AP13: 286.3663 | AQ13: 286.5995 | AR13: 286.4035 | AS13: 286.8896 | AT13: 285.892 | AU13: 285.9646 | AV13: 286.1009
A14: 2004.9167 | B14: 0.436 | D14: 0.252 | E14: =ROUND($Q$2+$Q$3*TRUNC(A9),3) -> 0.494 | G14: 285.8869 | H14: 286.2279 | I14: 286.7154 | J14: 287.3509 | K14: 285.8939 | L14: 286.2324 | M14: 286.2081 | N14: 286.309 | O14: 285.0712 | P14: 285.6636 | Q14: 285.6443 | R14: 285.7171 | S14: 284.8676 | T14: 285.2769 | U14: 284.5008 | V14: 285.6122 | W14: 285.5188 | X14: 285.4633 | Y14: 285.9534 | Z14: 287.5048 | AA14: 287.4007 | AB14: 287.8579 | AC14: 287.1176 | AD14: 286.7817 | AE14: 286.6848 | AF14: 286.8718 | AG14: 286.7452 | AH14: 286.2585 | AI14: 284.7976 | AJ14: 285.326 | AK14: 285.5448 | AL14: 284.9278 | AM14: 285.434 | AN14: 284.7426 | AO14: 287.2602 | AP14: 285.9845 | AQ14: 286.0667 | AR14: 285.6067 | AS14: 286.2474 | AT14: 285.5002 | AU14: 285.4844 | AV14: 285.3898
A15: 2005 | B15: 0.632 | D15: 0.301 | E15: =ROUND($F$2+$F$3*TRUNC(A9),3) -> 0.535 | G15: 285.8358 | H15: 286.0547 | I15: 286.0943 | J15: 287.1591 | K15: 285.5246 | L15: 286.1761 | M15: 286.0218 | N15: 286.439 | O15: 284.8335 | P15: 285.3558 | Q15: 285.5498 | R15: 285.5408 | S15: 284.563 | T15: 285.381 | U15: 284.2613 | V15: 285.4563 | W15: 285.2754 | X15: 285.3504 | Y15: 286.2425 | Z15: 287.4038 | AA15: 287.4582 | AB15: 287.692 | AC15: 287.0685 | AD15: 286.527 | AE15: 286.4666 | AF15: 286.4753 | AG15: 286.5121 | AH15: 285.9832 | AI15: 284.4849 | AJ15: 285.1196 | AK15: 285.0281 | AL15: 284.8488 | AM15: 285.3769 | AN15: 284.6685 | AO15: 286.8852 | AP15: 285.8679 | AQ15: 285.7969 | AR15: 285.4364 | AS15: 285.9725 | AT15: 285.3873 | AU15: 285.4756 | AV15: 285.2299
A16: 2005.0833 | B16: 0.503 | D16: 0.311 | E16: =ROUND($G$2+$G$3*TRUNC(A9),3) -> 0.615 | G16: 286.0145 | H16: 286.222 | I16: 286.4835 | J16: 287.4116 | K16: 285.977 | L16: 286.3794 | M16: 286.4219 | N16: 286.6336 | O16: 285.5058 | P16: 285.764 | Q16: 285.8176 | R16: 285.918 | S16: 284.987 | T16: 285.622 | U16: 284.5625 | V16: 285.7806 | W16: 285.6785 | X16: 285.9221 | Y16: 286.4656 | Z16: 287.7187 | AA16: 287.8446 | AB16: 287.9775 | AC16: 287.4325 | AD16: 286.9321 | AE16: 286.9401 | AF16: 286.8329 | AG16: 286.8426 | AH16: 286.2567 | AI16: 284.8211 | AJ16: 285.5551 | AK16: 285.1458 | AL16: 284.8807 | AM16: 285.8509 | AN16: 285.1069 | AO16: 286.8529 | AP16: 286.0174 | AQ16: 286.0398 | AR16: 285.9229 | AS16: 286.3284 | AT16: 286.0962 | AU16: 285.5228 | AV16: 285.4237
A17: 2005.1667 | B17: 0.679 | D17: 0.278 | E17: =ROUND($H$2+$H$3*TRUNC(A9),3) -> 0.546 | G17: 286.693 | H17: 286.7782 | I17: 287.3518 | J17: 288.2468 | K17: 286.2692 | L17: 287.0765 | M17: 286.9229 | N17: 287.1075 | O17: 286.3714 | P17: 286.4382 | Q17: 286.8659 | R17: 286.3318 | S17: 285.7273 | T17: 286.0546 | U17: 285.2457 | V17: 286.358 | W17: 286.2224 | X17: 286.607 | Y17: 286.9518 | Z17: 288.2591 | AA17: 288.5547 | AB17: 288.5794 | AC17: 288.1982 | AD17: 287.5094 | AE17: 287.5934 | AF17: 287.5414 | AG17: 287.5054 | AH17: 287.0839 | AI17: 285.5062 | AJ17: 286.0741 | AK17: 285.9302 | AL17: 285.7252 | AM17: 286.4097 | AN17: 285.8474 | AO17: 287.3427 | AP17: 286.3927 | AQ17: 286.4512 | AR17: 286.6989 | AS17: 286.9748 | AT17: 286.7722 | AU17: 286.3022 | AV17: 286.1331
A18: 2005.25 | B18: 0.682 | D18: 0.267 | E18: =ROUND($I$2+$I$3*TRUNC(A9),3) -> 0.514 | G18: 287.4739 | H18: 287.6711 | I18: 288.0595 | J18: 289.4067 | K18: 286.9765 | L18: 288.2256 | M18: 287.5553 | N18: 287.9162 | O18: 287.19 | P18: 287.6466 | Q18: 287.8342 | R18: 287.2204 | S18: 286.9032 | T18: 286.8567 | U18: 286.1488 | V18: 287.2911 | W18: 287.1421 | X18: 287.6652 | Y18: 287.8339 | Z18: 289.1003 | AA18: 289.1986 | AB18: 289.4453 | AC18: 288.9448 | AD18: 288.3879 | AE18: 288.5044 | AF18: 288.5378 | AG18: 288.5694 | AH18: 288.1613 | AI18: 286.4857 | AJ18: 287.2441 | AK18: 287.0295 | AL18: 286.5956 | AM18: 287.203 | AN18: 286.9119 | AO18: 288.5599 | AP18: 287.0031 | AQ18: 287.0661 | AR18: 287.7679 | AS18: 288.0122 | AT18: 287.5717 | AU18: 287.163 | AV18: 286.9777
A19: 2005.3333 | B19: 0.535 | D19: 0.2 | E19: =ROUND($J$2+$J$3*TRUNC(A9),3) -> 0.414 | G19: 288.5708 | H19: 288.71 | I19: 288.9384 | J19: 290.0496 | K19: 287.8155 | L19: 288.9813 | M19: 288.6246 | N19: 288.8463 | O19: 288.0625 | P19: 288.5392 | Q19: 288.909 | R19: 288.1619 | S19: 287.9601 | T19: 287.6639 | U19: 287.0551 | V19: 288.0285 | W19: 288.1125 | X19: 288.4839 | Y19: 288.6818 | Z19: 289.7942 | AA19: 289.9349 | AB19: 290.1083 | AC19: 289.6239 | AD19: 289.2822 | AE19: 289.3237 | AF19: 289.486 | AG19: 289.4391 | AH19: 289.2089 | AI19: 287.8495 | AJ19: 288.5102 | AK19: 288.2165 | AL19: 287.54 | AM19: 288.198 | AN19: 288.2112 | AO19: 289.5655 | AP19: 288.0268 | AQ19: 288.1635 | AR19: 288.541 | AS19: 288.9029 | AT19: 288.3943 | AU19: 287.9097 | AV19: 287.657
A20: 2005.4167 | B20: 0.555 | D20: 0.199 | E20: =ROUND($K$2+$K$3*TRUNC(A9),3) -> 0.448 | G20: 289.3374 | H20: 289.471 | I20: 289.6652 | J20: 290.5628 | K20: 288.7122 | L20: 289.7321 | M20: 289.2373 | N20: 289.5155 | O20: 288.7706 | P20: 289.1501 | Q20: 289.5115 | R20: 289.1201 | S20: 288.4981 | T20: 288.3141 | U20: 287.7074 | V20: 288.8109 | W20: 288.8591 | X20: 289.209 | Y20: 289.3726 | Z20: 290.3413 | AA20: 290.5319 | AB20: 290.7915 | AC20: 290.033 | AD20: 289.7921 | AE20: 289.8582 | AF20: 290.1657 | AG20: 289.866 | AH20: 289.9805 | AI20: 288.8744 | AJ20: 289.3939 | AK20: 288.8899 | AL20: 288.3376 | AM20: 288.8896 | AN20: 289.0467 | AO20: 290.6006 | AP20: 288.8 | AQ20: 288.9683 | AR20: 289.1516 | AS20: 289.4831 | AT20: 289.1452 | AU20: 288.5913 | AV20: 288.3087
A21: 2005.5 | B21: 0.527 | D21: 0.188 | E21: =ROUND($L$2+$L$3*TRUNC(A21),3) -> 0.484 | G21: 289.528 | H21: 289.669 | I21: 289.8326 | J21: 290.7677 | K21: 289.0901 | L21: 290.2787 | M21: 289.5082 | N21: 289.9305 | O21: 289.1223 | P21: 289.4125 | Q21: 289.5478 | R21: 289.689 | S21: 288.563 | T21: 288.5776 | U21: 288.1972 | V21: 288.9689 | W21: 289.3238 | X21: 289.4799 | Y21: 289.6413 | Z21: 290.5452 | AA21: 290.7648 | AB21: 290.9504 | AC21: 290.3342 | AD21: 290.0279 | AE21: 290.212 | AF21: 290.2923 | AG21: 290.0556 | AH21: 290.1605 | AI21: 289.035 | AJ21: 289.5609 | AK21: 288.971 | AL21: 288.6906 | AM21: 289.4497 | AN21: 289.4627 | AO21: 290.9916 | AP21: 289.1314 | AQ21: 289.3558 | AR21: 289.4055 | AS21: 289.6208 | AT21: 289.3867 | AU21: 289.0724 | AV21: 288.691
A22: 2005.5833 | B22: 0.497 | D22: 0.186 | E22: =ROUND($M$2+$M$3*TRUNC(A21),3) -> 0.499 | G22: 289.1222 | H22: 289.4146 | I22: 289.6267 | J22: 290.6576 | K22: 289.1209 | L22: 289.9683 | M22: 289.4944 | N22: 289.633 | O22: 288.8429 | P22: 288.9372 | Q22: 289.3913 | R22: 289.5071 | S22: 288.2955 | T22: 288.3762 | U22: 288.0261 | V22: 288.7914 | W22: 289.2416 | X22: 289.2165 | Y22: 289.3449 | Z22: 290.4847 | AA22: 290.5785 | AB22: 290.7379 | AC22: 290.1007 | AD22: 289.9803 | AE22: 290.1649 | AF22: 290.3565 | AG22: 289.9956 | AH22: 290.0654 | AI22: 288.812 | AJ22: 289.3991 | AK22: 288.6613 | AL22: 288.7015 | AM22: 289.3863 | AN22: 289.3356 | AO22: 290.7363 | AP22: 288.8703 | AQ22: 288.8963 | AR22: 289.3043 | AS22: 289.3657 | AT22: 289.1432 | AU22: 288.9098 | AV22: 288.4868
A23: 2005.6667 | B23: 0.589 | D23: 0.164 | E23: =ROUND($N$2+$N$3*TRUNC(A21),3) -> 0.433 | G23: 288.5526 | H23: 288.8597 | I23: 288.8542 | J23: 289.7477 | K23: 288.4025 | L23: 289.0758 | M23: 288.6595 | N23: 288.9436 | O23: 288.0941 | P23: 288.2358 | Q23: 288.6035 | R23: 288.6465 | S23: 287.6481 | T23: 287.6715 | U23: 287.1534 | V23: 288.1642 | W23: 288.413 | X23: 288.3025 | Y23: 288.5083 | Z23: 289.7769 | AA23: 289.8963 | AB23: 290.1452 | AC23: 289.4413 | AD23: 289.4206 | AE23: 289.5841 | AF23: 289.7304 | AG23: 289.4078 | AH23: 289.3332 | AI23: 288.005 | AJ23: 288.6811 | AK23: 287.8097 | AL23: 287.8918 | AM23: 288.7701 | AN23: 288.5557 | AO23: 289.7884 | AP23: 288.0906 | AQ23: 288.1527 | AR23: 288.7003 | AS23: 288.6997 | AT23: 288.2523 | AU23: 288.1064 | AV23: 287.7867
A24: 2005.75 | B24: 0.646 | D24: 0.19 | E24: =ROUND($O$2+$O$3*TRUNC(A21),3) -> 0.501 | G24: 287.6913 | H24: 287.8755 | I24: 287.9901 | J24: 288.8703 | K24: 287.4074 | L24: 288.1829 | M24: 287.6372 | N24: 287.8116 | O24: 287.1011 | P24: 287.1185 | Q24: 287.5973 | R24: 287.5147 | S24: 286.626 | T24: 286.7948 | U24: 286.0374 | V24: 287.3961 | W24: 287.3792 | X24: 287.2262 | Y24: 287.4955 | Z24: 288.7738 | AA24: 289.0094 | AB24: 289.3281 | AC24: 288.5769 | AD24: 288.3058 | AE24: 288.5825 | AF24: 288.8328 | AG24: 288.5008 | AH24: 288.3495 | AI24: 287.0215 | AJ24: 287.6388 | AK24: 286.8365 | AL24: 286.5172 | AM24: 287.5464 | AN24: 287.2114 | AO24: 288.6448 | AP24: 287.1476 | AQ24: 287.156 | AR24: 287.6177 | AS24: 287.9242 | AT24: 286.9258 | AU24: 287.0666 | AV24: 286.7026
A25: 2005.8333 | B25: 0.611 | D25: 0.177 | E25: =ROUND($P$2+$P$3*TRUNC(A21),3) -> 0.444 | G25: 286.5987 | H25: 287.153 | I25: 287.2293 | J25: 288.0179 | K25: 286.9349 | L25: 287.3026 | M25: 286.8108 | N25: 286.8683 | O25: 286.0773 | P25: 286.0138 | Q25: 286.3731 | R25: 286.4561 | S25: 285.5933 | T25: 285.8278 | U25: 284.9895 | V25: 286.5287 | W25: 286.3385 | X25: 285.9549 | Y25: 286.4304 | Z25: 287.8671 | AA25: 288.0652 | AB25: 288.4483 | AC25: 287.5736 | AD25: 287.3771 | AE25: 287.4956 | AF25: 287.6606 | AG25: 287.3327 | AH25: 287.4729 | AI25: 285.7289 | AJ25: 286.4955 | AK25: 286.1087 | AL25: 285.254 | AM25: 286.548 | AN25: 285.5322 | AO25: 287.5351 | AP25: 286.3097 | AQ25: 286.3913 | AR25: 286.3964 | AS25: 286.9312 | AT25: 285.7723 | AU25: 285.9725 | AV25: 285.9091
A26: 2005.9167 | B26: 0.6 | D26: 0.252 | E26: =ROUND($Q$2+$Q$3*TRUNC(A21),3) -> 0.509 | G26: 285.6942 | H26: 286.3379 | I26: 286.7313 | J26: 287.3282 | K26: 286.2648 | L26: 286.8118 | M26: 286.1443 | N26: 286.4343 | O26: 285.1986 | P26: 285.3044 | Q26: 285.8319 | R26: 285.7256 | S26: 284.8684 | T26: 285.1394 | U26: 284.3508 | V26: 285.808 | W26: 285.7838 | X26: 285.3968 | Y26: 285.9185 | Z26: 287.4478 | AA26: 287.6865 | AB26: 287.6714 | AC26: 287.007 | AD26: 286.5339 | AE26: 286.655 | AF26: 286.7693 | AG26: 286.5253 | AH26: 286.4733 | AI26: 284.7826 | AJ26: 285.567 | AK26: 285.5106 | AL26: 284.7557 | AM26: 285.6459 | AN26: 284.4275 | AO26: 286.8141 | AP26: 285.949 | AQ26: 285.9662 | AR26: 285.6782 | AS26: 285.9491 | AT26: 285.2317 | AU26: 285.3791 | AV26: 285.1362
A27: 2006 | B27: 0.468 | D27: 0.301 | E27: =ROUND($F$2+$F$3*TRUNC(A21),3) -> 0.552 | G27: 285.5254 | H27: 286.0912 | I27: 286.3692 | J27: 287.2475 | K27: 286.1183 | L27: 286.5078 | M27: 286.2334 | N27: 286.0594 | O27: 285.0434 | P27: 285.3124 | Q27: 285.7073 | R27: 285.5842 | S27: 284.6073 | T27: 284.9502 | U27: 284.3459 | V27: 285.4157 | W27: 285.8402 | X27: 285.43 | Y27: 286.0737 | Z27: 287.4258 | AA27: 287.6145 | AB27: 287.7351 | AC27: 287.1992 | AD27: 286.5801 | AE27: 286.5024 | AF27: 286.6753 | AG27: 286.3546 | AH27: 286.2176 | AI27: 284.4942 | AJ27: 285.2692 | AK27: 285.0447 | AL27: 284.8251 | AM27: 285.5689 | AN27: 284.4575 | AO27: 286.4526 | AP27: 285.7316 | AQ27: 285.8354 | AR27: 285.4727 | AS27: 286.026 | AT27: 285.3281 | AU27: 285.2556 | AV27: 285.0276
A28: 2006.0833 | B28: 0.627 | D28: 0.311 | E28: =ROUND($G$2+$G$3*TRUNC(A21),3) -> 0.636 | G28: 285.6174 | H28: 286.413 | I28: 286.6444 | J28: 287.4378 | K28: 286.1343 | L28: 286.9112 | M28: 286.5518 | N28: 286.4094 | O28: 285.4472 | P28: 285.5863 | Q28: 285.9814 | R28: 285.8816 | S28: 284.8972 | T28: 285.3818 | U28: 284.6497 | V28: 285.4862 | W28: 285.973 | X28: 285.6336 | Y28: 286.4759 | Z28: 287.6377 | AA28: 287.6248 | AB28: 288.0282 | AC28: 287.4057 | AD28: 286.795 | AE28: 286.9728 | AF28: 287.1393 | AG28: 286.6482 | AH28: 286.5725 | AI28: 284.9449 | AJ28: 285.5594 | AK28: 285.0275 | AL28: 285.0332 | AM28: 285.836 | AN28: 284.8554 | AO28: 286.6689 | AP28: 285.9763 | AQ28: 285.8059 | AR28: 285.9804 | AS28: 286.4576 | AT28: 285.7455 | AU28: 285.6105 | AV28: 285.4464
A29: 2006.1667 | B29: 0.527 | D29: 0.278 | E29: =ROUND($H$2+$H$3*TRUNC(A21),3) -> 0.565 | G29: 286.4849 | H29: 286.9569 | I29: 287.3667 | J29: 288.1447 | K29: 286.9342 | L29: 287.4103 | M29: 286.8735 | N29: 287.1344 | O29: 286.1125 | P29: 286.4343 | Q29: 286.7491 | R29: 286.3683 | S29: 285.5231 | T29: 286.1205 | U29: 285.2432 | V29: 286.2033 | W29: 286.761 | X29: 286.4018 | Y29: 287.0818 | Z29: 288.2944 | AA29: 288.4198 | AB29: 288.5819 | AC29: 287.9146 | AD29: 287.5147 | AE29: 287.6605 | AF29: 287.9219 | AG29: 287.4799 | AH29: 287.1604 | AI29: 285.7316 | AJ29: 286.3365 | AK29: 285.553 | AL29: 285.6759 | AM29: 286.3932 | AN29: 285.7378 | AO29: 286.981 | AP29: 286.425 | AQ29: 286.4312 | AR29: 286.7757 | AS29: 286.9855 | AT29: 286.2442 | AU29: 286.2223 | AV29: 285.8398
A30: 2006.25 | B30: 0.451 | D30: 0.267 | E30: =ROUND($I$2+$I$3*TRUNC(A21),3) -> 0.531 | G30: 287.3696 | H30: 287.6998 | I30: 288.0739 | J30: 289.1627 | K30: 287.5311 | L30: 288.2946 | M30: 287.7178 | N30: 287.9538 | O30: 287.3266 | P30: 287.4032 | Q30: 287.8585 | R30: 287.1331 | S30: 286.4886 | T30: 286.7863 | U30: 286.1119 | V30: 287.2226 | W30: 287.4693 | X30: 287.3681 | Y30: 287.8619 | Z30: 289.2447 | AA30: 289.3122 | AB30: 289.4407 | AC30: 288.8349 | AD30: 288.2626 | AE30: 288.4845 | AF30: 288.8799 | AG30: 288.5235 | AH30: 288.1538 | AI30: 286.6279 | AJ30: 287.3369 | AK30: 286.7874 | AL30: 286.4497 | AM30: 287.2864 | AN30: 286.9671 | AO30: 287.9032 | AP30: 287.148 | AQ30: 287.135 | AR30: 287.8676 | AS30: 288.052 | AT30: 287.3067 | AU30: 287.0804 | AV30: 286.7751
A31: 2006.3333 | B31: 0.367 | D31: 0.2 | E31: =ROUND($J$2+$J$3*TRUNC(A21),3) -> 0.428 | G31: 288.3978 | H31: 288.618 | I31: 288.7786 | J31: 289.9657 | K31: 288.2952 | L31: 289.2298 | M31: 288.6986 | N31: 288.725 | O31: 288.1247 | P31: 288.4187 | Q31: 288.8515 | R31: 288.1767 | S31: 287.6591 | T31: 287.5286 | U31: 287.201 | V31: 288.1296 | W31: 288.299 | X31: 288.3198 | Y31: 288.7338 | Z31: 289.9627 | AA31: 290.0343 | AB31: 290.2926 | AC31: 289.526 | AD31: 289.1456 | AE31: 289.5022 | AF31: 289.7245 | AG31: 289.4402 | AH31: 289.3601 | AI31: 288.0377 | AJ31: 288.4369 | AK31: 288.1251 | AL31: 287.486 | AM31: 288.1514 | AN31: 288.0281 | AO31: 289.2882 | AP31: 288.1875 | AQ31: 288.0846 | AR31: 288.6534 | AS31: 288.8561 | AT31: 288.2352 | AU31: 288.0571 | AV31: 287.5388
A32: 2006.4167 | B32: 0.529 | D32: 0.199 | E32: =ROUND($K$2+$K$3*TRUNC(A21),3) -> 0.465 | G32: 289.2364 | H32: 289.4779 | I32: 289.4216 | J32: 290.4604 | K32: 289.2139 | L32: 289.8613 | M32: 289.5049 | N32: 289.4518 | O32: 288.7945 | P32: 289.2256 | Q32: 289.52 | R32: 288.9656 | S32: 288.1876 | T32: 288.2257 | U32: 287.9155 | V32: 289.0382 | W32: 289.1048 | X32: 289.0432 | Y32: 289.3904 | Z32: 290.4456 | AA32: 290.5635 | AB32: 290.8184 | AC32: 290.0381 | AD32: 289.8051 | AE32: 290.0508 | AF32: 290.2884 | AG32: 289.8536 | AH32: 290.0821 | AI32: 288.8661 | AJ32: 289.457 | AK32: 288.9233 | AL32: 288.2139 | AM32: 288.9872 | AN32: 288.9453 | AO32: 290.3286 | AP32: 288.9056 | AQ32: 288.874 | AR32: 289.2216 | AS32: 289.477 | AT32: 289.0432 | AU32: 288.667 | AV32: 288.1787
A33: 2006.5 | B33: 0.433 | D33: 0.188 | E33: =ROUND($L$2+$L$3*TRUNC(A33),3) -> 0.502 | G33: 289.4638 | H33: 289.629 | I33: 289.88 | J33: 290.7275 | K33: 289.7071 | L33: 290.3449 | M33: 289.843 | N33: 289.7174 | O33: 289.2517 | P33: 289.3814 | Q33: 289.4694 | R33: 289.5662 | S33: 288.3098 | T33: 288.6345 | U33: 288.2729 | V33: 289.26 | W33: 289.309 | X33: 289.125 | Y33: 289.5792 | Z33: 290.6461 | AA33: 290.7701 | AB33: 291.0052 | AC33: 290.2536 | AD33: 290.1775 | AE33: 290.209 | AF33: 290.5565 | AG33: 290.0826 | AH33: 290.2655 | AI33: 288.9499 | AJ33: 289.5367 | AK33: 289.1705 | AL33: 288.5899 | AM33: 289.4365 | AN33: 289.284 | AO33: 290.6986 | AP33: 289.2045 | AQ33: 289.3528 | AR33: 289.5228 | AS33: 289.5706 | AT33: 289.3614 | AU33: 289.0098 | AV33: 288.5318
A34: 2006.5833 | B34: 0.595 | D34: 0.186 | E34: =ROUND($M$2+$M$3*TRUNC(A33),3) -> 0.518 | G34: 289.365 | H34: 289.4667 | I34: 289.4583 | J34: 290.4481 | K34: 289.42 | L34: 290.1469 | M34: 289.4745 | N34: 289.4932 | O34: 288.9655 | P34: 289.1616 | Q34: 289.2951 | R34: 289.5826 | S34: 288.0912 | T34: 288.5186 | U34: 288.0457 | V34: 288.9741 | W34: 289.2464 | X34: 288.9781 | Y34: 289.4394 | Z34: 290.5518 | AA34: 290.5481 | AB34: 290.8101 | AC34: 290.0048 | AD34: 290.1162 | AE34: 290.0854 | AF34: 290.3013 | AG34: 290.053 | AH34: 289.9841 | AI34: 288.7151 | AJ34: 289.2525 | AK34: 288.6564 | AL34: 288.4041 | AM34: 289.3736 | AN34: 289.2521 | AO34: 290.4653 | AP34: 289.0403 | AQ34: 288.9928 | AR34: 289.3262 | AS34: 289.2501 | AT34: 289.0426 | AU34: 288.9433 | AV34: 288.5367
A35: 2006.6667 | B35: 0.473 | D35: 0.164 | E35: =ROUND($N$2+$N$3*TRUNC(A33),3) -> 0.449 | G35: 288.6411 | H35: 288.8001 | I35: 288.9308 | J35: 289.7318 | K35: 288.6086 | L35: 289.2856 | M35: 288.8225 | N35: 288.7749 | O35: 288.1577 | P35: 288.1394 | Q35: 288.6503 | R35: 288.4463 | S35: 287.2816 | T35: 287.8303 | U35: 287.1877 | V35: 288.3296 | W35: 288.4327 | X35: 288.2093 | Y35: 288.6495 | Z35: 289.9458 | AA35: 289.9177 | AB35: 290.1602 | AC35: 289.4977 | AD35: 289.5053 | AE35: 289.5234 | AF35: 289.7847 | AG35: 289.4732 | AH35: 289.316 | AI35: 288.0284 | AJ35: 288.6052 | AK35: 287.9358 | AL35: 287.6882 | AM35: 288.5401 | AN35: 288.4561 | AO35: 289.7343 | AP35: 288.1679 | AQ35: 288.1477 | AR35: 288.7563 | AS35: 288.7231 | AT35: 288.2195 | AU35: 288.1656 | AV35: 287.6271
A36: 2006.75 | B36: 0.556 | D36: 0.19 | E36: =ROUND($O$2+$O$3*TRUNC(A33),3) -> 0.52 | G36: 287.7319 | H36: 287.8845 | I36: 288.1046 | J36: 288.8459 | K36: 288.0045 | L36: 288.1732 | M36: 287.7463 | N36: 287.8358 | O36: 286.9994 | P36: 287.1893 | Q36: 287.502 | R36: 287.4208 | S36: 286.4277 | T36: 286.6562 | U36: 285.9341 | V36: 287.5785 | W36: 287.4344 | X36: 287.0815 | Y36: 287.5935 | Z36: 289.0666 | AA36: 289.0461 | AB36: 289.3307 | AC36: 288.5401 | AD36: 288.4799 | AE36: 288.4987 | AF36: 288.8007 | AG36: 288.5844 | AH36: 288.401 | AI36: 287.0645 | AJ36: 287.5658 | AK36: 287.0847 | AL36: 286.3907 | AM36: 287.2378 | AN36: 287.078 | AO36: 288.6884 | AP36: 287.4564 | AQ36: 287.2368 | AR36: 287.7812 | AS36: 287.9126 | AT36: 286.9463 | AU36: 286.9574 | AV36: 286.5742
A37: 2006.8333 | B37: 0.532 | D37: 0.177 | E37: =ROUND($P$2+$P$3*TRUNC(A33),3) -> 0.46 | G37: 286.969 | H37: 287.1295 | I37: 287.2373 | J37: 287.8681 | K37: 287.2841 | L37: 287.1542 | M37: 286.8116 | N37: 286.9628 | O37: 286.1266 | P37: 286.111 | Q37: 286.5374 | R37: 286.3856 | S37: 285.1902 | T37: 285.6277 | U37: 284.8376 | V37: 286.8397 | W37: 286.5794 | X37: 286.1169 | Y37: 286.5235 | Z37: 288.1342 | AA37: 288.2517 | AB37: 288.3983 | AC37: 287.5403 | AD37: 287.4928 | AE37: 287.4107 | AF37: 287.5668 | AG37: 287.247 | AH37: 287.3636 | AI37: 285.9513 | AJ37: 286.3674 | AK37: 286.3201 | AL37: 285.1849 | AM37: 286.0582 | AN37: 285.4904 | AO37: 287.5079 | AP37: 286.5937 | AQ37: 286.5919 | AR37: 286.7038 | AS37: 286.9949 | AT37: 286.1042 | AU37: 286.0287 | AV37: 285.6873
A38: 2006.9167 | B38: 0.689 | D38: 0.252 | E38: =ROUND($Q$2+$Q$3*TRUNC(A33),3) -> 0.525 | G38: 285.987 | H38: 286.3112 | I38: 286.5064 | J38: 287.1718 | K38: 286.5214 | L38: 286.167 | M38: 286.4763 | N38: 286.163 | O38: 285.124 | P38: 285.4623 | Q38: 285.7969 | R38: 285.6743 | S38: 284.5285 | T38: 285.1055 | U38: 284.3414 | V38: 286.2014 | W38: 285.7333 | X38: 285.5355 | Y38: 285.9108 | Z38: 287.5588 | AA38: 287.6762 | AB38: 287.9764 | AC38: 287.0275 | AD38: 286.8366 | AE38: 286.6102 | AF38: 286.8374 | AG38: 286.7549 | AH38: 286.4868 | AI38: 285.0691 | AJ38: 285.4627 | AK38: 285.6339 | AL38: 284.4884 | AM38: 285.4584 | AN38: 284.5758 | AO38: 286.7569 | AP38: 286.2786 | AQ38: 286.2055 | AR38: 286.0916 | AS38: 286.1476 | AT38: 285.374 | AU38: 285.1881 | AV38: 285.2256
A39: 2007 | B39: 0.894 | D39: 0.301 | E39: =ROUND($F$2+$F$3*TRUNC(A33),3) -> 0.568 | G39: 285.7841 | H39: 286.0879 | I39: 286.3441 | J39: 286.8916 | K39: 286.4489 | L39: 285.9926 | M39: 286.2381 | N39: 285.9092 | O39: 285.0675 | P39: 285.2842 | Q39: 285.5632 | R39: 285.3249 | S39: 284.2402 | T39: 285.1162 | U39: 284.4096 | V39: 285.6305 | W39: 285.6438 | X39: 285.472 | Y39: 286.4046 | Z39: 287.6086 | AA39: 287.498 | AB39: 287.7832 | AC39: 287.134 | AD39: 286.6347 | AE39: 286.528 | AF39: 286.6358 | AG39: 286.6145 | AH39: 286.1448 | AI39: 284.8694 | AJ39: 285.277 | AK39: 285.1686 | AL39: 284.5493 | AM39: 285.1692 | AN39: 284.544 | AO39: 286.5225 | AP39: 285.9698 | AQ39: 285.9072 | AR39: 285.7181 | AS39: 285.7952 | AT39: 285.3875 | AU39: 285.1205 | AV39: 284.9141
A40: 2007.0833 | B40: 0.621 | D40: 0.311 | E40: =ROUND($G$2+$G$3*TRUNC(A33),3) -> 0.657 | G40: 286.0029 | H40: 286.2308 | I40: 286.6352 | J40: 287.0715 | K40: 286.2915 | L40: 286.2465 | M40: 286.5767 | N40: 286.502 | O40: 285.3447 | P40: 285.5227 | Q40: 286.1106 | R40: 285.7906 | S40: 284.6669 | T40: 285.5698 | U40: 284.7813 | V40: 285.9988 | W40: 285.7868 | X40: 285.4955 | Y40: 286.6606 | Z40: 287.8824 | AA40: 287.8132 | AB40: 288.246 | AC40: 287.2839 | AD40: 286.9662 | AE40: 286.8746 | AF40: 287.0463 | AG40: 286.8423 | AH40: 286.3474 | AI40: 285.1352 | AJ40: 285.4536 | AK40: 285.2641 | AL40: 284.8301 | AM40: 285.8764 | AN40: 284.9411 | AO40: 286.4503 | AP40: 286.1278 | AQ40: 286.0189 | AR40: 286.0316 | AS40: 286.5042 | AT40: 286.0892 | AU40: 285.2247 | AV40: 285.0727
A41: 2007.1667 | B41: 0.582 | D41: 0.278 | E41: =ROUND($H$2+$H$3*TRUNC(A33),3) -> 0.583 | G41: 286.622 | H41: 286.7949 | I41: 287.2177 | J41: 287.8789 | K41: 286.807 | L41: 286.9525 | M41: 287.226 | N41: 286.9749 | O41: 286.236 | P41: 286.5644 | Q41: 286.7903 | R41: 286.1891 | S41: 285.2722 | T41: 286.1393 | U41: 285.4295 | V41: 286.8538 | W41: 286.4594 | X41: 286.0865 | Y41: 287.4115 | Z41: 288.5995 | AA41: 288.4705 | AB41: 288.6972 | AC41: 288.0468 | AD41: 287.7301 | AE41: 287.6186 | AF41: 287.7468 | AG41: 287.6073 | AH41: 286.92 | AI41: 285.8357 | AJ41: 286.165 | AK41: 286.0377 | AL41: 285.6689 | AM41: 286.3463 | AN41: 285.8395 | AO41: 286.9647 | AP41: 286.6563 | AQ41: 286.533 | AR41: 286.7151 | AS41: 286.9012 | AT41: 286.5716 | AU41: 286.1047 | AV41: 285.7859
A42: 2007.25 | B42: 0.649 | D42: 0.267 | E42: =ROUND($I$2+$I$3*TRUNC(A33),3) -> 0.549 | G42: 287.6609 | H42: 287.6984 | I42: 288.2871 | J42: 288.8351 | K42: 287.5049 | L42: 287.8797 | M42: 288.0103 | N42: 287.886 | O42: 287.2075 | P42: 287.4957 | Q42: 287.8714 | R42: 287.0063 | S42: 286.4644 | T42: 287.0403 | U42: 286.1834 | V42: 287.5928 | W42: 287.3378 | X42: 287.1685 | Y42: 288.2586 | Z42: 289.3362 | AA42: 289.1357 | AB42: 289.4095 | AC42: 289.0506 | AD42: 288.5559 | AE42: 288.4584 | AF42: 288.7556 | AG42: 288.6614 | AH42: 288.0644 | AI42: 286.7448 | AJ42: 287.2864 | AK42: 287.1077 | AL42: 286.5141 | AM42: 287.4343 | AN42: 287.1529 | AO42: 287.9168 | AP42: 287.1908 | AQ42: 287.1596 | AR42: 287.9651 | AS42: 288.0629 | AT42: 287.2849 | AU42: 287.0204 | AV42: 286.4909
A43: 2007.3333 | B43: 0.539 | D43: 0.2 | E43: =ROUND($J$2+$J$3*TRUNC(A33),3) -> 0.443 | G43: 288.5837 | H43: 288.7305 | I43: 289.2001 | J43: 289.7669 | K43: 288.3867 | L43: 288.821 | M43: 288.9584 | N43: 288.6372 | O43: 288.1744 | P43: 288.5952 | Q43: 288.9741 | R43: 287.8485 | S43: 287.5067 | T43: 287.7077 | U43: 287.0631 | V43: 288.2806 | W43: 288.2101 | X43: 288.2321 | Y43: 289.089 | Z43: 290.073 | AA43: 289.9373 | AB43: 290.2844 | AC43: 289.5771 | AD43: 289.409 | AE43: 289.2704 | AF43: 289.6282 | AG43: 289.4419 | AH43: 289.1837 | AI43: 287.9525 | AJ43: 288.4489 | AK43: 288.1382 | AL43: 287.2994 | AM43: 288.1931 | AN43: 288.0765 | AO43: 289.1677 | AP43: 288.1445 | AQ43: 288.3146 | AR43: 288.7838 | AS43: 288.9038 | AT43: 288.0885 | AU43: 287.8607 | AV43: 287.4526
A44: 2007.4167 | B44: 0.476 | D44: 0.199 | E44: =ROUND($K$2+$K$3*TRUNC(A33),3) -> 0.482 | G44: 289.3703 | H44: 289.3367 | I44: 289.6273 | J44: 290.4485 | K44: 288.9409 | L44: 289.5328 | M44: 289.6273 | N44: 289.3838 | O44: 288.7478 | P44: 289.4159 | Q44: 289.5775 | R44: 288.8804 | S44: 288.25 | T44: 288.3052 | U44: 287.8648 | V44: 289.0121 | W44: 288.7394 | X44: 288.8646 | Y44: 289.6558 | Z44: 290.5763 | AA44: 290.5174 | AB44: 290.9225 | AC44: 289.9874 | AD44: 289.8448 | AE44: 289.8434 | AF44: 290.0292 | AG44: 290.0178 | AH44: 289.8387 | AI44: 288.9473 | AJ44: 289.1984 | AK44: 288.9087 | AL44: 288.2615 | AM44: 288.9442 | AN44: 289.007 | AO44: 290.1951 | AP44: 289.1006 | AQ44: 289.0609 | AR44: 289.3037 | AS44: 289.457 | AT44: 288.8445 | AU44: 288.4174 | AV44: 288.0213
A45: 2007.5 | B45: 0.5 | D45: 0.188 | E45: =ROUND($L$2+$L$3*TRUNC(A45),3) -> 0.52 | G45: 289.5637 | H45: 289.6815 | I45: 289.8212 | J45: 290.7571 | K45: 289.1683 | L45: 289.8483 | M45: 289.9124 | N45: 289.7221 | O45: 289.037 | P45: 289.3948 | Q45: 289.7834 | R45: 289.4981 | S45: 288.3904 | T45: 288.638 | U45: 288.2246 | V45: 289.1827 | W45: 289.1491 | X45: 289.2108 | Y45: 289.7807 | Z45: 290.8082 | AA45: 290.6716 | AB45: 291.0448 | AC45: 290.1312 | AD45: 290.1053 | AE45: 290.2224 | AF45: 290.3839 | AG45: 290.2251 | AH45: 289.957 | AI45: 289.0914 | AJ45: 289.4633 | AK45: 289.082 | AL45: 288.5979 | AM45: 289.3035 | AN45: 289.3335 | AO45: 290.6493 | AP45: 289.3095 | AQ45: 289.2661 | AR45: 289.4901 | AS45: 289.7646 | AT45: 289.2475 | AU45: 288.9752 | AV45: 288.4739
A46: 2007.5833 | B46: 0.451 | D46: 0.186 | E46: =ROUND($M$2+$M$3*TRUNC(A45),3) -> 0.537 | G46: 289.4688 | H46: 289.6478 | I46: 289.6601 | J46: 290.5632 | K46: 289.1457 | L46: 289.6726 | M46: 289.473 | N46: 289.4937 | O46: 288.7972 | P46: 289.0956 | Q46: 289.4722 | R46: 289.3181 | S46: 288.2302 | T46: 288.5467 | U46: 287.8918 | V46: 289.0338 | W46: 289.2057 | X46: 289.0816 | Y46: 289.3937 | Z46: 290.5534 | AA46: 290.5003 | AB46: 290.888 | AC46: 289.9062 | AD46: 290.0831 | AE46: 290.0995 | AF46: 290.4127 | AG46: 290.1425 | AH46: 289.8161 | AI46: 288.9459 | AJ46: 289.2276 | AK46: 288.6571 | AL46: 288.4463 | AM46: 289.2428 | AN46: 289.3458 | AO46: 290.4021 | AP46: 288.9178 | AQ46: 288.967 | AR46: 289.4821 | AS46: 289.6967 | AT46: 289.0739 | AU46: 288.7503 | AV46: 288.4857
A47: 2007.6667 | B47: 0.425 | D47: 0.164 | E47: =ROUND($N$2+$N$3*TRUNC(A45),3) -> 0.465 | G47: 288.5387 | H47: 288.8931 | I47: 288.993 | J47: 289.7727 | K47: 288.3291 | L47: 288.8387 | M47: 288.7005 | N47: 288.661 | O47: 288.1859 | P47: 288.3454 | Q47: 288.6934 | R47: 288.4464 | S47: 287.3862 | T47: 287.6133 | U47: 287.0761 | V47: 288.5268 | W47: 288.4842 | X47: 288.2486 | Y47: 288.5224 | Z47: 289.9799 | AA47: 289.8478 | AB47: 290.2222 | AC47: 289.3282 | AD47: 289.5065 | AE47: 289.5885 | AF47: 289.8151 | AG47: 289.5283 | AH47: 289.1356 | AI47: 288.1979 | AJ47: 288.5535 | AK47: 287.9595 | AL47: 287.7118 | AM47: 288.4415 | AN47: 288.4831 | AO47: 289.6941 | AP47: 288.1151 | AQ47: 288.0025 | AR47: 288.8215 | AS47: 289.1003 | AT47: 288.0582 | AU47: 287.9384 | AV47: 287.7682
A48: 2007.75 | B48: 0.488 | D48: 0.19 | E48: =ROUND($O$2+$O$3*TRUNC(A45),3) -> 0.539 | G48: 287.6534 | H48: 288.0251 | I48: 288.2945 | J48: 289.1172 | K48: 287.3191 | L48: 287.8518 | M48: 287.9215 | N48: 287.772 | O48: 286.9865 | P48: 287.1908 | Q48: 287.628 | R48: 287.4475 | S48: 286.342 | T48: 286.7918 | U48: 286.0495 | V48: 287.6298 | W48: 287.2737 | X48: 287.2206 | Y48: 287.4931 | Z48: 289.0825 | AA48: 289.0006 | AB48: 289.2113 | AC48: 288.329 | AD48: 288.4365 | AE48: 288.597 | AF48: 288.775 | AG48: 288.537 | AH48: 288.1997 | AI48: 287.1955 | AJ48: 287.4823 | AK48: 287.1276 | AL48: 286.3524 | AM48: 287.2177 | AN48: 286.9908 | AO48: 288.4868 | AP48: 287.2883 | AQ48: 287.1305 | AR48: 287.8442 | AS48: 288.0639 | AT48: 286.8702 | AU48: 286.924 | AV48: 286.8288
A49: 2007.8333 | B49: 0.435 | D49: 0.177 | E49: =ROUND($P$2+$P$3*TRUNC(A45),3) -> 0.476 | G49: 286.8742 | H49: 286.9578 | I49: 287.5626 | J49: 288.1367 | K49: 286.4785 | L49: 286.8002 | M49: 286.7267 | N49: 286.8883 | O49: 285.863 | P49: 286.2116 | Q49: 286.5437 | R49: 286.2991 | S49: 285.3565 | T49: 285.6974 | U49: 284.9848 | V49: 286.6048 | W49: 286.1545 | X49: 286.2887 | Y49: 286.442 | Z49: 288.1425 | AA49: 288.0672 | AB49: 288.4397 | AC49: 287.4054 | AD49: 287.3943 | AE49: 287.5233 | AF49: 287.8596 | AG49: 287.4104 | AH49: 287.1243 | AI49: 285.9854 | AJ49: 286.4724 | AK49: 286.2011 | AL49: 285.1126 | AM49: 285.9767 | AN49: 285.6741 | AO49: 287.223 | AP49: 286.6484 | AQ49: 286.7509 | AR49: 286.8055 | AS49: 286.9572 | AT49: 285.9255 | AU49: 285.9429 | AV49: 285.6438
A50: 2007.9167 | B50: 0.388 | D50: 0.252 | E50: =ROUND($Q$2+$Q$3*TRUNC(A45),3) -> 0.54 | G50: 285.9543 | H50: 286.2369 | I50: 286.8384 | J50: 287.4393 | K50: 286.0103 | L50: 285.8951 | M50: 286.5649 | N50: 286.2472 | O50: 285.2225 | P50: 285.4136 | Q50: 285.9207 | R50: 285.5361 | S50: 284.6466 | T50: 284.9828 | U50: 284.1649 | V50: 285.8694 | W50: 285.6404 | X50: 285.5373 | Y50: 286.013 | Z50: 287.4445 | AA50: 287.4277 | AB50: 287.8156 | AC50: 286.9604 | AD50: 286.7339 | AE50: 286.7775 | AF50: 286.8749 | AG50: 286.5883 | AH50: 286.2324 | AI50: 285.0972 | AJ50: 285.562 | AK50: 285.5428 | AL50: 284.4561 | AM50: 285.3346 | AN50: 284.7537 | AO50: 286.643 | AP50: 286.121 | AQ50: 285.9896 | AR50: 285.9028 | AS50: 286.3225 | AT50: 285.3527 | AU50: 285.3283 | AV50: 285.1064
A51: 2008 | B51: 0.212 | D51: 0.301 | E51: =ROUND($F$2+$F$3*TRUNC(A45),3) -> 0.584 | G51: 285.7683 | H51: 286.102 | I51: 286.4785 | J51: 287.1282 | K51: 285.9489 | L51: 285.9082 | M51: 286.0054 | N51: 286.0048 | O51: 285.0838 | P51: 285.1028 | Q51: 285.6816 | R51: 285.4506 | S51: 284.4297 | T51: 285.0006 | U51: 284.1032 | V51: 285.6833 | W51: 285.5993 | X51: 285.513 | Y51: 285.9753 | Z51: 287.3305 | AA51: 287.3811 | AB51: 287.8546 | AC51: 286.9327 | AD51: 286.3682 | AE51: 286.7992 | AF51: 286.7007 | AG51: 286.6994 | AH51: 285.6563 | AI51: 284.9012 | AJ51: 285.2494 | AK51: 285.4252 | AL51: 284.4567 | AM51: 285.2842 | AN51: 284.5463 | AO51: 286.2835 | AP51: 285.9374 | AQ51: 285.9977 | AR51: 285.7724 | AS51: 285.9879 | AT51: 285.6519 | AU51: 285.1584 | AV51: 285.1908
A52: 2008.0833 | B52: 0.278 | D52: 0.311 | E52: =ROUND($G$2+$G$3*TRUNC(A45),3) -> 0.678 | G52: 285.9915 | H52: 286.3371 | I52: 286.8409 | J52: 287.5682 | K52: 286.3319 | L52: 285.9243 | M52: 286.1036 | N52: 286.2248 | O52: 285.4864 | P52: 285.5397 | Q52: 285.897 | R52: 285.8029 | S52: 284.7005 | T52: 285.4355 | U52: 284.3784 | V52: 285.62 | W52: 285.7126 | X52: 285.8755 | Y52: 286.0653 | Z52: 287.8424 | AA52: 287.8419 | AB52: 288.1631 | AC52: 287.2088 | AD52: 286.8529 | AE52: 287.005 | AF52: 286.8016 | AG52: 286.7794 | AH52: 286.2711 | AI52: 285.3548 | AJ52: 285.5046 | AK52: 285.4183 | AL52: 285.1694 | AM52: 285.7094 | AN52: 285.114 | AO52: 286.5615 | AP52: 285.9285 | AQ52: 286.31 | AR52: 286.0344 | AS52: 286.5041 | AT52: 286.0999 | AU52: 285.4238 | AV52: 285.3522
A53: 2008.1667 | B53: 0.648 | D53: 0.278 | E53: =ROUND($H$2+$H$3*TRUNC(A45),3) -> 0.602 | G53: 286.6014 | H53: 287.0479 | I53: 287.5104 | J53: 288.2373 | K53: 286.2935 | L53: 286.7528 | M53: 286.8531 | N53: 286.9668 | O53: 286.3227 | P53: 286.2629 | Q53: 286.9152 | R53: 286.4411 | S53: 285.4824 | T53: 285.9382 | U53: 285.1975 | V53: 286.2936 | W53: 286.4963 | X53: 286.512 | Y53: 286.7539 | Z53: 288.4497 | AA53: 288.3236 | AB53: 288.7294 | AC53: 287.9198 | AD53: 287.5735 | AE53: 287.7546 | AF53: 287.8216 | AG53: 287.4347 | AH53: 286.9182 | AI53: 285.7994 | AJ53: 286.2137 | AK53: 285.9615 | AL53: 285.6414 | AM53: 286.3688 | AN53: 286.0535 | AO53: 286.9204 | AP53: 286.5097 | AQ53: 286.7043 | AR53: 286.9978 | AS53: 287.3136 | AT53: 286.7279 | AU53: 286.0421 | AV53: 285.7702
A54: 2008.25 | B54: 0.461 | D54: 0.267 | E54: =ROUND($I$2+$I$3*TRUNC(A45),3) -> 0.566 | G54: 287.5801 | H54: 287.8671 | I54: 288.2183 | J54: 289.2353 | K54: 287.1185 | L54: 287.6599 | M54: 287.7399 | N54: 287.9043 | O54: 287.0992 | P54: 287.5149 | Q54: 287.7549 | R54: 287.287 | S54: 286.6475 | T54: 286.7351 | U54: 286.1563 | V54: 287.1718 | W54: 287.0651 | X54: 287.5084 | Y54: 287.6362 | Z54: 289.348 | AA54: 289.245 | AB54: 289.6193 | AC54: 288.6068 | AD54: 288.5129 | AE54: 288.5966 | AF54: 288.7345 | AG54: 288.4375 | AH54: 287.8747 | AI54: 287.0413 | AJ54: 287.3357 | AK54: 287.0175 | AL54: 286.6023 | AM54: 287.2431 | AN54: 287.1698 | AO54: 288.0544 | AP54: 287.332 | AQ54: 287.4884 | AR54: 287.7707 | AS54: 288.3065 | AT54: 287.3369 | AU54: 287.1257 | AV54: 286.5609
A55: 2008.3333 | B55: 0.401 | D55: 0.2 | E55: =ROUND($J$2+$J$3*TRUNC(A45),3) -> 0.458 | G55: 288.5898 | H55: 288.8516 | I55: 289.2046 | J55: 290.0077 | K55: 288.1506 | L55: 288.7265 | M55: 288.5803 | N55: 288.5767 | O55: 288.0181 | P55: 288.4579 | Q55: 288.8125 | R55: 288.38 | S55: 287.6873 | T55: 287.4464 | U55: 286.9837 | V55: 288.1823 | W55: 287.9115 | X55: 288.3906 | Y55: 288.4933 | Z55: 289.9692 | AA55: 289.9139 | AB55: 290.3413 | AC55: 289.3667 | AD55: 289.1864 | AE55: 289.4503 | AF55: 289.5949 | AG55: 289.2836 | AH55: 289.1218 | AI55: 288.0552 | AJ55: 288.532 | AK55: 288.3015 | AL55: 287.4756 | AM55: 288.2328 | AN55: 288.2559 | AO55: 289.1955 | AP55: 288.2483 | AQ55: 288.4359 | AR55: 288.6713 | AS55: 289.1766 | AT55: 288.2585 | AU55: 287.8914 | AV55: 287.5606
A56: 2008.4167 | B56: 0.392 | D56: 0.199 | E56: =ROUND($K$2+$K$3*TRUNC(A45),3) -> 0.499 | G56: 289.4658 | H56: 289.7366 | I56: 289.7805 | J56: 290.5227 | K56: 288.8724 | L56: 289.5671 | M56: 289.2505 | N56: 289.3578 | O56: 288.6978 | P56: 289.2453 | Q56: 289.3126 | R56: 289.4108 | S56: 288.3682 | T56: 288.1851 | U56: 287.8784 | V56: 288.8248 | W56: 288.8126 | X56: 289.0594 | Y56: 289.054 | Z56: 290.4937 | AA56: 290.5989 | AB56: 290.8291 | AC56: 289.9165 | AD56: 289.8434 | AE56: 289.8708 | AF56: 290.0578 | AG56: 289.7238 | AH56: 289.9367 | AI56: 288.9789 | AJ56: 289.2574 | AK56: 288.9611 | AL56: 288.2947 | AM56: 289.1082 | AN56: 289.0904 | AO56: 290.1353 | AP56: 288.9922 | AQ56: 289.0739 | AR56: 289.2855 | AS56: 289.6748 | AT56: 289.0601 | AU56: 288.5081 | AV56: 288.1942
A57: 2008.5 | B57: 0.473 | D57: 0.188 | E57: =ROUND($L$2+$L$3*TRUNC(A57),3) -> 0.537 | G57: 289.6385 | H57: 289.9119 | I57: 289.9758 | J57: 290.6575 | K57: 289.402 | L57: 289.9797 | M57: 289.7106 | N57: 289.7282 | O57: 289.1696 | P57: 289.3287 | Q57: 289.3183 | R57: 289.8716 | S57: 288.6338 | T57: 288.5914 | U57: 288.1959 | V57: 288.9443 | W57: 289.3413 | X57: 289.2334 | Y57: 289.3721 | Z57: 290.6963 | AA57: 290.7453 | AB57: 291.057 | AC57: 290.2764 | AD57: 290.0585 | AE57: 290.2251 | AF57: 290.3827 | AG57: 290.0441 | AH57: 290.0363 | AI57: 289.1701 | AJ57: 289.4948 | AK57: 289.1499 | AL57: 288.6507 | AM57: 289.5046 | AN57: 289.6233 | AO57: 290.5746 | AP57: 289.2434 | AQ57: 289.3454 | AR57: 289.5057 | AS57: 289.9804 | AT57: 289.4434 | AU57: 288.987 | AV57: 288.4644
A58: 2008.5833 | B58: 0.39 | D58: 0.186 | E58: =ROUND($M$2+$M$3*TRUNC(A57),3) -> 0.556 | G58: 289.2811 | H58: 289.744 | I58: 289.8302 | J58: 290.4136 | K58: 289.2795 | L58: 289.7019 | M58: 289.5328 | N58: 289.5055 | O58: 288.8522 | P58: 289.1639 | Q58: 289.291 | R58: 289.7289 | S58: 288.1924 | T58: 288.2353 | U58: 288.0162 | V58: 288.808 | W58: 289.3361 | X58: 289.0953 | Y58: 289.2826 | Z58: 290.476 | AA58: 290.5472 | AB58: 290.8795 | AC58: 289.9895 | AD58: 290.0949 | AE58: 290.0685 | AF58: 290.3133 | AG58: 290.0703 | AH58: 289.837 | AI58: 288.8992 | AJ58: 289.1376 | AK58: 288.812 | AL58: 288.5797 | AM58: 289.4817 | AN58: 289.5512 | AO58: 290.4075 | AP58: 288.8718 | AQ58: 289.1104 | AR58: 289.4689 | AS58: 289.6736 | AT58: 288.981 | AU58: 288.7394 | AV58: 288.4073
A59: 2008.6667 | B59: 0.439 | D59: 0.164 | E59: =ROUND($N$2+$N$3*TRUNC(A57),3) -> 0.482 | G59: 288.5257 | H59: 289.1086 | I59: 289.1045 | J59: 289.537 | K59: 288.4995 | L59: 288.7692 | M59: 288.791 | N59: 288.829 | O59: 288.2364 | P59: 288.2921 | Q59: 288.454 | R59: 288.5281 | S59: 287.373 | T59: 287.5089 | U59: 287.2344 | V59: 288.1996 | W59: 288.6975 | X59: 288.3113 | Y59: 288.4521 | Z59: 289.8846 | AA59: 289.9456 | AB59: 290.311 | AC59: 289.3389 | AD59: 289.4717 | AE59: 289.455 | AF59: 289.7839 | AG59: 289.5025 | AH59: 289.1529 | AI59: 288.0277 | AJ59: 288.6555 | AK59: 287.9733 | AL59: 287.7968 | AM59: 288.7053 | AN59: 288.7003 | AO59: 289.5924 | AP59: 288.1743 | AQ59: 288.3942 | AR59: 288.8376 | AS59: 289.0581 | AT59: 288.1071 | AU59: 287.9515 | AV59: 287.6185
A60: 2008.75 | B60: 0.559 | D60: 0.19 | E60: =ROUND($O$2+$O$3*TRUNC(A57),3) -> 0.558 | G60: 287.6973 | H60: 288.2096 | I60: 288.3669 | J60: 288.6312 | K60: 287.6449 | L60: 287.9361 | M60: 287.7996 | N60: 287.7877 | O60: 287.1897 | P60: 287.2462 | Q60: 287.3051 | R60: 287.6121 | S60: 286.2277 | T60: 286.6017 | U60: 286.1888 | V60: 287.4034 | W60: 287.6596 | X60: 287.1867 | Y60: 287.4413 | Z60: 289.1417 | AA60: 289.0392 | AB60: 289.3233 | AC60: 288.4874 | AD60: 288.5396 | AE60: 288.4003 | AF60: 288.8824 | AG60: 288.5971 | AH60: 288.1662 | AI60: 286.811 | AJ60: 287.6498 | AK60: 287.0448 | AL60: 286.615 | AM60: 287.5409 | AN60: 287.2034 | AO60: 288.5013 | AP60: 287.1801 | AQ60: 287.4638 | AR60: 287.7755 | AS60: 288.1379 | AT60: 286.9308 | AU60: 287.0779 | AV60: 286.5834
A61: 2008.8333 | B61: 0.529 | D61: 0.177 | E61: =ROUND($P$2+$P$3*TRUNC(A57),3) -> 0.492 | G61: 286.76 | H61: 287.362 | I61: 287.5288 | J61: 287.8199 | K61: 286.8135 | L61: 286.8729 | M61: 286.7014 | N61: 286.7719 | O61: 286.1945 | P61: 286.1031 | Q61: 286.2355 | R61: 286.5298 | S61: 285.4966 | T61: 285.6593 | U61: 284.9738 | V61: 286.2913 | W61: 286.4978 | X61: 286.2999 | Y61: 286.4933 | Z61: 288.0828 | AA61: 288.1067 | AB61: 288.4025 | AC61: 287.6795 | AD61: 287.5078 | AE61: 287.3563 | AF61: 287.584 | AG61: 287.5247 | AH61: 286.9842 | AI61: 285.8692 | AJ61: 286.4329 | AK61: 286.225 | AL61: 285.3802 | AM61: 286.4044 | AN61: 285.667 | AO61: 287.3492 | AP61: 286.5478 | AQ61: 286.7765 | AR61: 286.8947 | AS61: 287.1537 | AT61: 285.9504 | AU61: 285.9019 | AV61: 285.7495
A62: 2008.9167 | B62: 0.429 | D62: 0.252 | E62: =ROUND($Q$2+$Q$3*TRUNC(A57),3) -> 0.555 | G62: 285.8905 | H62: 286.5706 | I62: 286.823 | J62: 287.0357 | K62: 286.3368 | L62: 286.1208 | M62: 285.9475 | N62: 286.2045 | O62: 285.2017 | P62: 285.3981 | Q62: 285.7284 | R62: 285.6222 | S62: 284.5518 | T62: 285.0197 | U62: 284.3232 | V62: 285.915 | W62: 285.9584 | X62: 285.766 | Y62: 286.0035 | Z62: 287.5846 | AA62: 287.5493 | AB62: 287.955 | AC62: 287.1877 | AD62: 286.7935 | AE62: 286.6093 | AF62: 286.7819 | AG62: 286.8792 | AH62: 286.2217 | AI62: 284.8698 | AJ62: 285.5319 | AK62: 285.4156 | AL62: 284.7149 | AM62: 285.6247 | AN62: 284.6449 | AO62: 286.6113 | AP62: 286.1921 | AQ62: 286.2236 | AR62: 286.2206 | AS62: 286.3917 | AT62: 285.2833 | AU62: 285.3066 | AV62: 284.9513
A63: 2009 | B63: 0.571 | D63: 0.301 | E63: =ROUND($F$2+$F$3*TRUNC(A57),3) -> 0.6 | G63: 285.7179 | H63: 286.3934 | I63: 286.4864 | J63: 286.874 | K63: 286.1456 | L63: 286.0539 | M63: 285.8516 | N63: 286.2696 | O63: 284.9333 | P63: 285.1496 | Q63: 285.5997 | R63: 285.6683 | S63: 284.2604 | T63: 285.1799 | U63: 284.3732 | V63: 285.4634 | W63: 286.0461 | X63: 285.554 | Y63: 286.0847 | Z63: 287.4508 | AA63: 287.3752 | AB63: 287.7282 | AC63: 287.2965 | AD63: 286.5052 | AE63: 286.4822 | AF63: 286.5061 | AG63: 286.619 | AH63: 285.929 | AI63: 284.7838 | AJ63: 285.3999 | AK63: 285.233 | AL63: 284.5514 | AM63: 285.6939 | AN63: 284.5763 | AO63: 286.3721 | AP63: 285.7606 | AQ63: 286.1159 | AR63: 285.8613 | AS63: 286.0801 | AT63: 285.6491 | AU63: 285.0518 | AV63: 284.9076
A64: 2009.0833 | B64: 0.482 | D64: 0.311 | E64: =ROUND($G$2+$G$3*TRUNC(A57),3) -> 0.699 | G64: 286.0544 | H64: 286.705 | I64: 286.784 | J64: 287.3013 | K64: 286.248 | L64: 286.3817 | M64: 286.1743 | N64: 286.5183 | O64: 285.5514 | P64: 285.6083 | Q64: 285.9505 | R64: 285.7191 | S64: 284.6613 | T64: 285.2438 | U64: 284.5321 | V64: 285.8032 | W64: 286.2451 | X64: 285.9428 | Y64: 286.4004 | Z64: 287.6874 | AA64: 287.7839 | AB64: 288.0756 | AC64: 287.5332 | AD64: 286.9797 | AE64: 286.7445 | AF64: 286.9583 | AG64: 286.7488 | AH64: 286.1249 | AI64: 284.8856 | AJ64: 285.73 | AK64: 285.3393 | AL64: 284.9597 | AM64: 286.0836 | AN64: 285.0434 | AO64: 286.4875 | AP64: 285.9099 | AQ64: 286.2725 | AR64: 286.3299 | AS64: 286.634 | AT64: 285.9637 | AU64: 285.3248 | AV64: 285.1099
A65: 2009.1667 | B65: 0.462 | D65: 0.278 | E65: =ROUND($H$2+$H$3*TRUNC(A57),3) -> 0.62 | G65: 286.5236 | H65: 287.1208 | I65: 287.6146 | J65: 288.0096 | K65: 286.4905 | L65: 286.956 | M65: 286.8418 | N65: 287.0241 | O65: 286.2079 | P65: 286.346 | Q65: 286.6942 | R65: 286.4029 | S65: 285.4386 | T65: 285.8594 | U65: 285.3092 | V65: 286.1088 | W65: 286.5616 | X65: 286.6418 | Y65: 286.8644 | Z65: 288.2906 | AA65: 288.4386 | AB65: 288.9669 | AC65: 288.1042 | AD65: 287.4926 | AE65: 287.5522 | AF65: 287.6647 | AG65: 287.6552 | AH65: 286.9928 | AI65: 285.6106 | AJ65: 286.3419 | AK65: 286.1575 | AL65: 285.797 | AM65: 286.7205 | AN65: 285.8309 | AO65: 287.0535 | AP65: 286.3659 | AQ65: 286.469 | AR65: 287.1005 | AS65: 287.2786 | AT65: 286.3577 | AU65: 286.0623 | AV65: 285.8467
A66: 2009.25 | B66: 0.539 | D66: 0.267 | E66: =ROUND($I$2+$I$3*TRUNC(A57),3) -> 0.583 | G66: 287.5473 | H66: 288.0425 | I66: 288.3717 | J66: 288.884 | K66: 287.2966 | L66: 287.8387 | M66: 287.5193 | N66: 287.759 | O66: 287.4235 | P66: 287.4417 | Q66: 287.8688 | R66: 287.2373 | S66: 286.6272 | T66: 286.6926 | U66: 285.9964 | V66: 287.0889 | W66: 287.3616 | X66: 287.513 | Y66: 287.8869 | Z66: 289.2249 | AA66: 289.2959 | AB66: 289.649 | AC66: 288.9357 | AD66: 288.4206 | AE66: 288.4393 | AF66: 288.734 | AG66: 288.5851 | AH66: 288.0846 | AI66: 286.7804 | AJ66: 287.5538 | AK66: 286.9475 | AL66: 286.6893 | AM66: 287.588 | AN66: 286.9073 | AO66: 288.1765 | AP66: 287.1136 | AQ66: 287.2198 | AR66: 287.9427 | AS66: 288.1533 | AT66: 287.4221 | AU66: 287.0052 | AV66: 286.7352
A67: 2009.3333 | B67: 0.502 | D67: 0.2 | E67: =ROUND($J$2+$J$3*TRUNC(A57),3) -> 0.473 | G67: 288.6698 | H67: 289.0145 | I67: 289.2204 | J67: 289.765 | K67: 288.2222 | L67: 288.8723 | M67: 288.4695 | N67: 288.7012 | O67: 288.2602 | P67: 288.508 | Q67: 288.8659 | R67: 288.1965 | S67: 287.595 | T67: 287.5567 | U67: 287.0681 | V67: 288.1819 | W67: 288.2096 | X67: 288.5415 | Y67: 288.7642 | Z67: 289.9266 | AA67: 290.0834 | AB67: 290.3629 | AC67: 289.6983 | AD67: 289.2581 | AE67: 289.2513 | AF67: 289.5893 | AG67: 289.3711 | AH67: 289.1422 | AI67: 288.1325 | AJ67: 288.7066 | AK67: 288.0996 | AL67: 287.52 | AM67: 288.5514 | AN67: 288.1339 | AO67: 289.2419 | AP67: 288.0708 | AQ67: 288.2618 | AR67: 288.7213 | AS67: 288.9934 | AT67: 288.1799 | AU67: 287.8792 | AV67: 287.5303
A68: 2009.4167 | B68: 0.584 | D68: 0.199 | E68: =ROUND($K$2+$K$3*TRUNC(A57),3) -> 0.517 | G68: 289.4598 | H68: 289.6866 | I68: 289.8328 | J68: 290.4663 | K68: 288.9129 | L68: 289.7117 | M68: 289.3307 | N68: 289.432 | O68: 288.99 | P68: 289.1524 | Q68: 289.3996 | R68: 289.0911 | S68: 288.3108 | T68: 288.2823 | U68: 287.8376 | V68: 288.9093 | W68: 289.0609 | X68: 289.0898 | Y68: 289.4316 | Z68: 290.5444 | AA68: 290.5118 | AB68: 290.8874 | AC68: 290.1829 | AD68: 289.7011 | AE68: 289.7056 | AF68: 290.1238 | AG68: 289.89 | AH68: 290.0373 | AI68: 288.9446 | AJ68: 289.3323 | AK68: 288.9425 | AL68: 288.2081 | AM68: 289.2411 | AN68: 288.8997 | AO68: 290.412 | AP68: 288.8135 | AQ68: 288.9438 | AR68: 289.1873 | AS68: 289.5317 | AT68: 289.011 | AU68: 288.5377 | AV68: 288.2229
A69: 2009.5 | B69: 0.617 | D69: 0.188 | E69: =ROUND($L$2+$L$3*TRUNC(A69),3) -> 0.555 | G69: 289.5988 | H69: 289.9116 | I69: 290.0966 | J69: 290.7984 | K69: 289.2115 | L69: 290.1668 | M69: 289.7787 | N69: 289.8496 | O69: 289.386 | P69: 289.5263 | Q69: 289.5647 | R69: 289.61 | S69: 288.4287 | T69: 288.5537 | U69: 288.2375 | V69: 289.2473 | W69: 289.5055 | X69: 289.0604 | Y69: 289.6741 | Z69: 290.6838 | AA69: 290.8222 | AB69: 291.0054 | AC69: 290.4247 | AD69: 290.0857 | AE69: 290.1397 | AF69: 290.3902 | AG69: 290.2781 | AH69: 290.2563 | AI69: 289.1194 | AJ69: 289.532 | AK69: 289.0896 | AL69: 288.7676 | AM69: 289.582 | AN69: 289.3864 | AO69: 290.8372 | AP69: 289.1944 | AQ69: 289.459 | AR69: 289.4613 | AS69: 289.6008 | AT69: 289.3163 | AU69: 288.7765 | AV69: 288.6024
A70: 2009.5833 | B70: 0.555 | D70: 0.186 | E70: =ROUND($M$2+$M$3*TRUNC(A69),3) -> 0.575 | G70: 289.4088 | H70: 289.7758 | I70: 289.7184 | J70: 290.502 | K70: 289.1954 | L70: 289.992 | M70: 289.4347 | N70: 289.6479 | O70: 289.1547 | P70: 289.1861 | Q70: 289.3864 | R70: 289.5266 | S70: 288.1638 | T70: 288.2992 | U70: 288.0983 | V70: 289.0829 | W70: 289.43 | X70: 288.8926 | Y70: 289.3513 | Z70: 290.5061 | AA70: 290.5894 | AB70: 290.8392 | AC70: 290.1594 | AD70: 290.1138 | AE70: 290.0543 | AF70: 290.3244 | AG70: 290.0898 | AH70: 289.9881 | AI70: 288.7875 | AJ70: 289.4212 | AK70: 288.7143 | AL70: 288.5503 | AM70: 289.4139 | AN70: 289.4433 | AO70: 290.6077 | AP70: 288.8991 | AQ70: 289.0779 | AR70: 289.3951 | AS70: 289.4292 | AT70: 289.0898 | AU70: 288.7928 | AV70: 288.4897
A71: 2009.6667 | B71: 0.556 | D71: 0.164 | E71: =ROUND($N$2+$N$3*TRUNC(A69),3) -> 0.498 | G71: 288.6371 | H71: 289.0347 | I71: 288.9806 | J71: 289.7216 | K71: 288.3583 | L71: 289.0782 | M71: 288.7953 | N71: 288.9923 | O71: 288.451 | P71: 288.3115 | Q71: 288.4572 | R71: 288.6019 | S71: 287.3644 | T71: 287.6053 | U71: 287.1692 | V71: 288.5095 | W71: 288.7562 | X71: 288.2958 | Y71: 288.6454 | Z71: 289.8697 | AA71: 290.0082 | AB71: 290.1713 | AC71: 289.5442 | AD71: 289.4346 | AE71: 289.4145 | AF71: 289.6412 | AG71: 289.5785 | AH71: 289.3331 | AI71: 288.319 | AJ71: 288.5472 | AK71: 287.9282 | AL71: 287.8631 | AM71: 288.6087 | AN71: 288.6192 | AO71: 289.8525 | AP71: 288.2052 | AQ71: 288.1837 | AR71: 288.7721 | AS71: 288.8871 | AT71: 288.4468 | AU71: 288.0252 | AV71: 287.8477
A72: 2009.75 | B72: 0.525 | D72: 0.19 | E72: =ROUND($O$2+$O$3*TRUNC(A69),3) -> 0.576 | G72: 287.7798 | H72: 288.1013 | I72: 288.1633 | J72: 288.8194 | K72: 287.6648 | L72: 287.8565 | M72: 287.8554 | N72: 287.9116 | O72: 287.344 | P72: 287.209 | Q72: 287.6708 | R72: 287.4672 | S72: 286.3577 | T72: 286.7382 | U72: 286.2097 | V72: 287.6861 | W72: 287.6689 | X72: 287.1743 | Y72: 287.6264 | Z72: 288.9245 | AA72: 289.1439 | AB72: 289.1334 | AC72: 288.7448 | AD72: 288.5669 | AE72: 288.4769 | AF72: 288.683 | AG72: 288.669 | AH72: 288.3445 | AI72: 287.1683 | AJ72: 287.6246 | AK72: 287.1078 | AL72: 286.5598 | AM72: 287.4096 | AN72: 287.0361 | AO72: 288.657 | AP72: 287.3066 | AQ72: 287.3859 | AR72: 287.7166 | AS72: 288.1396 | AT72: 287.1258 | AU72: 286.9344 | AV72: 286.6906
A73: 2009.8333 | B73: 0.583 | D73: 0.177 | E73: =ROUND($P$2+$P$3*TRUNC(A69),3) -> 0.508 | G73: 287.0435 | H73: 287.2102 | I73: 287.3513 | J73: 287.9582 | K73: 286.7868 | L73: 287.1768 | M73: 287.0512 | N73: 287.0265 | O73: 286.161 | P73: 286.3405 | Q73: 286.6575 | R73: 286.4195 | S73: 285.3531 | T73: 285.6324 | U73: 285.1157 | V73: 286.8676 | W73: 286.4901 | X73: 286.3719 | Y73: 286.6965 | Z73: 287.9643 | AA73: 288.0766 | AB73: 288.2153 | AC73: 287.9297 | AD73: 287.2833 | AE73: 287.4138 | AF73: 287.6671 | AG73: 287.4253 | AH73: 287.2246 | AI73: 286.0992 | AJ73: 286.5334 | AK73: 286.2152 | AL73: 285.3956 | AM73: 286.34 | AN73: 285.6025 | AO73: 287.6317 | AP73: 286.7058 | AQ73: 286.5957 | AR73: 286.651 | AS73: 286.9797 | AT73: 286.168 | AU73: 285.9403 | AV73: 285.6608
A74: 2009.9167 | B74: 0.58 | D74: 0.252 | E74: =ROUND($Q$2+$Q$3*TRUNC(A69),3) -> 0.571 | G74: 286.1899 | H74: 286.3102 | I74: 286.606 | J74: 287.2111 | K74: 286.3627 | L74: 286.5841 | M74: 286.3714 | N74: 286.2052 | O74: 285.4955 | P74: 285.4467 | Q74: 286.0366 | R74: 285.7445 | S74: 284.5894 | T74: 285.0768 | U74: 284.4386 | V74: 286.2711 | W74: 285.8085 | X74: 285.4783 | Y74: 286.0846 | Z74: 287.21 | AA74: 287.5179 | AB74: 287.6586 | AC74: 287.4842 | AD74: 286.6017 | AE74: 286.5008 | AF74: 286.8323 | AG74: 286.9046 | AH74: 286.2533 | AI74: 285.0916 | AJ74: 285.6285 | AK74: 285.3741 | AL74: 284.5215 | AM74: 285.5917 | AN74: 284.6854 | AO74: 286.7408 | AP74: 286.2384 | AQ74: 286.3399 | AR74: 286.0394 | AS74: 286.2387 | AT74: 285.5591 | AU74: 285.2644 | AV74: 285.0787
A75: 2010 | B75: 0.678 | D75: 0.301 | E75: =ROUND($F$2+$F$3*TRUNC(A69),3) -> 0.616 | G75: 286.1224 | H75: 286.1132 | I75: 286.4524 | J75: 287.0605 | K75: 286.4117 | L75: 286.21 | M75: 286.3199 | N75: 286.2776 | O75: 285.5256 | P75: 285.3709 | Q75: 285.7077 | R75: 285.4806 | S75: 284.3875 | T75: 284.9804 | U75: 284.2678 | V75: 285.8289 | W75: 285.6223 | X75: 285.637 | Y75: 286.1083 | Z75: 287.1595 | AA75: 287.4685 | AB75: 287.6117 | AC75: 287.2623 | AD75: 286.6237 | AE75: 286.5068 | AF75: 286.6059 | AG75: 286.7207 | AH75: 285.8246 | AI75: 284.9786 | AJ75: 285.3648 | AK75: 285.3203 | AL75: 284.5558 | AM75: 285.5046 | AN75: 284.7798 | AO75: 286.5382 | AP75: 286.0659 | AQ75: 286.1717 | AR75: 285.7501 | AS75: 285.9868 | AT75: 285.3916 | AU75: 285.1503 | AV75: 284.8489
A76: 2010.0833 | B76: 0.723 | D76: 0.311 | E76: =ROUND($G$2+$G$3*TRUNC(A69),3) -> 0.72 | G76: 286.1386 | H76: 286.4359 | I76: 286.6956 | J76: 287.1472 | K76: 286.3826 | L76: 286.1548 | M76: 286.2687 | N76: 286.549 | O76: 285.8381 | P76: 285.888 | Q76: 286.1557 | R76: 285.6763 | S76: 284.6798 | T76: 285.4669 | U76: 284.6283 | V76: 286.0574 | W76: 286.1708 | X76: 285.8629 | Y76: 286.5451 | Z76: 287.722 | AA76: 287.9906 | AB76: 287.9673 | AC76: 287.8089 | AD76: 286.8849 | AE76: 286.9106 | AF76: 286.888 | AG76: 286.9312 | AH76: 286.3738 | AI76: 285.0887 | AJ76: 285.3563 | AK76: 285.3484 | AL76: 285.1316 | AM76: 286.0626 | AN76: 285.1436 | AO76: 286.7778 | AP76: 286.2317 | AQ76: 286.1161 | AR76: 285.9924 | AS76: 286.4141 | AT76: 285.7112 | AU76: 285.4263 | AV76: 285.3299
A77: 2010.1667 | B77: 0.788 | D77: 0.278 | E77: =ROUND($H$2+$H$3*TRUNC(A69),3) -> 0.639 | G77: 286.7284 | H77: 286.9554 | I77: 287.308 | J77: 287.868 | K77: 286.6576 | L77: 286.9453 | M77: 286.9048 | N77: 287.0475 | O77: 286.4561 | P77: 286.6935 | Q77: 287.2034 | R77: 286.2377 | S77: 285.6264 | T77: 286.1457 | U77: 285.54 | V77: 286.793 | W77: 286.6524 | X77: 286.5552 | Y77: 286.9375 | Z77: 288.2973 | AA77: 288.5172 | AB77: 288.554 | AC77: 288.2643 | AD77: 287.5936 | AE77: 287.5655 | AF77: 287.5678 | AG77: 287.6225 | AH77: 287.1792 | AI77: 286.1501 | AJ77: 286.2137 | AK77: 286.0205 | AL77: 285.7436 | AM77: 286.7652 | AN77: 286.0328 | AO77: 287.3129 | AP77: 286.662 | AQ77: 286.6167 | AR77: 286.786 | AS77: 287.1333 | AT77: 286.6298 | AU77: 286.057 | AV77: 286.0072
A78: 2010.25 | B78: 0.773 | D78: 0.267 | E78: =ROUND($I$2+$I$3*TRUNC(A69),3) -> 0.6 | G78: 287.7048 | H78: 287.7967 | I78: 288.1087 | J78: 288.8635 | K78: 287.4506 | L78: 287.9559 | M78: 287.9184 | N78: 287.7876 | O78: 287.3706 | P78: 287.7717 | Q78: 288.2372 | R78: 287.0347 | S78: 286.6711 | T78: 287.0214 | U78: 286.239 | V78: 287.5965 | W78: 287.4688 | X78: 287.3475 | Y78: 287.8084 | Z78: 289.1798 | AA78: 289.3185 | AB78: 289.5166 | AC78: 289.0252 | AD78: 288.6044 | AE78: 288.4922 | AF78: 288.6443 | AG78: 288.6 | AH78: 288.0908 | AI78: 287.1073 | AJ78: 287.3524 | AK78: 286.7961 | AL78: 286.6342 | AM78: 287.4364 | AN78: 287.1391 | AO78: 288.4041 | AP78: 287.3724 | AQ78: 287.3751 | AR78: 287.7814 | AS78: 288.1846 | AT78: 287.2842 | AU78: 287.1813 | AV78: 286.8056
A79: 2010.3333 | B79: 0.65 | D79: 0.2 | E79: =ROUND($J$2+$J$3*TRUNC(A69),3) -> 0.487 | G79: 288.8241 | H79: 288.7932 | I79: 289.0153 | J79: 289.7703 | K79: 288.2155 | L79: 288.9059 | M79: 288.7106 | N79: 288.6565 | O79: 288.2864 | P79: 288.7108 | Q79: 289.1839 | R79: 288.0128 | S79: 287.8185 | T79: 287.6812 | U79: 287.0677 | V79: 288.4622 | W79: 288.324 | X79: 288.4041 | Y79: 288.6794 | Z79: 289.9291 | AA79: 290.0887 | AB79: 290.1317 | AC79: 289.6957 | AD79: 289.451 | AE79: 289.2051 | AF79: 289.5128 | AG79: 289.4121 | AH79: 289.2308 | AI79: 288.4101 | AJ79: 288.3425 | AK79: 288.1241 | AL79: 287.6309 | AM79: 288.2721 | AN79: 288.0996 | AO79: 289.4304 | AP79: 288.3666 | AQ79: 288.3956 | AR79: 288.7963 | AS79: 289.0558 | AT79: 288.1733 | AU79: 287.8926 | AV79: 287.62
A80: 2010.4167 | B80: 0.581 | D80: 0.199 | E80: =ROUND($K$2+$K$3*TRUNC(A69),3) -> 0.534 | G80: 289.5918 | H80: 289.6937 | I80: 289.6953 | J80: 290.409 | K80: 289.0467 | L80: 289.7253 | M80: 289.4938 | N80: 289.3814 | O80: 288.9232 | P80: 289.3365 | Q80: 289.7491 | R80: 288.8976 | S80: 288.5691 | T80: 288.5286 | U80: 287.9268 | V80: 289.1543 | W80: 289.0455 | X80: 289.0095 | Y80: 289.3058 | Z80: 290.549 | AA80: 290.6242 | AB80: 290.7539 | AC80: 290.1942 | AD80: 289.9628 | AE80: 289.8337 | AF80: 290.0793 | AG80: 289.9282 | AH80: 289.9893 | AI80: 289.1424 | AJ80: 289.342 | AK80: 288.9172 | AL80: 288.3933 | AM80: 289.1123 | AN80: 289.0406 | AO80: 290.479 | AP80: 289.0638 | AQ80: 289.1154 | AR80: 289.4312 | AS80: 289.6063 | AT80: 288.993 | AU80: 288.5477 | AV80: 288.2102
A81: 2010.5 | B81: 0.556 | D81: 0.188 | E81: =ROUND($L$2+$L$3*TRUNC(A81),3) -> 0.573 | G81: 289.6604 | H81: 289.8304 | I81: 289.9795 | J81: 290.6422 | K81: 289.3574 | L81: 290.0661 | M81: 289.7124 | N81: 289.697 | O81: 289.1765 | P81: 289.4196 | Q81: 290.021 | R81: 289.4849 | S81: 288.7898 | T81: 288.7391 | U81: 288.3033 | V81: 289.3699 | W81: 289.5233 | X81: 289.2275 | Y81: 289.5712 | Z81: 290.7033 | AA81: 290.8095 | AB81: 290.9978 | AC81: 290.3143 | AD81: 290.2779 | AE81: 290.0471 | AF81: 290.3402 | AG81: 290.2608 | AH81: 290.1814 | AI81: 289.4219 | AJ81: 289.4022 | AK81: 289.203 | AL81: 288.832 | AM81: 289.6203 | AN81: 289.4627 | AO81: 291.0261 | AP81: 289.3745 | AQ81: 289.4641 | AR81: 289.6195 | AS81: 289.8412 | AT81: 289.2811 | AU81: 289.0083 | AV81: 288.4325
A82: 2010.5833 | B82: 0.536 | D82: 0.186 | E82: =ROUND($M$2+$M$3*TRUNC(A81),3) -> 0.594 | G82: 289.5158 | H82: 289.6441 | I82: 289.7394 | J82: 290.319 | K82: 289.2735 | L82: 289.856 | M82: 289.5116 | N82: 289.6058 | O82: 289.0093 | P82: 289.1227 | Q82: 289.4912 | R82: 289.4998 | S82: 288.4966 | T82: 288.3865 | U82: 288.0657 | V82: 289.157 | W82: 289.463 | X82: 289.0179 | Y82: 289.5568 | Z82: 290.5995 | AA82: 290.5232 | AB82: 290.79 | AC82: 290.2262 | AD82: 290.1904 | AE82: 290.0558 | AF82: 290.3204 | AG82: 290.0192 | AH82: 289.9898 | AI82: 289.0788 | AJ82: 289.2407 | AK82: 288.6918 | AL82: 288.7311 | AM82: 289.4792 | AN82: 289.3426 | AO82: 290.7821 | AP82: 289.2251 | AQ82: 289.081 | AR82: 289.5441 | AS82: 289.6381 | AT82: 289.0188 | AU82: 288.7863 | AV82: 288.3034
A83: 2010.6667 | B83: 0.461 | D83: 0.164 | E83: =ROUND($N$2+$N$3*TRUNC(A81),3) -> 0.514 | G83: 288.8578 | H83: 288.9583 | I83: 289.0734 | J83: 289.6646 | K83: 288.6581 | L83: 289.0689 | M83: 288.9712 | N83: 288.7084 | O83: 288.2533 | P83: 288.2254 | Q83: 288.8536 | R83: 288.7285 | S83: 287.6953 | T83: 287.6346 | U83: 287.189 | V83: 288.4307 | W83: 288.6367 | X83: 288.3527 | Y83: 288.63 | Z83: 289.9517 | AA83: 289.8145 | AB83: 290.2079 | AC83: 289.5507 | AD83: 289.5783 | AE83: 289.456 | AF83: 289.8172 | AG83: 289.5483 | AH83: 289.3228 | AI83: 288.3679 | AJ83: 288.4438 | AK83: 287.8531 | AL83: 287.9161 | AM83: 288.6758 | AN83: 288.572 | AO83: 290.089 | AP83: 288.247 | AQ83: 288.387 | AR83: 288.9763 | AS83: 289.1039 | AT83: 288.3159 | AU83: 288.0739 | AV83: 287.7031
A84: 2010.75 | B84: 0.56 | D84: 0.19 | E84: =ROUND($O$2+$O$3*TRUNC(A81),3) -> 0.595 | G84: 287.9974 | H84: 288.0648 | I84: 288.2915 | J84: 288.653 | K84: 287.8035 | L84: 287.9315 | M84: 288.0182 | N84: 287.8239 | O84: 287.1806 | P84: 287.2016 | Q84: 287.6922 | R84: 287.4778 | S84: 286.6074 | T84: 286.7326 | U84: 286.1023 | V84: 287.5113 | W84: 287.8116 | X84: 287.1853 | Y84: 287.6313 | Z84: 289.0783 | AA84: 288.9343 | AB84: 289.3984 | AC84: 288.716 | AD84: 288.6509 | AE84: 288.5142 | AF84: 288.8122 | AG84: 288.5717 | AH84: 288.3282 | AI84: 287.3483 | AJ84: 287.4604 | AK84: 286.9495 | AL84: 286.5502 | AM84: 287.4788 | AN84: 287.0017 | AO84: 288.9788 | AP84: 287.4428 | AQ84: 287.3526 | AR84: 287.9628 | AS84: 288.1326 | AT84: 287.1705 | AU84: 287.0481 | AV84: 286.5288
A85: 2010.8333 | B85: 0.6 | D85: 0.177 | E85: =ROUND($P$2+$P$3*TRUNC(A81),3) -> 0.525 | G85: 286.8447 | H85: 287.1947 | I85: 287.1288 | J85: 287.6187 | K85: 287.0874 | L85: 287.1931 | M85: 287.0579 | N85: 286.9727 | O85: 286.1193 | P85: 286.1273 | Q85: 286.7834 | R85: 286.5154 | S85: 285.5317 | T85: 285.7895 | U85: 285.0111 | V85: 286.8473 | W85: 286.6789 | X85: 286.0248 | Y85: 286.6879 | Z85: 288.1127 | AA85: 287.9969 | AB85: 288.4683 | AC85: 287.6743 | AD85: 287.5221 | AE85: 287.273 | AF85: 287.701 | AG85: 287.4381 | AH85: 287.2998 | AI85: 286.136 | AJ85: 286.3415 | AK85: 286.2378 | AL85: 285.3668 | AM85: 286.5063 | AN85: 285.4176 | AO85: 287.846 | AP85: 286.6249 | AQ85: 286.5751 | AR85: 286.7929 | AS85: 287.0834 | AT85: 286.2079 | AU85: 285.8865 | AV85: 285.6856
A86: 2010.9167 | B86: 0.395 | D86: 0.252 | E86: =ROUND($Q$2+$Q$3*TRUNC(A81),3) -> 0.586 | G86: 286.0077 | H86: 286.5432 | I86: 286.752 | J86: 286.8327 | K86: 286.8117 | L86: 286.4124 | M86: 286.282 | N86: 286.3178 | O86: 285.2679 | P86: 285.291 | Q86: 285.9672 | R86: 285.7518 | S86: 284.9041 | T86: 285.2067 | U86: 284.4794 | V86: 286.0267 | W86: 285.9106 | X86: 285.5851 | Y86: 285.9775 | Z86: 287.4369 | AA86: 287.6603 | AB86: 287.8709 | AC86: 287.1401 | AD86: 286.8372 | AE86: 286.7259 | AF86: 286.9021 | AG86: 286.7308 | AH86: 286.2823 | AI86: 285.248 | AJ86: 285.5576 | AK86: 285.549 | AL86: 284.7414 | AM86: 285.8486 | AN86: 284.3705 | AO86: 287.1479 | AP86: 286.2935 | AQ86: 286.3285 | AR86: 286.144 | AS86: 286.2329 | AT86: 285.5418 | AU86: 285.4512 | AV86: 285.1518
A87: 2011 | B87: 0.409 | D87: 0.301 | E87: =ROUND($F$2+$F$3*TRUNC(A81),3) -> 0.632 | G87: 285.737 | H87: 286.2856 | I87: 286.4669 | J87: 286.6414 | K87: 286.4759 | L87: 286.1466 | M87: 286.0573 | N87: 286.3451 | O87: 285.1145 | P87: 285.0966 | Q87: 285.8221 | R87: 285.5924 | S87: 284.7101 | T87: 285.0587 | U87: 284.1857 | V87: 285.6809 | W87: 285.8936 | X87: 285.2176 | Y87: 286.3793 | Z87: 287.4994 | AA87: 287.5301 | AB87: 287.9315 | AC87: 287.2488 | AD87: 286.8171 | AE87: 286.4643 | AF87: 286.8571 | AG87: 286.6534 | AH87: 286.071 | AI87: 284.9384 | AJ87: 285.1238 | AK87: 285.2193 | AL87: 284.5829 | AM87: 285.9444 | AN87: 284.4214 | AO87: 286.6594 | AP87: 286.0554 | AQ87: 286.2018 | AR87: 285.924 | AS87: 286.1421 | AT87: 285.7933 | AU87: 285.2429 | AV87: 285.0319
A88: 2011.0833 | B88: 0.402 | D88: 0.311 | E88: =ROUND($G$2+$G$3*TRUNC(A81),3) -> 0.741 | G88: 285.9618 | H88: 286.4957 | I88: 286.6868 | J88: 287.1717 | K88: 286.3735 | L88: 286.4678 | M88: 286.3422 | N88: 286.4241 | O88: 285.3594 | P88: 285.4606 | Q88: 285.8798 | R88: 285.7602 | S88: 284.8757 | T88: 285.3642 | U88: 284.5196 | V88: 285.7747 | W88: 286.1538 | X88: 285.4291 | Y88: 286.6024 | Z88: 287.7272 | AA88: 287.8729 | AB88: 288.268 | AC88: 287.2517 | AD88: 287.1201 | AE88: 286.8745 | AF88: 287.0257 | AG88: 286.9968 | AH88: 286.4335 | AI88: 285.5116 | AJ88: 285.5913 | AK88: 285.3107 | AL88: 284.8891 | AM88: 285.9942 | AN88: 285.1632 | AO88: 286.8828 | AP88: 286.2005 | AQ88: 286.2283 | AR88: 286.1862 | AS88: 286.3384 | AT88: 286.2461 | AU88: 285.4929 | AV88: 285.0943
A89: 2011.1667 | B89: 0.451 | D89: 0.278 | E89: =ROUND($H$2+$H$3*TRUNC(A81),3) -> 0.657 | G89: 286.4564 | H89: 286.9638 | I89: 287.3665 | J89: 287.9927 | K89: 286.7585 | L89: 287.1917 | M89: 287.0016 | N89: 287.1763 | O89: 286.1056 | P89: 286.3867 | Q89: 286.7239 | R89: 286.4122 | S89: 285.7549 | T89: 286.1627 | U89: 285.3263 | V89: 286.5083 | W89: 286.7776 | X89: 286.2673 | Y89: 287.3151 | Z89: 288.3439 | AA89: 288.4665 | AB89: 288.8142 | AC89: 288.1612 | AD89: 287.7 | AE89: 287.6656 | AF89: 287.7723 | AG89: 287.5918 | AH89: 286.9345 | AI89: 286.1071 | AJ89: 286.3401 | AK89: 285.9144 | AL89: 285.7067 | AM89: 286.8124 | AN89: 286.0314 | AO89: 287.2084 | AP89: 286.6805 | AQ89: 286.5843 | AR89: 287.2027 | AS89: 287.1727 | AT89: 286.6509 | AU89: 286.12 | AV89: 285.6758
A90: 2011.25 | B90: 0.557 | D90: 0.267 | E90: =ROUND($I$2+$I$3*TRUNC(A81),3) -> 0.617 | G90: 287.5058 | H90: 287.8897 | I90: 288.4116 | J90: 288.933 | K90: 287.605 | L90: 288.087 | M90: 287.8187 | N90: 288.0781 | O90: 287.1407 | P90: 287.5538 | Q90: 287.7946 | R90: 287.2432 | S90: 286.8065 | T90: 287.0357 | U90: 286.078 | V90: 287.3666 | W90: 287.5217 | X90: 287.4823 | Y90: 288.1658 | Z90: 289.1505 | AA90: 289.2198 | AB90: 289.6571 | AC90: 288.8855 | AD90: 288.6077 | AE90: 288.6889 | AF90: 288.8252 | AG90: 288.567 | AH90: 287.9388 | AI90: 287.1515 | AJ90: 287.2911 | AK90: 286.9858 | AL90: 286.5901 | AM90: 287.4902 | AN90: 287.1069 | AO90: 288.2351 | AP90: 287.4477 | AQ90: 287.2919 | AR90: 288.0388 | AS90: 288.184 | AT90: 287.5056 | AU90: 287.0698 | AV90: 286.7706
A91: 2011.3333 | B91: 0.432 | D91: 0.2 | E91: =ROUND($J$2+$J$3*TRUNC(A81),3) -> 0.502 | G91: 288.5628 | H91: 289.0106 | I91: 289.0821 | J91: 289.9036 | K91: 288.3084 | L91: 288.9442 | M91: 288.6964 | N91: 288.6452 | O91: 288.087 | P91: 288.561 | Q91: 288.7852 | R91: 288.1167 | S91: 287.9148 | T91: 287.6524 | U91: 286.9929 | V91: 288.2283 | W91: 288.4835 | X91: 288.2655 | Y91: 288.8932 | Z91: 289.9443 | AA91: 290.0018 | AB91: 290.3264 | AC91: 289.6011 | AD91: 289.5088 | AE91: 289.326 | AF91: 289.5608 | AG91: 289.3755 | AH91: 289.1796 | AI91: 288.2554 | AJ91: 288.5474 | AK91: 288.0804 | AL91: 287.6181 | AM91: 288.5233 | AN91: 288.137 | AO91: 289.3231 | AP91: 288.3811 | AQ91: 288.3839 | AR91: 288.9943 | AS91: 289.1411 | AT91: 288.4052 | AU91: 287.9471 | AV91: 287.4648
A92: 2011.4167 | B92: 0.514 | D92: 0.199 | E92: =ROUND($K$2+$K$3*TRUNC(A81),3) -> 0.551 | G92: 289.5238 | H92: 289.6811 | I92: 289.7202 | J92: 290.6165 | K92: 289.1762 | L92: 289.7766 | M92: 289.4264 | N92: 289.3586 | O92: 288.8197 | P92: 289.2736 | Q92: 289.3582 | R92: 289.0476 | S92: 288.5359 | T92: 288.3434 | U92: 287.7404 | V92: 289.0518 | W92: 289.1563 | X92: 288.966 | Y92: 289.4613 | Z92: 290.4446 | AA92: 290.5831 | AB92: 290.9403 | AC92: 290.1335 | AD92: 290.0088 | AE92: 289.9253 | AF92: 290.1534 | AG92: 290.009 | AH92: 289.9657 | AI92: 289.249 | AJ92: 289.3634 | AK92: 288.9459 | AL92: 288.36 | AM92: 289.2027 | AN92: 288.9272 | AO92: 290.4695 | AP92: 289.1138 | AQ92: 289.1907 | AR92: 289.7188 | AS92: 289.5392 | AT92: 289.323 | AU92: 288.6357 | AV92: 288.1915
A93: 2011.5 | B93: 0.6 | D93: 0.188 | E93: =ROUND($L$2+$L$3*TRUNC(A93),3) -> 0.591 | G93: 289.6979 | H93: 289.9583 | I93: 289.8398 | J93: 290.7856 | K93: 289.582 | L93: 290.1017 | M93: 289.806 | N93: 289.966 | O93: 289.1705 | P93: 289.412 | Q93: 289.5237 | R93: 289.742 | S93: 288.7169 | T93: 288.7218 | U93: 288.2744 | V93: 289.3059 | W93: 289.5687 | X93: 289.1675 | Y93: 289.7769 | Z93: 290.7293 | AA93: 290.7951 | AB93: 291.1654 | AC93: 290.4107 | AD93: 290.2626 | AE93: 290.0942 | AF93: 290.5291 | AG93: 290.1592 | AH93: 290.2096 | AI93: 289.4068 | AJ93: 289.6071 | AK93: 289.0216 | AL93: 288.7564 | AM93: 289.5309 | AN93: 289.3133 | AO93: 290.8195 | AP93: 289.3478 | AQ93: 289.5697 | AR93: 289.9435 | AS93: 289.7888 | AT93: 289.4587 | AU93: 288.9549 | AV93: 288.452
A94: 2011.5833 | B94: 0.612 | D94: 0.186 | E94: =ROUND($M$2+$M$3*TRUNC(A93),3) -> 0.614 | G94: 289.5541 | H94: 289.6862 | I94: 289.7646 | J94: 290.5376 | K94: 289.2409 | L94: 290.0889 | M94: 289.5225 | N94: 289.7234 | O94: 288.9197 | P94: 289.1122 | Q94: 289.2103 | R94: 289.4301 | S94: 288.2346 | T94: 288.423 | U94: 287.894 | V94: 289.1025 | W94: 289.4106 | X94: 289.0168 | Y94: 289.4746 | Z94: 290.4803 | AA94: 290.5948 | AB94: 291.0601 | AC94: 290.2239 | AD94: 290.096 | AE94: 290.1028 | AF94: 290.3543 | AG94: 290.0351 | AH94: 289.9579 | AI94: 289.177 | AJ94: 289.3577 | AK94: 288.742 | AL94: 288.6033 | AM94: 289.4214 | AN94: 289.2446 | AO94: 290.6558 | AP94: 289.1109 | AQ94: 289.1329 | AR94: 289.6902 | AS94: 289.5595 | AT94: 289.0562 | AU94: 288.9584 | AV94: 288.3743
A95: 2011.6667 | B95: 0.451 | D95: 0.164 | E95: =ROUND($N$2+$N$3*TRUNC(A93),3) -> 0.53 | G95: 288.8696 | H95: 288.9254 | I95: 289.0266 | J95: 289.7948 | K95: 288.7491 | L95: 288.9015 | M95: 288.5818 | N95: 288.9357 | O95: 288.0671 | P95: 288.373 | Q95: 288.5536 | R95: 288.6167 | S95: 287.5439 | T95: 287.7028 | U95: 287.2024 | V95: 288.5218 | W95: 288.6782 | X95: 288.3415 | Y95: 288.6896 | Z95: 289.8489 | AA95: 290.0066 | AB95: 290.366 | AC95: 289.6382 | AD95: 289.6205 | AE95: 289.5583 | AF95: 289.7686 | AG95: 289.4483 | AH95: 289.2936 | AI95: 288.4223 | AJ95: 288.6762 | AK95: 288.0227 | AL95: 287.8093 | AM95: 288.7248 | AN95: 288.4843 | AO95: 289.7263 | AP95: 288.4526 | AQ95: 288.3088 | AR95: 289.0786 | AS95: 288.8289 | AT95: 288.3129 | AU95: 288.2117 | AV95: 287.6854
A96: 2011.75 | B96: 0.502 | D96: 0.19 | E96: =ROUND($O$2+$O$3*TRUNC(A93),3) -> 0.614 | G96: 287.8854 | H96: 288.0033 | I96: 288.1158 | J96: 288.8021 | K96: 287.4796 | L96: 288.1829 | M96: 287.66 | N96: 288.1538 | O96: 286.9867 | P96: 287.2632 | Q96: 287.4886 | R96: 287.4881 | S96: 286.5918 | T96: 286.6749 | U96: 286.2181 | V96: 287.8109 | W96: 287.6873 | X96: 287.3008 | Y96: 287.6133 | Z96: 288.9559 | AA96: 289.1587 | AB96: 289.4109 | AC96: 288.7264 | AD96: 288.6975 | AE96: 288.5361 | AF96: 288.961 | AG96: 288.4827 | AH96: 288.2623 | AI96: 287.2013 | AJ96: 287.6445 | AK96: 287.0533 | AL96: 286.5962 | AM96: 287.5576 | AN96: 287.0349 | AO96: 288.679 | AP96: 287.5891 | AQ96: 287.6233 | AR96: 288.0847 | AS96: 288.0497 | AT96: 287.1026 | AU96: 287.1425 | AV96: 286.5487
A97: 2011.8333 | B97: 0.407 | D97: 0.177 | E97: =ROUND($P$2+$P$3*TRUNC(A93),3) -> 0.541 | G97: 287.0071 | H97: 287.0766 | I97: 287.1853 | J97: 287.9316 | K97: 286.5846 | L97: 287.3461 | M97: 286.8348 | N97: 287.0692 | O97: 285.8792 | P97: 286.0532 | Q97: 286.4985 | R97: 286.3871 | S97: 285.5738 | T97: 285.8426 | U97: 284.8806 | V97: 286.6758 | W97: 286.4577 | X97: 286.1683 | Y97: 286.4649 | Z97: 288.0359 | AA97: 288.2515 | AB97: 288.531 | AC97: 287.812 | AD97: 287.459 | AE97: 287.5341 | AF97: 287.7583 | AG97: 287.2654 | AH97: 287.1852 | AI97: 286.0347 | AJ97: 286.8982 | AK97: 286.1514 | AL97: 285.4103 | AM97: 286.3647 | AN97: 285.4893 | AO97: 287.5607 | AP97: 286.8668 | AQ97: 286.8021 | AR97: 286.9713 | AS97: 287.0379 | AT97: 285.9379 | AU97: 285.9895 | AV97: 285.4563
A98: 2011.9167 | B98: 0.485 | D98: 0.252 | E98: =ROUND($Q$2+$Q$3*TRUNC(A93),3) -> 0.602 | G98: 286.3187 | H98: 286.3123 | I98: 286.7472 | J98: 287.5957 | K98: 286.1106 | L98: 286.6931 | M98: 286.2411 | N98: 286.4781 | O98: 284.9557 | P98: 285.4027 | Q98: 285.697 | R98: 285.7006 | S98: 284.602 | T98: 285.2198 | U98: 284.2527 | V98: 286.2359 | W98: 285.9619 | X98: 285.485 | Y98: 286.0705 | Z98: 287.428 | AA98: 287.6839 | AB98: 288.0347 | AC98: 287.2693 | AD98: 286.8574 | AE98: 286.8706 | AF98: 286.9774 | AG98: 286.6665 | AH98: 286.4308 | AI98: 285.0649 | AJ98: 285.8832 | AK98: 285.4808 | AL98: 284.7599 | AM98: 285.543 | AN98: 284.6562 | AO98: 286.7102 | AP98: 286.4094 | AQ98: 286.2909 | AR98: 286.2653 | AS98: 286.2501 | AT98: 285.3153 | AU98: 285.1618 | AV98: 285.0856
A99: 2012 | B99: 0.347 | D99: 0.301 | E99: =ROUND($F$2+$F$3*TRUNC(A93),3) -> 0.648 | G99: 286.2471 | H99: 286.12 | I99: 286.3682 | J99: 287.328 | K99: 285.7362 | L99: 286.2984 | M99: 285.9119 | N99: 286.3526 | O99: 284.9618 | P99: 285.4362 | Q99: 285.5178 | R99: 285.6172 | S99: 284.5592 | T99: 285.0097 | U99: 284.1196 | V99: 285.9724 | W99: 286.0592 | X99: 285.2351 | Y99: 286.2421 | Z99: 287.4834 | AA99: 287.4833 | AB99: 287.9812 | AC99: 287.3212 | AD99: 286.6164 | AE99: 286.7845 | AF99: 286.8564 | AG99: 286.5364 | AH99: 286.3143 | AI99: 284.7299 | AJ99: 285.5459 | AK99: 285.1828 | AL99: 284.647 | AM99: 285.6433 | AN99: 284.7441 | AO99: 286.3771 | AP99: 286.1258 | AQ99: 285.9859 | AR99: 285.9745 | AS99: 286.0354 | AT99: 285.5178 | AU99: 285.3474 | AV99: 284.9015
A100: 2012.0833 | B100: 0.376 | D100: 0.311 | E100: =ROUND($G$2+$G$3*TRUNC(A93),3) -> 0.762 | G100: 286.4413 | H100: 286.2739 | I100: 286.8752 | J100: 287.7632 | K100: 285.7372 | L100: 286.2395 | M100: 286.2144 | N100: 286.6324 | O100: 285.3089 | P100: 285.7833 | Q100: 286.0306 | R100: 285.7627 | S100: 284.7863 | T100: 285.4298 | U100: 284.748 | V100: 286.3391 | W100: 286.1258 | X100: 285.5751 | Y100: 286.4535 | Z100: 287.9907 | AA100: 288.1488 | AB100: 288.4375 | AC100: 287.823 | AD100: 286.9977 | AE100: 286.9888 | AF100: 286.9138 | AG100: 286.8266 | AH100: 286.6076 | AI100: 284.9228 | AJ100: 285.8973 | AK100: 285.2185 | AL100: 285.0227 | AM100: 286.0435 | AN100: 285.2941 | AO100: 286.3618 | AP100: 286.2981 | AQ100: 286.0375 | AR100: 286.6025 | AS100: 286.528 | AT100: 285.6037 | AU100: 285.7361 | AV100: 285.1848
A101: 2012.1667 | B101: 0.434 | D101: 0.278 | E101: =ROUND($H$2+$H$3*TRUNC(A93),3) -> 0.676 | G101: 286.9378 | H101: 286.8847 | I101: 287.4487 | J101: 288.1982 | K101: 286.4362 | L101: 287.2235 | M101: 286.8792 | N101: 287.0597 | O101: 286.1869 | P101: 286.4316 | Q101: 286.8606 | R101: 286.2061 | S101: 285.6675 | T101: 286.1549 | U101: 285.1805 | V101: 286.8683 | W101: 286.7196 | X101: 286.3516 | Y101: 287.1482 | Z101: 288.6533 | AA101: 288.6257 | AB101: 288.9256 | AC101: 288.2899 | AD101: 287.7354 | AE101: 287.9424 | AF101: 287.6212 | AG101: 287.5268 | AH101: 287.2569 | AI101: 285.9026 | AJ101: 286.566 | AK101: 285.6506 | AL101: 285.9161 | AM101: 286.797 | AN101: 286.117 | AO101: 286.9786 | AP101: 287.088 | AQ101: 286.5012 | AR101: 287.3721 | AS101: 287.3009 | AT101: 286.4041 | AU101: 286.1443 | AV101: 285.5292
A102: 2012.25 | B102: 0.611 | D102: 0.267 | E102: =ROUND($I$2+$I$3*TRUNC(A93),3) -> 0.634 | G102: 287.9392 | H102: 287.8678 | I102: 288.1472 | J102: 288.9328 | K102: 287.3187 | L102: 288.1541 | M102: 287.7383 | N102: 287.8973 | O102: 287.1625 | P102: 287.8182 | Q102: 287.8505 | R102: 286.9206 | S102: 286.8244 | T102: 286.8043 | U102: 286.1181 | V102: 287.6384 | W102: 287.5728 | X102: 287.2687 | Y102: 288.0186 | Z102: 289.3538 | AA102: 289.5262 | AB102: 289.6921 | AC102: 289.0437 | AD102: 288.5916 | AE102: 288.6818 | AF102: 288.6292 | AG102: 288.4444 | AH102: 288.1476 | AI102: 286.9943 | AJ102: 287.655 | AK102: 287.0565 | AL102: 286.673 | AM102: 287.5474 | AN102: 287.0699 | AO102: 287.9178 | AP102: 287.7007 | AQ102: 287.3227 | AR102: 288.2327 | AS102: 288.0192 | AT102: 287.3144 | AU102: 287.2008 | AV102: 286.598
A103: 2012.3333 | B103: 0.613 | D103: 0.2 | E103: =ROUND($J$2+$J$3*TRUNC(A93),3) -> 0.517 | G103: 288.9199 | H103: 288.9314 | I103: 288.9536 | J103: 289.8445 | K103: 288.3057 | L103: 289.173 | M103: 288.4741 | N103: 288.7389 | O103: 288.1742 | P103: 288.8503 | Q103: 288.8586 | R103: 288.1569 | S103: 287.9825 | T103: 287.5776 | U103: 287.0562 | V103: 288.5487 | W103: 288.4026 | X103: 288.2765 | Y103: 288.7671 | Z103: 289.9315 | AA103: 290.2344 | AB103: 290.3712 | AC103: 289.7913 | AD103: 289.3881 | AE103: 289.4149 | AF103: 289.5373 | AG103: 289.3316 | AH103: 289.2521 | AI103: 288.2699 | AJ103: 288.7292 | AK103: 288.3459 | AL103: 287.3801 | AM103: 288.4212 | AN103: 288.2029 | AO103: 289.0529 | AP103: 288.6042 | AQ103: 288.3119 | AR103: 288.9672 | AS103: 288.9393 | AT103: 288.2124 | AU103: 287.9504 | AV103: 287.5859
A104: 2012.4167 | B104: 0.559 | D104: 0.199 | E104: =ROUND($K$2+$K$3*TRUNC(A93),3) -> 0.568 | G104: 289.5381 | H104: 289.6469 | I104: 289.6429 | J104: 290.3871 | K104: 288.819 | L104: 289.8106 | M104: 289.1121 | N104: 289.5795 | O104: 288.8636 | P104: 289.3708 | Q104: 289.5736 | R104: 289.0663 | S104: 288.7712 | T104: 288.3098 | U104: 287.8069 | V104: 289.2136 | W104: 289.0098 | X104: 288.971 | Y104: 289.4199 | Z104: 290.4752 | AA104: 290.7856 | AB104: 290.8682 | AC104: 290.2177 | AD104: 289.8435 | AE104: 289.8955 | AF104: 290.1927 | AG104: 289.9052 | AH104: 290.0165 | AI104: 289.0088 | AJ104: 289.6019 | AK104: 289.0073 | AL104: 288.1611 | AM104: 289.146 | AN104: 289.2021 | AO104: 290.1615 | AP104: 289.3927 | AQ104: 289.1467 | AR104: 289.7094 | AS104: 289.609 | AT104: 289.0005 | AU104: 288.732 | AV104: 288.1303
...

Sheet Offsets
A8: Month | B8: Actual | G8: Series 1 | H8: Series 2 | I8: Series 3 | J8: Series 4 | K8: Series 5 | L8: Series 6 | M8: Series 7 | N8: Series 8 | O8: Series 9 | P8: Series 10 | Q8: Series 11 | R8: Series 12 | S8: Series 13 | T8: Series 14 | U8: Series 15 | V8: Series 16 | W8: Series 17 | X8: Series 18 | Y8: Series 19 | Z8: Series 20 | AA8: Series 21 | AB8: Series 22 | AC8: Series 23 | AD8: Series 24 | AE8: Series 25 | AF8: Series 26 | AG8: Series 27 | AH8: Series 28 | AI8: Series 29 | AJ8: Series 30 | AK8: Series 31 | AL8: Series 32 | AM8: Series 33 | AN8: Series 34 | AO8: Series 35 | AP8: Series 36 | AQ8: Series 37 | AR8: Series 38 | AS8: Series 39 | AT8: Series 40 | AU8: Series 41 | AV8: Series 42
A9: 2004.5 | B9: 0.253 | G9: -288.97171 | H9: -289.17448 | I9: -289.2278 | J9: -289.9321 | K9: -288.43206 | L9: -289.28692 | M9: -289.03909 | N9: -289.06825 | O9: -288.53252 | P9: -288.85483 | Q9: -289.08815 | R9: -289.00706 | S9: -288.0508 | T9: -288.03728 | U9: -287.76606 | V9: -288.67472 | W9: -288.47241 | X9: -288.60857 | Y9: -289.08564 | Z9: -290.13591 | AA9: -290.17246 | AB9: -290.41565 | AC9: -289.7165 | AD9: -289.57898 | AE9: -289.64406 | AF9: -289.75145 | AG9: -289.58158 | AH9: -289.29992 | AI9: -288.64065 | AJ9: -288.91557 | AK9: -288.62152 | AL9: -288.00196 | AM9: -288.74905 | AN9: -288.95647 | AO9: -290.18128 | AP9: -288.76145 | AQ9: -288.67632 | AR9: -288.97268 | AS9: -289.12209 | AT9: -288.99385 | AU9: -288.40815 | AV9: -288.00349
A10: 2004.5833 | B10: 0.381 | G10: -288.67663 | H10: -288.94868 | I10: -288.95541 | J10: -289.59407 | K10: -288.32804 | L10: -288.96932 | M10: -288.80222 | N10: -288.86585 | O10: -288.30779 | P10: -288.52281 | Q10: -288.78285 | R10: -288.80083 | S10: -287.76293 | T10: -287.79862 | U10: -287.44623 | V10: -288.4473 | W10: -288.38182 | X10: -288.42922 | Y10: -288.82385 | Z10: -289.92237 | AA10: -289.97565 | AB10: -290.22107 | AC10: -289.4776 | AD10: -289.4739 | AE10: -289.55635 | AF10: -289.6695 | AG10: -289.50042 | AH10: -289.07162 | AI10: -288.38706 | AJ10: -288.6713 | AK10: -288.31011 | AL10: -287.88013 | AM10: -288.64121 | AN10: -288.88422 | AO10: -289.94238 | AP10: -288.441 | AQ10: -288.37979 | AR10: -288.80673 | AS10: -288.94133 | AT10: -288.67869 | AU10: -288.2938 | AV10: -287.87903
A11: 2004.6667 | B11: 0.413 | G11: -287.97394 | H11: -288.19974 | I11: -288.33103 | J11: -288.97623 | K11: -287.64543 | L11: -288.16035 | M11: -288.07447 | N11: -288.1352 | O11: -287.56506 | P11: -287.75859 | Q11: -288.04863 | R11: -287.92486 | S11: -286.99295 | T11: -287.09738 | U11: -286.64641 | V11: -287.889 | W11: -287.70723 | X11: -287.68198 | Y11: -288.05462 | Z11: -289.29369 | AA11: -289.33074 | AB11: -289.60979 | AC11: -288.88397 | AD11: -288.91384 | AE11: -288.99132 | AF11: -289.08795 | AG11: -288.90534 | AH11: -288.39332 | AI11: -287.63262 | AJ11: -287.93159 | AK11: -287.53303 | AL11: -287.10678 | AM11: -287.86373 | AN11: -288.0871 | AO11: -289.1232 | AP11: -287.65799 | AQ11: -287.57333 | AR11: -288.19903 | AS11: -288.34844 | AT11: -287.84664 | AU11: -287.59479 | AV11: -287.15737
A12: 2004.75 | B12: 0.503 | G12: -287.03908 | H12: -287.23633 | I12: -287.45523 | J12: -288.11299 | K12: -286.66265 | L12: -287.17 | M12: -287.011 | N12: -287.0934 | O12: -286.42416 | P12: -286.5986 | Q12: -286.99217 | R12: -286.68493 | S12: -285.94472 | T12: -286.10709 | U12: -285.49369 | V12: -287.03289 | W12: -286.66584 | X12: -286.50525 | Y12: -286.92768 | Z12: -288.32175 | AA12: -288.31837 | AB12: -288.62095 | AC12: -287.93094 | AD12: -287.87582 | AE12: -287.95983 | AF12: -288.0372 | AG12: -287.86111 | AH12: -287.36053 | AI12: -286.50679 | AJ12: -286.90917 | AK12: -286.61358 | AL12: -285.79996 | AM12: -286.6327 | AN12: -286.54225 | AO12: -287.87553 | AP12: -286.73619 | AQ12: -286.6576 | AR12: -287.16954 | AS12: -287.33895 | AT12: -286.58933 | AU12: -286.48031 | AV12: -286.03921
A13: 2004.8333 | B13: 0.625 | G13: -286.13951 | H13: -286.30588 | I13: -286.54258 | J13: -287.16338 | K13: -285.92077 | L13: -286.22347 | M13: -286.01945 | N13: -286.12084 | O13: -285.33785 | P13: -285.51497 | Q13: -285.98854 | R13: -285.62362 | S13: -284.9661 | T13: -285.10257 | U13: -284.41148 | V13: -286.13723 | W13: -285.59932 | X13: -285.44752 | Y13: -285.94597 | Z13: -287.39192 | AA13: -287.3888 | AB13: -287.6892 | AC13: -287.02498 | AD13: -286.7924 | AE13: -286.83937 | AF13: -286.92008 | AG13: -286.78051 | AH13: -286.24379 | AI13: -285.3387 | AJ13: -285.78554 | AK13: -285.71915 | AL13: -284.63949 | AM13: -285.4829 | AN13: -285.04348 | AO13: -286.74853 | AP13: -286.07976 | AQ13: -285.96661 | AR13: -286.03073 | AS13: -286.24384 | AT13: -285.55646 | AU13: -285.45695 | AV13: -285.07865
A14: 2004.9167 | B14: 0.436 | G14: -285.30277 | H14: -285.47693 | I14: -285.84434 | J14: -286.42324 | K14: -285.4262 | L14: -285.48062 | M14: -285.40834 | N14: -285.47586 | O14: -284.56324 | P14: -284.75493 | Q14: -285.22925 | R14: -284.86853 | S14: -284.16031 | T14: -284.44409 | U14: -283.73451 | V14: -285.3835 | W14: -284.86164 | X14: -284.73409 | Y14: -285.35424 | Z14: -286.79007 | AA14: -286.80897 | AB14: -287.05269 | AC14: -286.4293 | AD14: -286.00094 | AE14: -286.03371 | AF14: -286.07962 | AG14: -286.01264 | AH14: -285.34377 | AI14: -284.35808 | AJ14: -284.81274 | AK14: -284.9975 | AL14: -283.86318 | AM14: -284.71291 | AN14: -284.08195 | AO14: -286.00536 | AP14: -285.57657 | AQ14: -285.48428 | AR14: -285.27274 | AS14: -285.43842 | AT14: -284.96536 | AU14: -284.75632 | AV14: -284.40307
A15: 2005 | B15: 0.632 | G15: -284.97873 | H15: -285.22887 | I15: -285.59361 | J15: -286.20211 | K15: -285.21644 | L15: -285.1959 | M15: -285.19805 | N15: -285.31569 | O15: -284.38303 | P15: -284.55142 | Q15: -284.96481 | R15: -284.64572 | S15: -283.92235 | T15: -284.33073 | U15: -283.64215 | V15: -285.09634 | W15: -284.77601 | X15: -284.62646 | Y15: -285.35167 | Z15: -286.68697 | AA15: -286.72261 | AB15: -286.95173 | AC15: -286.28482 | AD15: -285.79995 | AE15: -285.87597 | AF15: -285.82568 | AG15: -285.82466 | AH15: -285.03352 | AI15: -284.06031 | AJ15: -284.43879 | AK15: -284.72803 | AL15: -283.76345 | AM15: -284.66575 | AN15: -283.9774 | AO15: -285.6824 | AP15: -285.3082 | AQ15: -285.23333 | AR15: -285.00901 | AS15: -285.17979 | AT15: -285.0287 | AU15: -284.57448 | AV15: -284.23959
A16: 2005.0833 | B16: 0.503 | G16: -285.1766 | H16: -285.4948 | I16: -285.90928 | J16: -286.5098 | K16: -285.30611 | L16: -285.43935 | M16: -285.42821 | N16: -285.59901 | O16: -284.71931 | P16: -284.8621 | Q16: -285.35543 | R16: -284.95765 | S16: -284.18097 | T16: -284.66568 | U16: -283.97331 | V16: -285.2775 | W16: -285.08818 | X16: -284.92782 | Y16: -285.72487 | Z16: -287.03523 | AA16: -287.07209 | AB16: -287.27642 | AC16: -286.64272 | AD16: -286.11032 | AE16: -286.23104 | AF16: -286.17987 | AG16: -286.15859 | AH16: -285.30425 | AI16: -284.43215 | AJ16: -284.74541 | AK16: -284.791 | AL16: -284.12363 | AM16: -284.99798 | AN16: -284.4509 | AO16: -285.816 | AP16: -285.3995 | AQ16: -285.3157 | AR16: -285.37098 | AS16: -285.56802 | AT16: -285.40706 | AU16: -284.86057 | AV16: -284.44325
A17: 2005.1667 | B17: 0.679 | G17: -285.85925 | H17: -286.17438 | I17: -286.63091 | J17: -287.24307 | K17: -285.75221 | L17: -286.10825 | M17: -286.10619 | N17: -286.21821 | O17: -285.52066 | P17: -285.78233 | Q17: -286.24333 | R17: -285.59293 | S17: -284.96737 | T17: -285.36968 | U17: -284.63294 | V17: -285.97823 | W17: -285.71043 | X17: -285.68556 | Y17: -286.36441 | Z17: -287.76023 | AA17: -287.77649 | AB17: -287.99399 | AC17: -287.39783 | AD17: -286.89974 | AE17: -286.99247 | AF17: -286.98926 | AG17: -286.9136 | AH17: -286.07622 | AI17: -285.1776 | AJ17: -285.5251 | AK17: -285.4118 | AL17: -284.90154 | AM17: -285.71764 | AN17: -285.38823 | AO17: -286.37518 | AP17: -285.92119 | AQ17: -285.7923 | AR17: -286.22701 | AS17: -286.38679 | AT17: -286.05398 | AU17: -285.54792 | AV17: -285.15882
A18: 2005.25 | B18: 0.682 | G18: -286.86433 | H18: -287.05512 | I18: -287.56576 | J18: -288.22587 | K18: -286.52864 | L18: -287.14764 | M18: -286.91927 | N18: -287.00338 | O18: -286.51137 | P18: -286.90775 | Q18: -287.30287 | R18: -286.45596 | S18: -286.09947 | T18: -286.19984 | U18: -285.52257 | V18: -286.87769 | W18: -286.51376 | X18: -286.69362 | Y18: -287.22137 | Z18: -288.54461 | AA18: -288.59528 | AB18: -288.79807 | AC18: -288.19177 | AD18: -287.84084 | AE18: -287.91885 | AF18: -287.99235 | AG18: -287.87149 | AH18: -287.15704 | AI18: -286.28842 | AJ18: -286.64396 | AK18: -286.53451 | AL18: -285.83889 | AM18: -286.62159 | AN18: -286.53095 | AO18: -287.38021 | AP18: -286.62024 | AQ18: -286.47287 | AR18: -287.24507 | AS18: -287.38737 | AT18: -286.92648 | AU18: -286.50463 | AV18: -286.06604
A19: 2005.3333 | B19: 0.535 | G19: -287.98669 | H19: -288.08443 | I19: -288.46265 | J19: -289.15647 | K19: -287.43844 | L19: -288.1674 | M19: -287.86758 | N19: -287.9451 | O19: -287.48304 | P19: -288.05601 | Q19: -288.35444 | R19: -287.48795 | S19: -287.2417 | T19: -287.06352 | U19: -286.55663 | V19: -287.8086 | W19: -287.42359 | X19: -287.75367 | Y19: -288.15968 | Z19: -289.35761 | AA19: -289.4082 | AB19: -289.6203 | AC19: -288.98168 | AD19: -288.76194 | AE19: -288.81168 | AF19: -288.90958 | AG19: -288.7682 | AH19: -288.33105 | AI19: -287.59817 | AJ19: -287.88948 | AK19: -287.77523 | AL19: -286.79259 | AM19: -287.59906 | AN19: -287.71381 | AO19: -288.68233 | AP19: -287.65158 | AQ19: -287.53496 | AR19: -288.17634 | AS19: -288.3312 | AT19: -287.85582 | AU19: -287.43269 | AV19: -287.00439
A20: 2005.4167 | B20: 0.555 | G20: -288.80842 | H20: -288.89677 | I20: -289.04638 | J20: -289.70779 | K20: -288.11974 | L20: -288.95579 | M20: -288.62921 | N20: -288.69499 | O20: -288.18492 | P20: -288.73225 | Q20: -288.97785 | R20: -288.43986 | S20: -287.92516 | T20: -287.75125 | U20: -287.33884 | V20: -288.50069 | W20: -288.07166 | X20: -288.40142 | Y20: -288.83219 | Z20: -289.90236 | AA20: -289.95088 | AB20: -290.19459 | AC20: -289.50789 | AD20: -289.27967 | AE20: -289.34242 | AF20: -289.45192 | AG20: -289.2687 | AH20: -289.12103 | AI20: -288.4812 | AJ20: -288.7442 | AK20: -288.49493 | AL20: -287.61393 | AM20: -288.34721 | AN20: -288.54626 | AO20: -289.755 | AP20: -288.41005 | AQ20: -288.32512 | AR20: -288.75674 | AS20: -288.93046 | AT20: -288.60331 | AU20: -288.05214 | AV20: -287.66118
... A188: 2019.4167 | B188: 0.68 | G188: -288.80842 | H188: -288.89677 | I188: -289.04638 | J188: -289.70779 | K188: -288.11974 | L188: -288.95579 | M188: -288.62921 | N188: -288.69499 | O188: -288.18492 | P188: -288.73225 | Q188: -288.97785 | R188: -288.43986 | S188: -287.92516 | T188: -287.75125 | U188: -287.33884 | V188: -288.50069 | W188: -288.07166 | X188: -288.40142 | Y188: -288.83219 | Z188: -289.90236 | AA188: -289.95088 | AB188: -290.19459 | AC188: -289.50789 | AD188: -289.27967 | AE188: -289.34242 | AF188: -289.45192 | AG188: -289.2687 | AH188: -289.12103 | AI188: -288.4812 | AJ188: -288.7442 | AK188: -288.49493 | AL188: -287.61393 | AM188: -288.34721 | AN188: -288.54626 | AO188: -289.755 | AP188: -288.41005 | AQ188: -288.32512 | AR188: -288.75674 | AS188: -288.93046 | AT188: -288.60331 | AU188: -288.05214 | AV188: -287.66118
A192: Month | B192: Actual | G192: Series 1 | H192: Series 2 | I192: Series 3 | J192: Series 4 | K192: Series 5 | L192: Series 6 | M192: Series 7 | N192: Series 8 | O192: Series 9 | P192: Series 10 | Q192: Series 11 | R192: Series 12 | S192: Series 13 | T192: Series 14 | U192: Series 15 | V192: Series 16 | W192: Series 17 | X192: Series 18 | Y192: Series 19 | Z192: Series 20 | AA192: Series 21 | AB192: Series 22 | AC192: Series 23 | AD192: Series 24 | AE192: Series 25 | AF192: Series 26 | AG192: Series 27 | AH192: Series 28 | AI192: Series 29 | AJ192: Series 30 | AK192: Series 31 | AL192: Series 32 | AM192: Series 33 | AN192: Series 34 | AO192: Series 35 | AP192: Series 36 | AQ192: Series 37 | AR192: Series 38 | AS192: Series 39 | AT192: Series 40 | AU192: Series 41 | AV192: Series 42

Sheet Offsets Applied
F1: Jan | G1: Feb | H1: Mar | I1: Apr | J1: May | K1: Jun | L1: Jul | M1: Aug | N1: Sep | O1: Oct | P1: Nov | Q1: Dec
E2: Trend Intercept | F2: -31.841165 | G2: -41.422903 | H2: -36.478 | I2: -33.667297 | J2: -29.086291 | K2: -33.942844 | L2: -35.287006 | M2: -37.940075 | N2: -32.043108 | O2: -37.216612 | P2: -31.872104 | Q2: -30.326241
E3: Trend Slope | F3: 0.016155951 | G3: 0.020976863 | H3: 0.018475195 | I3: 0.01705673 | J3: 0.014720578 | K3: 0.017161068 | L3: 0.017840887 | M3: 0.019171429 | N3: 0.016197537 | O3: 0.018811823 | P3: 0.016117734 | Q3: 0.01537931
A8: Month | B8: Actual | D8: Average | E8: Trend | G8: Series 1 | H8: Series 2 | I8: Series 3 | J8: Series 4 | K8: Series 5 | L8: Series 6 | M8: Series 7 | N8: Series 8 | O8: Series 9 | P8: Series 10 | Q8: Series 11 | R8: Series 12 | S8: Series 13 | T8: Series 14 | U8: Series 15 | V8: Series 16 | W8: Series 17 | X8: Series 18 | Y8: Series 19 | Z8: Series 20 | AA8: Series 21 | AB8: Series 22 | AC8: Series 23 | AD8: Series 24 | AE8: Series 25 | AF8: Series 26 | AG8: Series 27 | AH8: Series 28 | AI8: Series 29 | AJ8: Series 30 | AK8: Series 31 | AL8: Series 32 | AM8: Series 33 | AN8: Series 34 | AO8: Series 35 | AP8: Series 36 | AQ8: Series 37 | AR8: Series 38 | AS8: Series 39 | AT8: Series 40 | AU8: Series 41 | AV8: Series 42
A9: 2004.5 | B9: 0.253 | D9: 0.188 | E9: =ROUND($L$2+$L$3*TRUNC(A9),3) -> 0.466 | G9: =Offsets!G9+Prepared!G9 -> 0.63358667 | H9: =Offsets!H9+Prepared!H9 -> 0.41271667 | I9: =Offsets!I9+Prepared!I9 -> 0.42519667 | J9: =Offsets!J9+Prepared!J9 -> 0.83740333 | K9: =Offsets!K9+Prepared!K9 -> 0.72094 | L9: =Offsets!L9+Prepared!L9 -> 0.83047667 | M9: =Offsets!M9+Prepared!M9 -> 0.56000667 | N9: =Offsets!N9+Prepared!N9 -> 0.57515 | ... AV9: =Offsets!AV9+Prepared!AV9 -> 0.70991
A10: 2004.5833 | B10: 0.381 | D10: 0.186 | E10: =ROUND($M$2+$M$3*TRUNC(A9),3) -> 0.479 | G10: =Offsets!G10+Prepared!G10 -> 0.71617333 | H10: =Offsets!H10+Prepared!H10 -> 0.47032 | I10: =Offsets!I10+Prepared!I10 -> 0.62389333 | J10: =Offsets!J10+Prepared!J10 -> 0.92942667 | K10: =Offsets!K10+Prepared!K10 -> 0.55286333 | L10: =Offsets!L10+Prepared!L10 -> 0.80907667 | M10: =Offsets!M10+Prepared!M10 -> 0.66288 | N10: =Offsets!N10+Prepared!N10 -> 0.64875333 | ... AV10: =Offsets!AV10+Prepared!AV10 -> 0.74027
A11: 2004.6667 | B11: 0.413 | D11: 0.164 | E11: =ROUND($N$2+$N$3*TRUNC(A9),3) -> 0.417 | G11: =Offsets!G11+Prepared!G11 -> 0.56716333 | H11: =Offsets!H11+Prepared!H11 -> 0.64196 | I11: =Offsets!I11+Prepared!I11 -> 0.58487333 | J11: =Offsets!J11+Prepared!J11 -> 0.92547 | K11: =Offsets!K11+Prepared!K11 -> 0.47807 | L11: =Offsets!L11+Prepared!L11 -> 0.70364667 | M11: =Offsets!M11+Prepared!M11 -> 0.68052667 | N11: =Offsets!N11+Prepared!N11 -> 0.5699 | ... AV11: =Offsets!AV11+Prepared!AV11 -> 0.80892667
A12: 2004.75 | B12: 0.503 | D12: 0.19 | E12: =ROUND($O$2+$O$3*TRUNC(A9),3) -> 0.482 | G12: =Offsets!G12+Prepared!G12 -> 0.67972 | H12: =Offsets!H12+Prepared!H12 -> 0.70087 | I12: =Offsets!I12+Prepared!I12 -> 0.53066667 | J12: =Offsets!J12+Prepared!J12 -> 0.64561333 | K12: =Offsets!K12+Prepared!K12 -> 0.62034667 | L12: =Offsets!L12+Prepared!L12 -> 0.7958 | M12: =Offsets!M12+Prepared!M12 -> 0.60779667 | N12: =Offsets!N12+Prepared!N12 -> 0.69660333 | ... AV12: =Offsets!AV12+Prepared!AV12 -> 0.88658667
A13: 2004.8333 | B13: 0.625 | D13: 0.177 | E13: =ROUND($P$2+$P$3*TRUNC(A9),3) -> 0.428 | G13: =Offsets!G13+Prepared!G13 -> 0.47969 | H13: =Offsets!H13+Prepared!H13 -> 0.61762333 | I13: =Offsets!I13+Prepared!I13 -> 0.61901667 | J13: =Offsets!J13+Prepared!J13 -> 0.74982 | K13: =Offsets!K13+Prepared!K13 -> 0.39503 | L13: =Offsets!L13+Prepared!L13 -> 0.69803333 | M13: =Offsets!M13+Prepared!M13 -> 0.60365333 | N13: =Offsets!N13+Prepared!N13 -> 0.78925667 | ... AV13: =Offsets!AV13+Prepared!AV13 -> 1.0222533
A14: 2004.9167 | B14: 0.436 | D14: 0.252 | E14: =ROUND($Q$2+$Q$3*TRUNC(A9),3) -> 0.494 | G14: =Offsets!G14+Prepared!G14 -> 0.58413333 | H14: =Offsets!H14+Prepared!H14 -> 0.75096667 | I14: =Offsets!I14+Prepared!I14 -> 0.87106 | J14: =Offsets!J14+Prepared!J14 -> 0.92766 | K14: =Offsets!K14+Prepared!K14 -> 0.46770333 | L14: =Offsets!L14+Prepared!L14 -> 0.75178 | M14: =Offsets!M14+Prepared!M14 -> 0.79976 | N14: =Offsets!N14+Prepared!N14 -> 0.83313667 | ... AV14: =Offsets!AV14+Prepared!AV14 -> 0.98673333
A15: 2005 | B15: 0.632 | D15: 0.301 | E15: =ROUND($F$2+$F$3*TRUNC(A9),3) -> 0.535 | G15: =Offsets!G15+Prepared!G15 -> 0.85706667 | H15: =Offsets!H15+Prepared!H15 -> 0.82583333 | I15: =Offsets!I15+Prepared!I15 -> 0.50069333 | J15: =Offsets!J15+Prepared!J15 -> 0.95699333 | K15: =Offsets!K15+Prepared!K15 -> 0.30816333 | L15: =Offsets!L15+Prepared!L15 -> 0.9802 | M15: =Offsets!M15+Prepared!M15 -> 0.82375333 | N15: =Offsets!N15+Prepared!N15 -> 1.12331 | ... AV15: =Offsets!AV15+Prepared!AV15 -> 0.99031333
A16: 2005.0833 | B16: 0.503 | D16: 0.311 | E16: =ROUND($G$2+$G$3*TRUNC(A9),3) -> 0.615 | G16: =Offsets!G16+Prepared!G16 -> 0.8379 | H16: =Offsets!H16+Prepared!H16 -> 0.7272 | I16: =Offsets!I16+Prepared!I16 -> 0.57421667 | J16: =Offsets!J16+Prepared!J16 -> 0.90179667 | K16: =Offsets!K16+Prepared!K16 -> 0.67088667 | L16: =Offsets!L16+Prepared!L16 -> 0.94005 | M16: =Offsets!M16+Prepared!M16 -> 0.99368667 | N16: =Offsets!N16+Prepared!N16 -> 1.03459 | ... AV16: =Offsets!AV16+Prepared!AV16 -> 0.98044667
A17: 2005.1667 | B17: 0.679 | D17: 0.278 | E17: =ROUND($H$2+$H$3*TRUNC(A9),3) -> 0.546 | G17: =Offsets!G17+Prepared!G17 -> 0.83374667 | H17: =Offsets!H17+Prepared!H17 -> 0.60382333 | I17: =Offsets!I17+Prepared!I17 -> 0.72088667 | J17: =Offsets!J17+Prepared!J17 -> 1.0037267 | K17: =Offsets!K17+Prepared!K17 -> 0.51698667 | L17: =Offsets!L17+Prepared!L17 -> 0.96825 | M17: =Offsets!M17+Prepared!M17 -> 0.81670667 | N17: =Offsets!N17+Prepared!N17 -> 0.88928667 | ... AV17: =Offsets!AV17+Prepared!AV17 -> 0.97427667
A18: 2005.25 | B18: 0.682 | D18: 0.267 | E18: =ROUND($I$2+$I$3*TRUNC(A9),3) -> 0.514 | G18: =Offsets!G18+Prepared!G18 -> 0.60956667 | H18: =Offsets!H18+Prepared!H18 -> 0.61598333 | I18: =Offsets!I18+Prepared!I18 -> 0.49374 | J18: =Offsets!J18+Prepared!J18 -> 1.1808333 | K18: =Offsets!K18+Prepared!K18 -> 0.44785667 | L18: =Offsets!L18+Prepared!L18 -> 1.0779633 | M18: =Offsets!M18+Prepared!M18 -> 0.63602667 | N18: =Offsets!N18+Prepared!N18 -> 0.91281667 | ... AV18: =Offsets!AV18+Prepared!AV18 -> 0.91166
A19: 2005.3333 | B19: 0.535 | D19: 0.2 | E19: =ROUND($J$2+$J$3*TRUNC(A9),3) -> 0.414 | G19: =Offsets!G19+Prepared!G19 -> 0.58411333 | H19: =Offsets!H19+Prepared!H19 -> 0.62556667 | I19: =Offsets!I19+Prepared!I19 -> 0.47575 | J19: =Offsets!J19+Prepared!J19 -> 0.89313 | K19: =Offsets!K19+Prepared!K19 -> 0.37705667 | L19: =Offsets!L19+Prepared!L19 -> 0.81389667 | M19: =Offsets!M19+Prepared!M19 -> 0.75702 | N19: =Offsets!N19+Prepared!N19 -> 0.90120333 | ... AV19: =Offsets!AV19+Prepared!AV19 -> 0.65261
A20: 2005.4167 | B20: 0.555 | D20: 0.199 | E20: =ROUND($K$2+$K$3*TRUNC(A9),3) -> 0.448 | G20: =Offsets!G20+Prepared!G20 -> 0.52897667 | H20: =Offsets!H20+Prepared!H20 -> 0.57423333 | I20: =Offsets!I20+Prepared!I20 -> 0.61881667 | J20: =Offsets!J20+Prepared!J20 -> 0.85501 | K20: =Offsets!K20+Prepared!K20 -> 0.59245667 | L20: =Offsets!L20+Prepared!L20 -> 0.77630667 | M20: =Offsets!M20+Prepared!M20 -> 0.60808667 | N20: =Offsets!N20+Prepared!N20 -> 0.82051333 | ... AV20: =Offsets!AV20+Prepared!AV20 -> 0.64752
A21: 2005.5 | B21: 0.527 | D21: 0.188 | E21: =ROUND($L$2+$L$3*TRUNC(A21),3) -> 0.484 | G21: =Offsets!G21+Prepared!G21 -> 0.55628667 | H21: =Offsets!H21+Prepared!H21 -> 0.49451667 | I21: =Offsets!I21+Prepared!I21 -> 0.60479667 | J21: =Offsets!J21+Prepared!J21 -> 0.83560333 | K21: =Offsets!K21+Prepared!K21 -> 0.65804 | L21: =Offsets!L21+Prepared!L21 -> 0.99177667 | M21: =Offsets!M21+Prepared!M21 -> 0.46910667 | N21: =Offsets!N21+Prepared!N21 -> 0.86225 | ... AV21: =Offsets!AV21+Prepared!AV21 -> 0.68751
A22: 2005.5833 | B22: 0.497 | D22: 0.186 | E22: =ROUND($M$2+$M$3*TRUNC(A21),3) -> 0.499 | G22: =Offsets!G22+Prepared!G22 -> 0.44557333 | H22: =Offsets!H22+Prepared!H22 -> 0.46592 | I22: =Offsets!I22+Prepared!I22 -> 0.67129333 | J22: =Offsets!J22+Prepared!J22 -> 1.0635267 | K22: =Offsets!K22+Prepared!K22 -> 0.79286333 | L22: =Offsets!L22+Prepared!L22 -> 0.99897667 | M22: =Offsets!M22+Prepared!M22 -> 0.69218 | N22: =Offsets!N22+Prepared!N22 -> 0.76715333 | ... AV22: =Offsets!AV22+Prepared!AV22 -> 0.60777
A23: 2005.6667 | B23: 0.589 | D23: 0.164 | E23: =ROUND($N$2+$N$3*TRUNC(A21),3) -> 0.433 | G23: =Offsets!G23+Prepared!G23 -> 0.57866333 | H23: =Offsets!H23+Prepared!H23 -> 0.65996 | I23: =Offsets!I23+Prepared!I23 -> 0.52317333 | J23: =Offsets!J23+Prepared!J23 -> 0.77147 | K23: =Offsets!K23+Prepared!K23 -> 0.75707 | L23: =Offsets!L23+Prepared!L23 -> 0.91544667 | M23: =Offsets!M23+Prepared!M23 -> 0.58502667 | N23: =Offsets!N23+Prepared!N23 -> 0.8084 | ... AV23: =Offsets!AV23+Prepared!AV23 -> 0.62932667
A24: 2005.75 | B24: 0.646 | D24: 0.19 | E24: =ROUND($O$2+$O$3*TRUNC(A21),3) -> 0.501 | G24: =Offsets!G24+Prepared!G24 -> 0.65222 | H24: =Offsets!H24+Prepared!H24 -> 0.63917 | I24: =Offsets!I24+Prepared!I24 -> 0.53486667 | J24: =Offsets!J24+Prepared!J24 -> 0.75731333 | K24: =Offsets!K24+Prepared!K24 -> 0.74474667 | L24: =Offsets!L24+Prepared!L24 -> 1.0129 | M24: =Offsets!M24+Prepared!M24 -> 0.62619667 | N24: =Offsets!N24+Prepared!N24 -> 0.71820333 | ... AV24: =Offsets!AV24+Prepared!AV24 -> 0.66338667
A25: 2005.8333 | B25: 0.611 | D25: 0.177 | E25: =ROUND($P$2+$P$3*TRUNC(A21),3) -> 0.444 | G25: =Offsets!G25+Prepared!G25 -> 0.45919 | H25: =Offsets!H25+Prepared!H25 -> 0.84712333 | I25: =Offsets!I25+Prepared!I25 -> 0.68671667 | J25: =Offsets!J25+Prepared!J25 -> 0.85452 | K25: =Offsets!K25+Prepared!K25 -> 1.01413 | L25: =Offsets!L25+Prepared!L25 -> 1.0791333 | M25: =Offsets!M25+Prepared!M25 -> 0.79135333 | N25: =Offsets!N25+Prepared!N25 -> 0.74745667 | ... AV25: =Offsets!AV25+Prepared!AV25 -> 0.83045333
A26: 2005.9167 | B26: 0.6 | D26: 0.252 | E26: =ROUND($Q$2+$Q$3*TRUNC(A21),3) -> 0.509 | G26: =Offsets!G26+Prepared!G26 -> 0.39143333 | H26: =Offsets!H26+Prepared!H26 -> 0.86096667 | I26: =Offsets!I26+Prepared!I26 -> 0.88696 | J26: =Offsets!J26+Prepared!J26 -> 0.90496 | K26: =Offsets!K26+Prepared!K26 -> 0.83860333 | L26: =Offsets!L26+Prepared!L26 -> 1.33118 | M26: =Offsets!M26+Prepared!M26 -> 0.73596 | N26: =Offsets!N26+Prepared!N26 -> 0.95843667 | ... AV26: =Offsets!AV26+Prepared!AV26 -> 0.73313333
A27: 2006 | B27: 0.468 | D27: 0.301 | E27: =ROUND($F$2+$F$3*TRUNC(A21),3) -> 0.552 | G27: =Offsets!G27+Prepared!G27 -> 0.54666667 | H27: =Offsets!H27+Prepared!H27 -> 0.86233333 | I27: =Offsets!I27+Prepared!I27 -> 0.77559333 | J27: =Offsets!J27+Prepared!J27 -> 1.0453933 | K27: =Offsets!K27+Prepared!K27 -> 0.90186333 | L27: =Offsets!L27+Prepared!L27 -> 1.3119 | M27: =Offsets!M27+Prepared!M27 -> 1.0353533 | N27: =Offsets!N27+Prepared!N27 -> 0.74371 | ... AV27: =Offsets!AV27+Prepared!AV27 -> 0.78801333
A28: 2006.0833 | B28: 0.627 | D28: 0.311 | E28: =ROUND($G$2+$G$3*TRUNC(A21),3) -> 0.636 | G28: =Offsets!G28+Prepared!G28 -> 0.4408 | H28: =Offsets!H28+Prepared!H28 -> 0.9182 | I28: =Offsets!I28+Prepared!I28 -> 0.73511667 | J28: =Offsets!J28+Prepared!J28 -> 0.92799667 | K28: =Offsets!K28+Prepared!K28 -> 0.82818667 | L28: =Offsets!L28+Prepared!L28 -> 1.47185 | M28: =Offsets!M28+Prepared!M28 -> 1.1235867 | N28: =Offsets!N28+Prepared!N28 -> 0.81039 | ... AV28: =Offsets!AV28+Prepared!AV28 -> 1.0031467
A29: 2006.1667 | B29: 0.527 | D29: 0.278 | E29: =ROUND($H$2+$H$3*TRUNC(A21),3) -> 0.565 | G29: =Offsets!G29+Prepared!G29 -> 0.62564667 | H29: =Offsets!H29+Prepared!H29 -> 0.78252333 | I29: =Offsets!I29+Prepared!I29 -> 0.73578667 | J29: =Offsets!J29+Prepared!J29 -> 0.90162667 | K29: =Offsets!K29+Prepared!K29 -> 1.1819867 | L29: =Offsets!L29+Prepared!L29 -> 1.30205 | M29: =Offsets!M29+Prepared!M29 -> 0.76730667 | N29: =Offsets!N29+Prepared!N29 -> 0.91618667 | ... AV29: =Offsets!AV29+Prepared!AV29 -> 0.68097667
A30: 2006.25 | B30: 0.451 | D30: 0.267 | E30: =ROUND($I$2+$I$3*TRUNC(A21),3) -> 0.531 | G30: =Offsets!G30+Prepared!G30 -> 0.50526667 | H30: =Offsets!H30+Prepared!H30 -> 0.64468333 | I30: =Offsets!I30+Prepared!I30 -> 0.50814 | J30: =Offsets!J30+Prepared!J30 -> 0.93683333 | K30: =Offsets!K30+Prepared!K30 -> 1.0024567 | L30: =Offsets!L30+Prepared!L30 -> 1.1469633 | M30: =Offsets!M30+Prepared!M30 -> 0.79852667 | N30: =Offsets!N30+Prepared!N30 -> 0.95041667 | ... AV30: =Offsets!AV30+Prepared!AV30 -> 0.70906
A31: 2006.3333 | B31: 0.367 | D31: 0.2 | E31: =ROUND($J$2+$J$3*TRUNC(A21),3) -> 0.428 | G31: =Offsets!G31+Prepared!G31 -> 0.41111333 | H31: =Offsets!H31+Prepared!H31 -> 0.53356667 | I31: =Offsets!I31+Prepared!I31 -> 0.31595 | J31: =Offsets!J31+Prepared!J31 -> 0.80923 | K31: =Offsets!K31+Prepared!K31 -> 0.85675667 | L31: =Offsets!L31+Prepared!L31 -> 1.0623967 | M31: =Offsets!M31+Prepared!M31 -> 0.83102 | N31: =Offsets!N31+Prepared!N31 -> 0.77990333 | ... AV31: =Offsets!AV31+Prepared!AV31 -> 0.53441
A32: 2006.4167 | B32: 0.529 | D32: 0.199 | E32: =ROUND($K$2+$K$3*TRUNC(A21),3) -> 0.465 | G32: =Offsets!G32+Prepared!G32 -> 0.42797667 | H32: =Offsets!H32+Prepared!H32 -> 0.58113333 | I32: =Offsets!I32+Prepared!I32 -> 0.37521667 | J32: =Offsets!J32+Prepared!J32 -> 0.75261 | K32: =Offsets!K32+Prepared!K32 -> 1.0941567 | L32: =Offsets!L32+Prepared!L32 -> 0.90550667 | M32: =Offsets!M32+Prepared!M32 -> 0.87568667 | N32: =Offsets!N32+Prepared!N32 -> 0.75681333 | ... AV32: =Offsets!AV32+Prepared!AV32 -> 0.51752
A33: 2006.5 | B33: 0.433 | D33: 0.188 | E33: =ROUND($L$2+$L$3*TRUNC(A33),3) -> 0.502 | G33: =Offsets!G33+Prepared!G33 -> 0.49208667 | H33: =Offsets!H33+Prepared!H33 -> 0.45451667 | I33: =Offsets!I33+Prepared!I33 -> 0.65219667 | J33: =Offsets!J33+Prepared!J33 -> 0.79540333 | K33: =Offsets!K33+Prepared!K33 -> 1.27504 | L33: =Offsets!L33+Prepared!L33 -> 1.0579767 | M33: =Offsets!M33+Prepared!M33 -> 0.80390667 | N33: =Offsets!N33+Prepared!N33 -> 0.64915 | ... AV33: =Offsets!AV33+Prepared!AV33 -> 0.52831
A34: 2006.5833 | B34: 0.595 | D34: 0.186 | E34: =ROUND($M$2+$M$3*TRUNC(A33),3) -> 0.518 | G34: =Offsets!G34+Prepared!G34 -> 0.68837333 | H34: =Offsets!H34+Prepared!H34 -> 0.51802 | I34: =Offsets!I34+Prepared!I34 -> 0.50289333 | J34: =Offsets!J34+Prepared!J34 -> 0.85402667 | K34: =Offsets!K34+Prepared!K34 -> 1.0919633 | L34: =Offsets!L34+Prepared!L34 -> 1.1775767 | M34: =Offsets!M34+Prepared!M34 -> 0.67228 | N34: =Offsets!N34+Prepared!N34 -> 0.62735333 | ... AV34: =Offsets!AV34+Prepared!AV34 -> 0.65767
A35: 2006.6667 | B35: 0.473 | D35: 0.164 | E35: =ROUND($N$2+$N$3*TRUNC(A33),3) -> 0.449 | G35: =Offsets!G35+Prepared!G35 -> 0.66716333 | H35: =Offsets!H35+Prepared!H35 -> 0.60036 | I35: =Offsets!I35+Prepared!I35 -> 0.59977333 | J35: =Offsets!J35+Prepared!J35 -> 0.75557 | K35: =Offsets!K35+Prepared!K35 -> 0.96317 | L35: =Offsets!L35+Prepared!L35 -> 1.1252467 | M35: =Offsets!M35+Prepared!M35 -> 0.74802667 | N35: =Offsets!N35+Prepared!N35 -> 0.6397 | ... AV35: =Offsets!AV35+Prepared!AV35 -> 0.46972667
A36: 2006.75 | B36: 0.556 | D36: 0.19 | E36: =ROUND($O$2+$O$3*TRUNC(A33),3) -> 0.52 | G36: =Offsets!G36+Prepared!G36 -> 0.69282 | H36: =Offsets!H36+Prepared!H36 -> 0.64817 | I36: =Offsets!I36+Prepared!I36 -> 0.64936667 | J36: =Offsets!J36+Prepared!J36 -> 0.73291333 | K36: =Offsets!K36+Prepared!K36 -> 1.3418467 | L36: =Offsets!L36+Prepared!L36 -> 1.0032 | M36: =Offsets!M36+Prepared!M36 -> 0.73529667 | N36: =Offsets!N36+Prepared!N36 -> 0.74240333 | ... AV36: =Offsets!AV36+Prepared!AV36 -> 0.53498667
A37: 2006.8333 | B37: 0.532 | D37: 0.177 | E37: =ROUND($P$2+$P$3*TRUNC(A33),3) -> 0.46 | G37: =Offsets!G37+Prepared!G37 -> 0.82949 | H37: =Offsets!H37+Prepared!H37 -> 0.82362333 | I37: =Offsets!I37+Prepared!I37 -> 0.69471667 | J37: =Offsets!J37+Prepared!J37 -> 0.70472 | K37: =Offsets!K37+Prepared!K37 -> 1.36333 | L37: =Offsets!L37+Prepared!L37 -> 0.93073333 | M37: =Offsets!M37+Prepared!M37 -> 0.79215333 | N37: =Offsets!N37+Prepared!N37 -> 0.84195667 | ... AV37: =Offsets!AV37+Prepared!AV37 -> 0.60865333
A38: 2006.9167 | B38: 0.689 | D38: 0.252 | E38: =ROUND($Q$2+$Q$3*TRUNC(A33),3) -> 0.525 | G38: =Offsets!G38+Prepared!G38 -> 0.68423333 | H38: =Offsets!H38+Prepared!H38 -> 0.83426667 | I38: =Offsets!I38+Prepared!I38 -> 0.66206 | J38: =Offsets!J38+Prepared!J38 -> 0.74856 | K38: =Offsets!K38+Prepared!K38 -> 1.0952033 | L38: =Offsets!L38+Prepared!L38 -> 0.68638 | M38: =Offsets!M38+Prepared!M38 -> 1.06796 | N38: =Offsets!N38+Prepared!N38 -> 0.68713667 | ... AV38: =Offsets!AV38+Prepared!AV38 -> 0.82253333
A39: 2007 | B39: 0.894 | D39: 0.301 | E39: =ROUND($F$2+$F$3*TRUNC(A33),3) -> 0.568 | G39: =Offsets!G39+Prepared!G39 -> 0.80536667 | H39: =Offsets!H39+Prepared!H39 -> 0.85903333 | I39: =Offsets!I39+Prepared!I39 -> 0.75049333 | J39: =Offsets!J39+Prepared!J39 -> 0.68949333 | K39: =Offsets!K39+Prepared!K39 -> 1.2324633 | L39: =Offsets!L39+Prepared!L39 -> 0.7967 | M39: =Offsets!M39+Prepared!M39 -> 1.0400533 | N39: =Offsets!N39+Prepared!N39 -> 0.59351 | ... AV39: =Offsets!AV39+Prepared!AV39 -> 0.67451333
A40: 2007.0833 | B40: 0.621 | D40: 0.311 | E40: =ROUND($G$2+$G$3*TRUNC(A33),3) -> 0.657 | G40: =Offsets!G40+Prepared!G40 -> 0.8263 | H40: =Offsets!H40+Prepared!H40 -> 0.736 | I40: =Offsets!I40+Prepared!I40 -> 0.72591667 | J40: =Offsets!J40+Prepared!J40 -> 0.56169667 | K40: =Offsets!K40+Prepared!K40 -> 0.98538667 | L40: =Offsets!L40+Prepared!L40 -> 0.80715 | M40: =Offsets!M40+Prepared!M40 -> 1.1484867 | N40: =Offsets!N40+Prepared!N40 -> 0.90299 | ... AV40: =Offsets!AV40+Prepared!AV40 -> 0.62944667
A41: 2007.1667 | B41: 0.582 | D41: 0.278 | E41: =ROUND($H$2+$H$3*TRUNC(A33),3) -> 0.583 | G41: =Offsets!G41+Prepared!G41 -> 0.76274667 | H41: =Offsets!H41+Prepared!H41 -> 0.62052333 | I41: =Offsets!I41+Prepared!I41 -> 0.58678667 | J41: =Offsets!J41+Prepared!J41 -> 0.63582667 | K41: =Offsets!K41+Prepared!K41 -> 1.0547867 | L41: =Offsets!L41+Prepared!L41 -> 0.84425 | M41: =Offsets!M41+Prepared!M41 -> 1.1198067 | N41: =Offsets!N41+Prepared!N41 -> 0.75668667 | ... AV41: =Offsets!AV41+Prepared!AV41 -> 0.62707667
A42: 2007.25 | B42: 0.649 | D42: 0.267 | E42: =ROUND($I$2+$I$3*TRUNC(A33),3) -> 0.549 | G42: =Offsets!G42+Prepared!G42 -> 0.79656667 | H42: =Offsets!H42+Prepared!H42 -> 0.64328333 | I42: =Offsets!I42+Prepared!I42 -> 0.72134 | J42: =Offsets!J42+Prepared!J42 -> 0.60923333 | K42: =Offsets!K42+Prepared!K42 -> 0.97625667 | L42: =Offsets!L42+Prepared!L42 -> 0.73206333 | M42: =Offsets!M42+Prepared!M42 -> 1.0910267 | N42: =Offsets!N42+Prepared!N42 -> 0.88261667 | ... AV42: =Offsets!AV42+Prepared!AV42 -> 0.42486
A43: 2007.3333 | B43: 0.539 | D43: 0.2 | E43: =ROUND($J$2+$J$3*TRUNC(A33),3) -> 0.443 | G43: =Offsets!G43+Prepared!G43 -> 0.59701333 | H43: =Offsets!H43+Prepared!H43 -> 0.64606667 | I43: =Offsets!I43+Prepared!I43 -> 0.73745 | J43: =Offsets!J43+Prepared!J43 -> 0.61043 | K43: =Offsets!K43+Prepared!K43 -> 0.94825667 | L43: =Offsets!L43+Prepared!L43 -> 0.65359667 | M43: =Offsets!M43+Prepared!M43 -> 1.09082 | N43: =Offsets!N43+Prepared!N43 -> 0.69210333 | ... AV43: =Offsets!AV43+Prepared!AV43 -> 0.44821
A44: 2007.4167 | B44: 0.476 | D44: 0.199 | E44: =ROUND($K$2+$K$3*TRUNC(A33),3) -> 0.482 | G44: =Offsets!G44+Prepared!G44 -> 0.56187667 | H44: =Offsets!H44+Prepared!H44 -> 0.43993333 | I44: =Offsets!I44+Prepared!I44 -> 0.58091667 | J44: =Offsets!J44+Prepared!J44 -> 0.74071 | K44: =Offsets!K44+Prepared!K44 -> 0.82115667 | L44: =Offsets!L44+Prepared!L44 -> 0.57700667 | M44: =Offsets!M44+Prepared!M44 -> 0.99808667 | N44: =Offsets!N44+Prepared!N44 -> 0.68881333 | ... AV44: =Offsets!AV44+Prepared!AV44 -> 0.36012
A45: 2007.5 | B45: 0.5 | D45: 0.188 | E45: =ROUND($L$2+$L$3*TRUNC(A45),3) -> 0.52 | G45: =Offsets!G45+Prepared!G45 -> 0.59198667 | H45: =Offsets!H45+Prepared!H45 -> 0.50701667 | I45: =Offsets!I45+Prepared!I45 -> 0.59339667 | J45: =Offsets!J45+Prepared!J45 -> 0.82500333 | K45: =Offsets!K45+Prepared!K45 -> 0.73624 | L45: =Offsets!L45+Prepared!L45 -> 0.56137667 | M45: =Offsets!M45+Prepared!M45 -> 0.87330667 | N45: =Offsets!N45+Prepared!N45 -> 0.65385 | ... AV45: =Offsets!AV45+Prepared!AV45 -> 0.47041
A46: 2007.5833 | B46: 0.451 | D46: 0.186 | E46: =ROUND($M$2+$M$3*TRUNC(A45),3) -> 0.537 | G46: =Offsets!G46+Prepared!G46 -> 0.79217333 | H46: =Offsets!H46+Prepared!H46 -> 0.69912 | I46: =Offsets!I46+Prepared!I46 -> 0.70469333 | J46: =Offsets!J46+Prepared!J46 -> 0.96912667 | K46: =Offsets!K46+Prepared!K46 -> 0.81766333 | L46: =Offsets!L46+Prepared!L46 -> 0.70327667 | M46: =Offsets!M46+Prepared!M46 -> 0.67078 | N46: =Offsets!N46+Prepared!N46 -> 0.62785333 | ... AV46: =Offsets!AV46+Prepared!AV46 -> 0.60667
A47: 2007.6667 | B47: 0.425 | D47: 0.164 | E47: =ROUND($N$2+$N$3*TRUNC(A45),3) -> 0.465 | G47: =Offsets!G47+Prepared!G47 -> 0.56476333 | H47: =Offsets!H47+Prepared!H47 -> 0.69336 | I47: =Offsets!I47+Prepared!I47 -> 0.66197333 | J47: =Offsets!J47+Prepared!J47 -> 0.79647 | K47: =Offsets!K47+Prepared!K47 -> 0.68367 | L47: =Offsets!L47+Prepared!L47 -> 0.67834667 | M47: =Offsets!M47+Prepared!M47 -> 0.62602667 | N47: =Offsets!N47+Prepared!N47 -> 0.5258 | ... AV47: =Offsets!AV47+Prepared!AV47 -> 0.61082667
A48: 2007.75 | B48: 0.488 | D48: 0.19 | E48: =ROUND($O$2+$O$3*TRUNC(A45),3) -> 0.539 | G48: =Offsets!G48+Prepared!G48 -> 0.61432 | H48: =Offsets!H48+Prepared!H48 -> 0.78877 | I48: =Offsets!I48+Prepared!I48 -> 0.83926667 | J48: =Offsets!J48+Prepared!J48 -> 1.0042133 | K48: =Offsets!K48+Prepared!K48 -> 0.65644667 | L48: =Offsets!L48+Prepared!L48 -> 0.6818 | M48: =Offsets!M48+Prepared!M48 -> 0.91049667 | N48: =Offsets!N48+Prepared!N48 -> 0.67860333 | ... AV48: =Offsets!AV48+Prepared!AV48 -> 0.78958667
A49: 2007.8333 | B49: 0.435 | D49: 0.177 | E49: =ROUND($P$2+$P$3*TRUNC(A45),3) -> 0.476 | G49: =Offsets!G49+Prepared!G49 -> 0.73469 | H49: =Offsets!H49+Prepared!H49 -> 0.65192333 | I49: =Offsets!I49+Prepared!I49 -> 1.0200167 | J49: =Offsets!J49+Prepared!J49 -> 0.97332 | K49: =Offsets!K49+Prepared!K49 -> 0.55773 | L49: =Offsets!L49+Prepared!L49 -> 0.57673333 | M49: =Offsets!M49+Prepared!M49 -> 0.70725333 | N49: =Offsets!N49+Prepared!N49 -> 0.76745667 | ... AV49: =Offsets!AV49+Prepared!AV49 -> 0.56515333
A50: 2007.9167 | B50: 0.388 | D50: 0.252 | E50: =ROUND($Q$2+$Q$3*TRUNC(A45),3) -> 0.54 | G50: =Offsets!G50+Prepared!G50 -> 0.65153333 | H50: =Offsets!H50+Prepared!H50 -> 0.75996667 | I50: =Offsets!I50+Prepared!I50 -> 0.99406 | J50: =Offsets!J50+Prepared!J50 -> 1.01606 | K50: =Offsets!K50+Prepared!K50 -> 0.58410333 | L50: =Offsets!L50+Prepared!L50 -> 0.41448 | M50: =Offsets!M50+Prepared!M50 -> 1.15656 | N50: =Offsets!N50+Prepared!N50 -> 0.77133667 | ... AV50: =Offsets!AV50+Prepared!AV50 -> 0.70333333
A51: 2008 | B51: 0.212 | D51: 0.301 | E51: =ROUND($F$2+$F$3*TRUNC(A45),3) -> 0.584 | G51: =Offsets!G51+Prepared!G51 -> 0.78956667 | H51: =Offsets!H51+Prepared!H51 -> 0.87313333 | I51: =Offsets!I51+Prepared!I51 -> 0.88489333 | J51: =Offsets!J51+Prepared!J51 -> 0.92609333 | K51: =Offsets!K51+Prepared!K51 -> 0.73246333 | L51: =Offsets!L51+Prepared!L51 -> 0.7123 | M51: =Offsets!M51+Prepared!M51 -> 0.80735333 | N51: =Offsets!N51+Prepared!N51 -> 0.68911 | ... AV51: =Offsets!AV51+Prepared!AV51 -> 0.95121333
A52: 2008.0833 | B52: 0.278 | D52: 0.311 | E52: =ROUND($G$2+$G$3*TRUNC(A45),3) -> 0.678 | G52: =Offsets!G52+Prepared!G52 -> 0.8149 | H52: =Offsets!H52+Prepared!H52 -> 0.8423 | I52: =Offsets!I52+Prepared!I52 -> 0.93161667 | J52: =Offsets!J52+Prepared!J52 -> 1.0583967 | K52: =Offsets!K52+Prepared!K52 -> 1.0257867 | L52: =Offsets!L52+Prepared!L52 -> 0.48495 | M52: =Offsets!M52+Prepared!M52 -> 0.67538667 | N52: =Offsets!N52+Prepared!N52 -> 0.62579 | ... AV52: =Offsets!AV52+Prepared!AV52 -> 0.90894667
A53: 2008.1667 | B53: 0.648 | D53: 0.278 | E53: =ROUND($H$2+$H$3*TRUNC(A45),3) -> 0.602 | G53: =Offsets!G53+Prepared!G53 -> 0.74214667 | H53: =Offsets!H53+Prepared!H53 -> 0.87352333 | I53: =Offsets!I53+Prepared!I53 -> 0.87948667 | J53: =Offsets!J53+Prepared!J53 -> 0.99422667 | K53: =Offsets!K53+Prepared!K53 -> 0.54128667 | L53: =Offsets!L53+Prepared!L53 -> 0.64455 | M53: =Offsets!M53+Prepared!M53 -> 0.74690667 | N53: =Offsets!N53+Prepared!N53 -> 0.74858667 | ... AV53: =Offsets!AV53+Prepared!AV53 -> 0.61137667
A54: 2008.25 | B54: 0.461 | D54: 0.267 | E54: =ROUND($I$2+$I$3*TRUNC(A45),3) -> 0.566 | G54: =Offsets!G54+Prepared!G54 -> 0.71576667 | H54: =Offsets!H54+Prepared!H54 -> 0.81198333 | I54: =Offsets!I54+Prepared!I54 -> 0.65254 | J54: =Offsets!J54+Prepared!J54 -> 1.0094333 | K54: =Offsets!K54+Prepared!K54 -> 0.58985667 | L54: =Offsets!L54+Prepared!L54 -> 0.51226333 | M54: =Offsets!M54+Prepared!M54 -> 0.82062667 | N54: =Offsets!N54+Prepared!N54 -> 0.90091667 | ... AV54: =Offsets!AV54+Prepared!AV54 -> 0.49486
A55: 2008.3333 | B55: 0.401 | D55: 0.2 | E55: =ROUND($J$2+$J$3*TRUNC(A45),3) -> 0.458 | G55: =Offsets!G55+Prepared!G55 -> 0.60311333 | H55: =Offsets!H55+Prepared!H55 -> 0.76716667 | I55: =Offsets!I55+Prepared!I55 -> 0.74195 | J55: =Offsets!J55+Prepared!J55 -> 0.85123 | K55: =Offsets!K55+Prepared!K55 -> 0.71215667 | L55: =Offsets!L55+Prepared!L55 -> 0.55909667 | M55: =Offsets!M55+Prepared!M55 -> 0.71272 | N55: =Offsets!N55+Prepared!N55 -> 0.63160333 | ... AV55: =Offsets!AV55+Prepared!AV55 -> 0.55621
A56: 2008.4167 | B56: 0.392 | D56: 0.199 | E56: =ROUND($K$2+$K$3*TRUNC(A45),3) -> 0.499 | G56: =Offsets!G56+Prepared!G56 -> 0.65737667 | H56: =Offsets!H56+Prepared!H56 -> 0.83983333 | I56: =Offsets!I56+Prepared!I56 -> 0.73411667 | J56: =Offsets!J56+Prepared!J56 -> 0.81491 | K56: =Offsets!K56+Prepared!K56 -> 0.75265667 | L56: =Offsets!L56+Prepared!L56 -> 0.61130667 | M56: =Offsets!M56+Prepared!M56 -> 0.62128667 | N56: =Offsets!N56+Prepared!N56 -> 0.66281333 | ... AV56: =Offsets!AV56+Prepared!AV56 -> 0.53302
A57: 2008.5 | B57: 0.473 | D57: 0.188 | E57: =ROUND($L$2+$L$3*TRUNC(A57),3) -> 0.537 | G57: =Offsets!G57+Prepared!G57 -> 0.66678667 | H57: =Offsets!H57+Prepared!H57 -> 0.73741667 | I57: =Offsets!I57+Prepared!I57 -> 0.74799667 | J57: =Offsets!J57+Prepared!J57 -> 0.72540333 | K57: =Offsets!K57+Prepared!K57 -> 0.96994 | L57: =Offsets!L57+Prepared!L57 -> 0.69277667 | M57: =Offsets!M57+Prepared!M57 -> 0.67150667 | N57: =Offsets!N57+Prepared!N57 -> 0.65995 | ... AV57: =Offsets!AV57+Prepared!AV57 -> 0.46091
A58: 2008.5833 | B58: 0.39 | D58: 0.186 | E58: =ROUND($M$2+$M$3*TRUNC(A57),3) -> 0.556 | G58: =Offsets!G58+Prepared!G58 -> 0.60447333 | H58: =Offsets!H58+Prepared!H58 -> 0.79532 | I58: =Offsets!I58+Prepared!I58 -> 0.87479333 | J58: =Offsets!J58+Prepared!J58 -> 0.81952667 | K58: =Offsets!K58+Prepared!K58 -> 0.95146333 | L58: =Offsets!L58+Prepared!L58 -> 0.73257667 | M58: =Offsets!M58+Prepared!M58 -> 0.73058 | N58: =Offsets!N58+Prepared!N58 -> 0.63965333 | ... AV58: =Offsets!AV58+Prepared!AV58 -> 0.52827
A59: 2008.6667 | B59: 0.439 | D59: 0.164 | E59: =ROUND($N$2+$N$3*TRUNC(A57),3) -> 0.482 | G59: =Offsets!G59+Prepared!G59 -> 0.55176333 | H59: =Offsets!H59+Prepared!H59 -> 0.90886 | I59: =Offsets!I59+Prepared!I59 -> 0.77347333 | J59: =Offsets!J59+Prepared!J59 -> 0.56077 | K59: =Offsets!K59+Prepared!K59 -> 0.85407 | L59: =Offsets!L59+Prepared!L59 -> 0.60884667 | M59: =Offsets!M59+Prepared!M59 -> 0.71652667 | N59: =Offsets!N59+Prepared!N59 -> 0.6938 | ... AV59: =Offsets!AV59+Prepared!AV59 -> 0.46112667
A60: 2008.75 | B60: 0.559 | D60: 0.19 | E60: =ROUND($O$2+$O$3*TRUNC(A57),3) -> 0.558 | G60: =Offsets!G60+Prepared!G60 -> 0.65822 | H60: =Offsets!H60+Prepared!H60 -> 0.97327 | I60: =Offsets!I60+Prepared!I60 -> 0.91166667 | J60: =Offsets!J60+Prepared!J60 -> 0.51821333 | K60: =Offsets!K60+Prepared!K60 -> 0.98224667 | L60: =Offsets!L60+Prepared!L60 -> 0.7661 | M60: =Offsets!M60+Prepared!M60 -> 0.78859667 | N60: =Offsets!N60+Prepared!N60 -> 0.69430333 | ... AV60: =Offsets!AV60+Prepared!AV60 -> 0.54418667
A61: 2008.8333 | B61: 0.529 | D61: 0.177 | E61: =ROUND($P$2+$P$3*TRUNC(A57),3) -> 0.492 | G61: =Offsets!G61+Prepared!G61 -> 0.62049 | H61: =Offsets!H61+Prepared!H61 -> 1.0561233 | I61: =Offsets!I61+Prepared!I61 -> 0.98621667 | J61: =Offsets!J61+Prepared!J61 -> 0.65652 | K61: =Offsets!K61+Prepared!K61 -> 0.89273 | L61: =Offsets!L61+Prepared!L61 -> 0.64943333 | M61: =Offsets!M61+Prepared!M61 -> 0.68195333 | N61: =Offsets!N61+Prepared!N61 -> 0.65105667 | ... AV61: =Offsets!AV61+Prepared!AV61 -> 0.67085333
A62: 2008.9167 | B62: 0.429 | D62: 0.252 | E62: =ROUND($Q$2+$Q$3*TRUNC(A57),3) -> 0.555 | G62: =Offsets!G62+Prepared!G62 -> 0.58773333 | H62: =Offsets!H62+Prepared!H62 -> 1.0936667 | I62: =Offsets!I62+Prepared!I62 -> 0.97866 | J62: =Offsets!J62+Prepared!J62 -> 0.61246 | K62: =Offsets!K62+Prepared!K62 -> 0.91060333 | L62: =Offsets!L62+Prepared!L62 -> 0.64018 | M62: =Offsets!M62+Prepared!M62 -> 0.53916 | N62: =Offsets!N62+Prepared!N62 -> 0.72863667 | ... AV62: =Offsets!AV62+Prepared!AV62 -> 0.54823333
A63: 2009 | B63: 0.571 | D63: 0.301 | E63: =ROUND($F$2+$F$3*TRUNC(A57),3) -> 0.6 | G63: =Offsets!G63+Prepared!G63 -> 0.73916667 | H63: =Offsets!H63+Prepared!H63 -> 1.1645333 | I63: =Offsets!I63+Prepared!I63 -> 0.89279333 | J63: =Offsets!J63+Prepared!J63 -> 0.67189333 | K63: =Offsets!K63+Prepared!K63 -> 0.92916333 | L63: =Offsets!L63+Prepared!L63 -> 0.858 | M63: =Offsets!M63+Prepared!M63 -> 0.65355333 | N63: =Offsets!N63+Prepared!N63 -> 0.95391 | ... AV63: =Offsets!AV63+Prepared!AV63 -> 0.66801333
A64: 2009.0833 | B64: 0.482 | D64: 0.311 | E64: =ROUND($G$2+$G$3*TRUNC(A57),3) -> 0.699 | G64: =Offsets!G64+Prepared!G64 -> 0.8778 | H64: =Offsets!H64+Prepared!H64 -> 1.2102 | I64: =Offsets!I64+Prepared!I64 -> 0.87471667 | J64: =Offsets!J64+Prepared!J64 -> 0.79149667 | K64: =Offsets!K64+Prepared!K64 -> 0.94188667 | L64: =Offsets!L64+Prepared!L64 -> 0.94235 | M64: =Offsets!M64+Prepared!M64 -> 0.74608667 | N64: =Offsets!N64+Prepared!N64 -> 0.91929 | ... AV64: =Offsets!AV64+Prepared!AV64 -> 0.66664667
A65: 2009.1667 | B65: 0.462 | D65: 0.278 | E65: =ROUND($H$2+$H$3*TRUNC(A57),3) -> 0.62 | G65: =Offsets!G65+Prepared!G65 -> 0.66434667 | H65: =Offsets!H65+Prepared!H65 -> 0.94642333 | I65: =Offsets!I65+Prepared!I65 -> 0.98368667 | J65: =Offsets!J65+Prepared!J65 -> 0.76652667 | K65: =Offsets!K65+Prepared!K65 -> 0.73828667 | L65: =Offsets!L65+Prepared!L65 -> 0.84775 | M65: =Offsets!M65+Prepared!M65 -> 0.73560667 | N65: =Offsets!N65+Prepared!N65 -> 0.80588667 | ... AV65: =Offsets!AV65+Prepared!AV65 -> 0.68787667
A66: 2009.25 | B66: 0.539 | D66: 0.267 | E66: =ROUND($I$2+$I$3*TRUNC(A57),3) -> 0.583 | G66: =Offsets!G66+Prepared!G66 -> 0.68296667 | H66: =Offsets!H66+Prepared!H66 -> 0.98738333 | I66: =Offsets!I66+Prepared!I66 -> 0.80594 | J66: =Offsets!J66+Prepared!J66 -> 0.65813333 | K66: =Offsets!K66+Prepared!K66 -> 0.76795667 | L66: =Offsets!L66+Prepared!L66 -> 0.69106333 | M66: =Offsets!M66+Prepared!M66 -> 0.60002667 | N66: =Offsets!N66+Prepared!N66 -> 0.75561667 | ... AV66: =Offsets!AV66+Prepared!AV66 -> 0.66916
A67: 2009.3333 | B67: 0.502 | D67: 0.2 | E67: =ROUND($J$2+$J$3*TRUNC(A57),3) -> 0.473 | G67: =Offsets!G67+Prepared!G67 -> 0.68311333 | H67: =Offsets!H67+Prepared!H67 -> 0.93006667 | I67: =Offsets!I67+Prepared!I67 -> 0.75775 | J67: =Offsets!J67+Prepared!J67 -> 0.60853 | K67: =Offsets!K67+Prepared!K67 -> 0.78375667 | L67: =Offsets!L67+Prepared!L67 -> 0.70489667 | M67: =Offsets!M67+Prepared!M67 -> 0.60192 | N67: =Offsets!N67+Prepared!N67 -> 0.75610333 | ... AV67: =Offsets!AV67+Prepared!AV67 -> 0.52591
A68: 2009.4167 | B68: 0.584 | D68: 0.199 | E68: =ROUND($K$2+$K$3*TRUNC(A57),3) -> 0.517 | G68: =Offsets!G68+Prepared!G68 -> 0.65137667 | H68: =Offsets!H68+Prepared!H68 -> 0.78983333 | I68: =Offsets!I68+Prepared!I68 -> 0.78641667 | J68: =Offsets!J68+Prepared!J68 -> 0.75851 | K68: =Offsets!K68+Prepared!K68 -> 0.79315667 | L68: =Offsets!L68+Prepared!L68 -> 0.75590667 | M68: =Offsets!M68+Prepared!M68 -> 0.70148667 | N68: =Offsets!N68+Prepared!N68 -> 0.73701333 | ... AV68: =Offsets!AV68+Prepared!AV68 -> 0.56172
A69: 2009.5 | B69: 0.617 | D69: 0.188 | E69: =ROUND($L$2+$L$3*TRUNC(A69),3) -> 0.555 | G69: =Offsets!G69+Prepared!G69 -> 0.62708667 | H69: =Offsets!H69+Prepared!H69 -> 0.73711667 | I69: =Offsets!I69+Prepared!I69 -> 0.86879667 | J69: =Offsets!J69+Prepared!J69 -> 0.86630333 | K69: =Offsets!K69+Prepared!K69 -> 0.77944 | L69: =Offsets!L69+Prepared!L69 -> 0.87987667 | M69: =Offsets!M69+Prepared!M69 -> 0.73960667 | N69: =Offsets!N69+Prepared!N69 -> 0.78135 | ... AV69: =Offsets!AV69+Prepared!AV69 -> 0.59891
A70: 2009.5833 | B70: 0.555 | D70: 0.186 | E70: =ROUND($M$2+$M$3*TRUNC(A69),3) -> 0.575 | G70: =Offsets!G70+Prepared!G70 -> 0.73217333 | H70: =Offsets!H70+Prepared!H70 -> 0.82712 | I70: =Offsets!I70+Prepared!I70 -> 0.76299333 | J70: =Offsets!J70+Prepared!J70 -> 0.90792667 | K70: =Offsets!K70+Prepared!K70 -> 0.86736333 | L70: =Offsets!L70+Prepared!L70 -> 1.0226767 | M70: =Offsets!M70+Prepared!M70 -> 0.63248 | N70: =Offsets!N70+Prepared!N70 -> 0.78205333 | ... AV70: =Offsets!AV70+Prepared!AV70 -> 0.61067
A71: 2009.6667 | B71: 0.556 | D71: 0.164 | E71: =ROUND($N$2+$N$3*TRUNC(A69),3) -> 0.498 | G71: =Offsets!G71+Prepared!G71 -> 0.66316333 | H71: =Offsets!H71+Prepared!H71 -> 0.83496 | I71: =Offsets!I71+Prepared!I71 -> 0.64957333 | J71: =Offsets!J71+Prepared!J71 -> 0.74537 | K71: =Offsets!K71+Prepared!K71 -> 0.71287 | L71: =Offsets!L71+Prepared!L71 -> 0.91784667 | M71: =Offsets!M71+Prepared!M71 -> 0.72082667 | N71: =Offsets!N71+Prepared!N71 -> 0.8571 | ... AV71: =Offsets!AV71+Prepared!AV71 -> 0.69032667
A72: 2009.75 | B72: 0.525 | D72: 0.19 | E72: =ROUND($O$2+$O$3*TRUNC(A69),3) -> 0.576 | G72: =Offsets!G72+Prepared!G72 -> 0.74072 | H72: =Offsets!H72+Prepared!H72 -> 0.86497 | I72: =Offsets!I72+Prepared!I72 -> 0.70806667 | J72: =Offsets!J72+Prepared!J72 -> 0.70641333 | K72: =Offsets!K72+Prepared!K72 -> 1.0021467 | L72: =Offsets!L72+Prepared!L72 -> 0.6865 | M72: =Offsets!M72+Prepared!M72 -> 0.84439667 | N72: =Offsets!N72+Prepared!N72 -> 0.81820333 | ... AV72: =Offsets!AV72+Prepared!AV72 -> 0.65138667
A73: 2009.8333 | B73: 0.583 | D73: 0.177 | E73: =ROUND($P$2+$P$3*TRUNC(A69),3) -> 0.508 | G73: =Offsets!G73+Prepared!G73 -> 0.90399 | H73: =Offsets!H73+Prepared!H73 -> 0.90432333 | I73: =Offsets!I73+Prepared!I73 -> 0.80871667 | J73: =Offsets!J73+Prepared!J73 -> 0.79482 | K73: =Offsets!K73+Prepared!K73 -> 0.86603 | L73: =Offsets!L73+Prepared!L73 -> 0.95333333 | M73: =Offsets!M73+Prepared!M73 -> 1.0317533 | N73: =Offsets!N73+Prepared!N73 -> 0.90565667 | ... AV73: =Offsets!AV73+Prepared!AV73 -> 0.58215333
A74: 2009.9167 | B74: 0.58 | D74: 0.252 | E74: =ROUND($Q$2+$Q$3*TRUNC(A69),3) -> 0.571 | G74: =Offsets!G74+Prepared!G74 -> 0.88713333 | H74: =Offsets!H74+Prepared!H74 -> 0.83326667 | I74: =Offsets!I74+Prepared!I74 -> 0.76166 | J74: =Offsets!J74+Prepared!J74 -> 0.78786 | K74: =Offsets!K74+Prepared!K74 -> 0.93650333 | L74: =Offsets!L74+Prepared!L74 -> 1.10348 | M74: =Offsets!M74+Prepared!M74 -> 0.96306 | N74: =Offsets!N74+Prepared!N74 -> 0.72933667 | ... AV74: =Offsets!AV74+Prepared!AV74 -> 0.67563333
A75: 2010 | B75: 0.678 | D75: 0.301 | E75: =ROUND($F$2+$F$3*TRUNC(A69),3) -> 0.616 | G75: =Offsets!G75+Prepared!G75 -> 1.1436667 | H75: =Offsets!H75+Prepared!H75 -> 0.88433333 | I75: =Offsets!I75+Prepared!I75 -> 0.85879333 | J75: =Offsets!J75+Prepared!J75 -> 0.85839333 | K75: =Offsets!K75+Prepared!K75 -> 1.1952633 | L75: =Offsets!L75+Prepared!L75 -> 1.0141 | M75: =Offsets!M75+Prepared!M75 -> 1.1218533 | N75: =Offsets!N75+Prepared!N75 -> 0.96191 | ... AV75: =Offsets!AV75+Prepared!AV75 -> 0.60931333
A76: 2010.0833 | B76: 0.723 | D76: 0.311 | E76: =ROUND($G$2+$G$3*TRUNC(A69),3) -> 0.72 | G76: =Offsets!G76+Prepared!G76 -> 0.962 | H76: =Offsets!H76+Prepared!H76 -> 0.9411 | I76: =Offsets!I76+Prepared!I76 -> 0.78631667 | J76: =Offsets!J76+Prepared!J76 -> 0.63739667 | K76: =Offsets!K76+Prepared!K76 -> 1.0764867 | L76: =Offsets!L76+Prepared!L76 -> 0.71545 | M76: =Offsets!M76+Prepared!M76 -> 0.84048667 | N76: =Offsets!N76+Prepared!N76 -> 0.94999 | ... AV76: =Offsets!AV76+Prepared!AV76 -> 0.88664667
A77: 2010.1667 | B77: 0.788 | D77: 0.278 | E77: =ROUND($H$2+$H$3*TRUNC(A69),3) -> 0.639 | G77: =Offsets!G77+Prepared!G77 -> 0.86914667 | H77: =Offsets!H77+Prepared!H77 -> 0.78102333 | I77: =Offsets!I77+Prepared!I77 -> 0.67708667 | J77: =Offsets!J77+Prepared!J77 -> 0.62492667 | K77: =Offsets!K77+Prepared!K77 -> 0.90538667 | L77: =Offsets!L77+Prepared!L77 -> 0.83705 | M77: =Offsets!M77+Prepared!M77 -> 0.79860667 | N77: =Offsets!N77+Prepared!N77 -> 0.82928667 | ... AV77: =Offsets!AV77+Prepared!AV77 -> 0.84837667
A78: 2010.25 | B78: 0.773 | D78: 0.267 | E78: =ROUND($I$2+$I$3*TRUNC(A69),3) -> 0.6 | G78: =Offsets!G78+Prepared!G78 -> 0.84046667 | H78: =Offsets!H78+Prepared!H78 -> 0.74158333 | I78: =Offsets!I78+Prepared!I78 -> 0.54294 | J78: =Offsets!J78+Prepared!J78 -> 0.63763333 | K78: =Offsets!K78+Prepared!K78 -> 0.92195667 | L78: =Offsets!L78+Prepared!L78 -> 0.80826333 | M78: =Offsets!M78+Prepared!M78 -> 0.99912667 | N78: =Offsets!N78+Prepared!N78 -> 0.78421667 | ... AV78: =Offsets!AV78+Prepared!AV78 -> 0.73956
A79: 2010.3333 | B79: 0.65 | D79: 0.2 | E79: =ROUND($J$2+$J$3*TRUNC(A69),3) -> 0.487 | G79: =Offsets!G79+Prepared!G79 -> 0.83741333 | H79: =Offsets!H79+Prepared!H79 -> 0.70876667 | I79: =Offsets!I79+Prepared!I79 -> 0.55265 | J79: =Offsets!J79+Prepared!J79 -> 0.61383 | K79: =Offsets!K79+Prepared!K79 -> 0.77705667 | L79: =Offsets!L79+Prepared!L79 -> 0.73849667 | M79: =Offsets!M79+Prepared!M79 -> 0.84302 | N79: =Offsets!N79+Prepared!N79 -> 0.71140333 | ... AV79: =Offsets!AV79+Prepared!AV79 -> 0.61561
A80: 2010.4167 | B80: 0.581 | D80: 0.199 | E80: =ROUND($K$2+$K$3*TRUNC(A69),3) -> 0.534 | G80: =Offsets!G80+Prepared!G80 -> 0.78337667 | H80: =Offsets!H80+Prepared!H80 -> 0.79693333 | I80: =Offsets!I80+Prepared!I80 -> 0.64891667 | J80: =Offsets!J80+Prepared!J80 -> 0.70121 | K80: =Offsets!K80+Prepared!K80 -> 0.92695667 | L80: =Offsets!L80+Prepared!L80 -> 0.76950667 | M80: =Offsets!M80+Prepared!M80 -> 0.86458667 | N80: =Offsets!N80+Prepared!N80 -> 0.68641333 | ... AV80: =Offsets!AV80+Prepared!AV80 -> 0.54902
A81: 2010.5 | B81: 0.556 | D81: 0.188 | E81: =ROUND($L$2+$L$3*TRUNC(A81),3) -> 0.573 | G81: =Offsets!G81+Prepared!G81 -> 0.68868667 | H81: =Offsets!H81+Prepared!H81 -> 0.65591667 | I81: =Offsets!I81+Prepared!I81 -> 0.75169667 | J81: =Offsets!J81+Prepared!J81 -> 0.71010333 | K81: =Offsets!K81+Prepared!K81 -> 0.92534 | L81: =Offsets!L81+Prepared!L81 -> 0.77917667 | M81: =Offsets!M81+Prepared!M81 -> 0.67330667 | N81: =Offsets!N81+Prepared!N81 -> 0.62875 | ... AV81: =Offsets!AV81+Prepared!AV81 -> 0.42901
A82: 2010.5833 | B82: 0.536 | D82: 0.186 | E82: =ROUND($M$2+$M$3*TRUNC(A81),3) -> 0.594 | G82: =Offsets!G82+Prepared!G82 -> 0.83917333 | H82: =Offsets!H82+Prepared!H82 -> 0.69542 | I82: =Offsets!I82+Prepared!I82 -> 0.78399333 | J82: =Offsets!J82+Prepared!J82 -> 0.72492667 | K82: =Offsets!K82+Prepared!K82 -> 0.94546333 | L82: =Offsets!L82+Prepared!L82 -> 0.88667667 | M82: =Offsets!M82+Prepared!M82 -> 0.70938 | N82: =Offsets!N82+Prepared!N82 -> 0.73995333 | ... AV82: =Offsets!AV82+Prepared!AV82 -> 0.42437
A83: 2010.6667 | B83: 0.461 | D83: 0.164 | E83: =ROUND($N$2+$N$3*TRUNC(A81),3) -> 0.514 | G83: =Offsets!G83+Prepared!G83 -> 0.88386333 | H83: =Offsets!H83+Prepared!H83 -> 0.75856 | I83: =Offsets!I83+Prepared!I83 -> 0.74237333 | J83: =Offsets!J83+Prepared!J83 -> 0.68837 | K83: =Offsets!K83+Prepared!K83 -> 1.01267 | L83: =Offsets!L83+Prepared!L83 -> 0.90854667 | M83: =Offsets!M83+Prepared!M83 -> 0.89672667 | N83: =Offsets!N83+Prepared!N83 -> 0.5732 | ... AV83: =Offsets!AV83+Prepared!AV83 -> 0.54572667
A84: 2010.75 | B84: 0.56 | D84: 0.19 | E84: =ROUND($O$2+$O$3*TRUNC(A81),3) -> 0.595 | G84: =Offsets!G84+Prepared!G84 -> 0.95832 | H84: =Offsets!H84+Prepared!H84 -> 0.82847 | I84: =Offsets!I84+Prepared!I84 -> 0.83626667 | J84: =Offsets!J84+Prepared!J84 -> 0.54001333 | K84: =Offsets!K84+Prepared!K84 -> 1.1408467 | L84: =Offsets!L84+Prepared!L84 -> 0.7615 | M84: =Offsets!M84+Prepared!M84 -> 1.0071967 | N84: =Offsets!N84+Prepared!N84 -> 0.73050333 | ... AV84: =Offsets!AV84+Prepared!AV84 -> 0.48958667
A85: 2010.8333 | B85: 0.6 | D85: 0.177 | E85: =ROUND($P$2+$P$3*TRUNC(A81),3) -> 0.525 | G85: =Offsets!G85+Prepared!G85 -> 0.70519 | H85: =Offsets!H85+Prepared!H85 -> 0.88882333 | I85: =Offsets!I85+Prepared!I85 -> 0.58621667 | J85: =Offsets!J85+Prepared!J85 -> 0.45532 | K85: =Offsets!K85+Prepared!K85 -> 1.16663 | L85: =Offsets!L85+Prepared!L85 -> 0.96963333 | M85: =Offsets!M85+Prepared!M85 -> 1.0384533 | N85: =Offsets!N85+Prepared!N85 -> 0.85185667 | ... AV85: =Offsets!AV85+Prepared!AV85 -> 0.60695333
A86: 2010.9167 | B86: 0.395 | D86: 0.252 | E86: =ROUND($Q$2+$Q$3*TRUNC(A81),3) -> 0.586 | G86: =Offsets!G86+Prepared!G86 -> 0.70493333 | H86: =Offsets!H86+Prepared!H86 -> 1.0662667 | I86: =Offsets!I86+Prepared!I86 -> 0.90766 | J86: =Offsets!J86+Prepared!J86 -> 0.40946 | K86: =Offsets!K86+Prepared!K86 -> 1.3855033 | L86: =Offsets!L86+Prepared!L86 -> 0.93178 | M86: =Offsets!M86+Prepared!M86 -> 0.87366 | N86: =Offsets!N86+Prepared!N86 -> 0.84193667 | ... AV86: =Offsets!AV86+Prepared!AV86 -> 0.74873333
A87: 2011 | B87: 0.409 | D87: 0.301 | E87: =ROUND($F$2+$F$3*TRUNC(A81),3) -> 0.632 | G87: =Offsets!G87+Prepared!G87 -> 0.75826667 | H87: =Offsets!H87+Prepared!H87 -> 1.0567333 | I87: =Offsets!I87+Prepared!I87 -> 0.87329333 | J87: =Offsets!J87+Prepared!J87 -> 0.43929333 | K87: =Offsets!K87+Prepared!K87 -> 1.2594633 | L87: =Offsets!L87+Prepared!L87 -> 0.9507 | M87: =Offsets!M87+Prepared!M87 -> 0.85925333 | N87: =Offsets!N87+Prepared!N87 -> 1.02941 | ... AV87: =Offsets!AV87+Prepared!AV87 -> 0.79231333
A88: 2011.0833 | B88: 0.402 | D88: 0.311 | E88: =ROUND($G$2+$G$3*TRUNC(A81),3) -> 0.741 | G88: =Offsets!G88+Prepared!G88 -> 0.7852 | H88: =Offsets!H88+Prepared!H88 -> 1.0009 | I88: =Offsets!I88+Prepared!I88 -> 0.77751667 | J88: =Offsets!J88+Prepared!J88 -> 0.66189667 | K88: =Offsets!K88+Prepared!K88 -> 1.0673867 | L88: =Offsets!L88+Prepared!L88 -> 1.02845 | M88: =Offsets!M88+Prepared!M88 -> 0.91398667 | N88: =Offsets!N88+Prepared!N88 -> 0.82509 | ... AV88: =Offsets!AV88+Prepared!AV88 -> 0.65104667
A89: 2011.1667 | B89: 0.451 | D89: 0.278 | E89: =ROUND($H$2+$H$3*TRUNC(A81),3) -> 0.657 | G89: =Offsets!G89+Prepared!G89 -> 0.59714667 | H89: =Offsets!H89+Prepared!H89 -> 0.78942333 | I89: =Offsets!I89+Prepared!I89 -> 0.73558667 | J89: =Offsets!J89+Prepared!J89 -> 0.74962667 | K89: =Offsets!K89+Prepared!K89 -> 1.0062867 | L89: =Offsets!L89+Prepared!L89 -> 1.08345 | M89: =Offsets!M89+Prepared!M89 -> 0.89540667 | N89: =Offsets!N89+Prepared!N89 -> 0.95808667 | ... AV89: =Offsets!AV89+Prepared!AV89 -> 0.51697667
A90: 2011.25 | B90: 0.557 | D90: 0.267 | E90: =ROUND($I$2+$I$3*TRUNC(A81),3) -> 0.617 | G90: =Offsets!G90+Prepared!G90 -> 0.64146667 | H90: =Offsets!H90+Prepared!H90 -> 0.83458333 | I90: =Offsets!I90+Prepared!I90 -> 0.84584 | J90: =Offsets!J90+Prepared!J90 -> 0.70713333 | K90: =Offsets!K90+Prepared!K90 -> 1.0763567 | L90: =Offsets!L90+Prepared!L90 -> 0.93936333 | M90: =Offsets!M90+Prepared!M90 -> 0.89942667 | N90: =Offsets!N90+Prepared!N90 -> 1.0747167 | ... AV90: =Offsets!AV90+Prepared!AV90 -> 0.70456
A91: 2011.3333 | B91: 0.432 | D91: 0.2 | E91: =ROUND($J$2+$J$3*TRUNC(A81),3) -> 0.502 | G91: =Offsets!G91+Prepared!G91 -> 0.57611333 | H91: =Offsets!H91+Prepared!H91 -> 0.92616667 | I91: =Offsets!I91+Prepared!I91 -> 0.61945 | J91: =Offsets!J91+Prepared!J91 -> 0.74713 | K91: =Offsets!K91+Prepared!K91 -> 0.86995667 | L91: =Offsets!L91+Prepared!L91 -> 0.77679667 | M91: =Offsets!M91+Prepared!M91 -> 0.82882 | N91: =Offsets!N91+Prepared!N91 -> 0.70010333 | ... AV91: =Offsets!AV91+Prepared!AV91 -> 0.46041
A92: 2011.4167 | B92: 0.514 | D92: 0.199 | E92: =ROUND($K$2+$K$3*TRUNC(A81),3) -> 0.551 | G92: =Offsets!G92+Prepared!G92 -> 0.71537667 | H92: =Offsets!H92+Prepared!H92 -> 0.78433333 | I92: =Offsets!I92+Prepared!I92 -> 0.67381667 | J92: =Offsets!J92+Prepared!J92 -> 0.90871 | K92: =Offsets!K92+Prepared!K92 -> 1.0564567 | L92: =Offsets!L92+Prepared!L92 -> 0.82080667 | M92: =Offsets!M92+Prepared!M92 -> 0.79718667 | N92: =Offsets!N92+Prepared!N92 -> 0.66361333 | ... AV92: =Offsets!AV92+Prepared!AV92 -> 0.53032
A93: 2011.5 | B93: 0.6 | D93: 0.188 | E93: =ROUND($L$2+$L$3*TRUNC(A93),3) -> 0.591 | G93: =Offsets!G93+Prepared!G93 -> 0.72618667 | H93: =Offsets!H93+Prepared!H93 -> 0.78381667 | I93: =Offsets!I93+Prepared!I93 -> 0.61199667 | J93: =Offsets!J93+Prepared!J93 -> 0.85350333 | K93: =Offsets!K93+Prepared!K93 -> 1.14994 | L93: =Offsets!L93+Prepared!L93 -> 0.81477667 | M93: =Offsets!M93+Prepared!M93 -> 0.76690667 | N93: =Offsets!N93+Prepared!N93 -> 0.89775 | ... AV93: =Offsets!AV93+Prepared!AV93 -> 0.44851
A94: 2011.5833 | B94: 0.612 | D94: 0.186 | E94: =ROUND($M$2+$M$3*TRUNC(A93),3) -> 0.614 | G94: =Offsets!G94+Prepared!G94 -> 0.87747333 | H94: =Offsets!H94+Prepared!H94 -> 0.73752 | I94: =Offsets!I94+Prepared!I94 -> 0.80919333 | J94: =Offsets!J94+Prepared!J94 -> 0.94352667 | K94: =Offsets!K94+Prepared!K94 -> 0.91286333 | L94: =Offsets!L94+Prepared!L94 -> 1.1195767 | M94: =Offsets!M94+Prepared!M94 -> 0.72028 | N94: =Offsets!N94+Prepared!N94 -> 0.85755333 | ... AV94: =Offsets!AV94+Prepared!AV94 -> 0.49527
A95: 2011.6667 | B95: 0.451 | D95: 0.164 | E95: =ROUND($N$2+$N$3*TRUNC(A93),3) -> 0.53 | G95: =Offsets!G95+Prepared!G95 -> 0.89566333 | H95: =Offsets!H95+Prepared!H95 -> 0.72566 | I95: =Offsets!I95+Prepared!I95 -> 0.69557333 | J95: =Offsets!J95+Prepared!J95 -> 0.81857 | K95: =Offsets!K95+Prepared!K95 -> 1.10367 | L95: =Offsets!L95+Prepared!L95 -> 0.74114667 | M95: =Offsets!M95+Prepared!M95 -> 0.50732667 | N95: =Offsets!N95+Prepared!N95 -> 0.8005 | ... AV95: =Offsets!AV95+Prepared!AV95 -> 0.52802667
A96: 2011.75 | B96: 0.502 | D96: 0.19 | E96: =ROUND($O$2+$O$3*TRUNC(A93),3) -> 0.614 | G96: =Offsets!G96+Prepared!G96 -> 0.84632 | H96: =Offsets!H96+Prepared!H96 -> 0.76697 | I96: =Offsets!I96+Prepared!I96 -> 0.66056667 | J96: =Offsets!J96+Prepared!J96 -> 0.68911333 | K96: =Offsets!K96+Prepared!K96 -> 0.81694667 | L96: =Offsets!L96+Prepared!L96 -> 1.0129 | M96: =Offsets!M96+Prepared!M96 -> 0.64899667 | N96: =Offsets!N96+Prepared!N96 -> 1.0604033 | ... AV96: =Offsets!AV96+Prepared!AV96 -> 0.50948667
A97: 2011.8333 | B97: 0.407 | D97: 0.177 | E97: =ROUND($P$2+$P$3*TRUNC(A93),3) -> 0.541 | G97: =Offsets!G97+Prepared!G97 -> 0.86759 | H97: =Offsets!H97+Prepared!H97 -> 0.77072333 | I97: =Offsets!I97+Prepared!I97 -> 0.64271667 | J97: =Offsets!J97+Prepared!J97 -> 0.76822 | K97: =Offsets!K97+Prepared!K97 -> 0.66383 | L97: =Offsets!L97+Prepared!L97 -> 1.1226333 | M97: =Offsets!M97+Prepared!M97 -> 0.81535333 | N97: =Offsets!N97+Prepared!N97 -> 0.94835667 | ... AV97: =Offsets!AV97+Prepared!AV97 -> 0.37765333
A98: 2011.9167 | B98: 0.485 | D98: 0.252 | E98: =ROUND($Q$2+$Q$3*TRUNC(A93),3) -> 0.602 | G98: =Offsets!G98+Prepared!G98 -> 1.0159333 | H98: =Offsets!H98+Prepared!H98 -> 0.83536667 | I98: =Offsets!I98+Prepared!I98 -> 0.90286 | J98: =Offsets!J98+Prepared!J98 -> 1.17246 | K98: =Offsets!K98+Prepared!K98 -> 0.68440333 | L98: =Offsets!L98+Prepared!L98 -> 1.21248 | M98: =Offsets!M98+Prepared!M98 -> 0.83276 | N98: =Offsets!N98+Prepared!N98 -> 1.0022367 | ... AV98: =Offsets!AV98+Prepared!AV98 -> 0.68253333
A99: 2012 | B99: 0.347 | D99: 0.301 | E99: =ROUND($F$2+$F$3*TRUNC(A93),3) -> 0.648 | G99: =Offsets!G99+Prepared!G99 -> 1.2683667 | H99: =Offsets!H99+Prepared!H99 -> 0.89113333 | I99: =Offsets!I99+Prepared!I99 -> 0.77459333 | J99: =Offsets!J99+Prepared!J99 -> 1.1258933 | K99: =Offsets!K99+Prepared!K99 -> 0.51976333 | L99: =Offsets!L99+Prepared!L99 -> 1.1025 | M99: =Offsets!M99+Prepared!M99 -> 0.71385333 | N99: =Offsets!N99+Prepared!N99 -> 1.03691 | ... AV99: =Offsets!AV99+Prepared!AV99 -> 0.66191333
A100: 2012.0833 | B100: 0.376 | D100: 0.311 | E100: =ROUND($G$2+$G$3*TRUNC(A93),3) -> 0.762 | G100: =Offsets!G100+Prepared!G100 -> 1.2647 | H100: =Offsets!H100+Prepared!H100 -> 0.7791 | I100: =Offsets!I100+Prepared!I100 -> 0.96591667 | J100: =Offsets!J100+Prepared!J100 -> 1.2533967 | K100: =Offsets!K100+Prepared!K100 -> 0.43108667 | L100: =Offsets!L100+Prepared!L100 -> 0.80015 | M100: =Offsets!M100+Prepared!M100 -> 0.78618667 | N100: =Offsets!N100+Prepared!N100 -> 1.03339 | ... AV100: =Offsets!AV100+Prepared!AV100 -> 0.74154667
A101: 2012.1667 | B101: 0.434 | D101: 0.278 | E101: =ROUND($H$2+$H$3*TRUNC(A93),3) -> 0.676 | G101: =Offsets!G101+Prepared!G101 -> 1.0785467 | H101: =Offsets!H101+Prepared!H101 -> 0.71032333 | I101: =Offsets!I101+Prepared!I101 -> 0.81778667 | J101: =Offsets!J101+Prepared!J101 -> 0.95512667 | K101: =Offsets!K101+Prepared!K101 -> 0.68398667 | L101: =Offsets!L101+Prepared!L101 -> 1.11525 | M101: =Offsets!M101+Prepared!M101 -> 0.77300667 | N101: =Offsets!N101+Prepared!N101 -> 0.84148667 | ... AV101: =Offsets!AV101+Prepared!AV101 -> 0.37037667
A102: 2012.25 | B102: 0.611 | D102: 0.267 | E102: =ROUND($I$2+$I$3*TRUNC(A93),3) -> 0.634 | G102: =Offsets!G102+Prepared!G102 -> 1.0748667 | H102: =Offsets!H102+Prepared!H102 -> 0.81268333 | I102: =Offsets!I102+Prepared!I102 -> 0.58144 | J102: =Offsets!J102+Prepared!J102 -> 0.70693333 | K102: =Offsets!K102+Prepared!K102 -> 0.79005667 | L102: =Offsets!L102+Prepared!L102 -> 1.0064633 | M102: =Offsets!M102+Prepared!M102 -> 0.81902667 | N102: =Offsets!N102+Prepared!N102 -> 0.89391667 | ... AV102: =Offsets!AV102+Prepared!AV102 -> 0.53196
A103: 2012.3333 | B103: 0.613 | D103: 0.2 | E103: =ROUND($J$2+$J$3*TRUNC(A93),3) -> 0.517 | G103: =Offsets!G103+Prepared!G103 -> 0.93321333 | H103: =Offsets!H103+Prepared!H103 -> 0.84696667 | I103: =Offsets!I103+Prepared!I103 -> 0.49095 | J103: =Offsets!J103+Prepared!J103 -> 0.68803 | K103: =Offsets!K103+Prepared!K103 -> 0.86725667 | L103: =Offsets!L103+Prepared!L103 -> 1.0055967 | M103: =Offsets!M103+Prepared!M103 -> 0.60652 | N103: =Offsets!N103+Prepared!N103 -> 0.79380333 | ... AV103: =Offsets!AV103+Prepared!AV103 -> 0.58151
A104: 2012.4167 | B104: 0.559 | D104: 0.199 | E104: =ROUND($K$2+$K$3*TRUNC(A93),3) -> 0.568 | G104: =Offsets!G104+Prepared!G104 -> 0.72967667 | H104: =Offsets!H104+Prepared!H104 -> 0.75013333 | I104: =Offsets!I104+Prepared!I104 -> 0.59651667 | J104: =Offsets!J104+Prepared!J104 -> 0.67931 | K104: =Offsets!K104+Prepared!K104 -> 0.69925667 | L104: =Offsets!L104+Prepared!L104 -> 0.85480667 | M104: =Offsets!M104+Prepared!M104 -> 0.48288667 | N104: =Offsets!N104+Prepared!N104 -> 0.88451333 | ... AV104: =Offsets!AV104+Prepared!AV104 -> 0.46912
...

Sheet Absolute Errors
F1: Jan | G1: Feb | H1: Mar | I1: Apr | J1: May | K1: Jun | L1: Jul | M1: Aug | N1: Sep | O1: Oct | P1: Nov | Q1: Dec
E2: Trend Intercept | F2: -31.841165 | G2: -41.422903 | H2: -36.478 | I2: -33.667297 | J2: -29.086291 | K2: -33.942844 | L2: -35.287006 | M2: -37.940075 | N2: -32.043108 | O2: -37.216612 | P2: -31.872104 | Q2: -30.326241
E3: Trend Slope | F3: 0.016155951 | G3: 0.020976863 | H3: 0.018475195 | I3: 0.01705673 | J3: 0.014720578 | K3: 0.017161068 | L3: 0.017840887 | M3: 0.019171429 | N3: 0.016197537 | O3: 0.018811823 | P3: 0.016117734 | Q3: 0.01537931
A8: Month | B8: Actual | D8: Average | E8: Trend | G8: Series 1 | H8: Series 2 | I8: Series 3 | J8: Series 4 | K8: Series 5 | L8: Series 6 | M8: Series 7 | N8: Series 8 | O8: Series 9 | P8: Series 10 | Q8: Series 11 | R8: Series 12 | S8: Series 13 | T8: Series 14 | U8: Series 15 | V8: Series 16 | W8: Series 17 | X8: Series 18 | Y8: Series 19 | Z8: Series 20 | AA8: Series 21 | AB8: Series 22 | AC8: Series 23 | AD8: Series 24 | AE8: Series 25 | AF8: Series 26 | AG8: Series 27 | AH8: Series 28 | AI8: Series 29 | AJ8: Series 30 | AK8: Series 31 | AL8: Series 32 | AM8: Series 33 | AN8: Series 34 | AO8: Series 35 | AP8: Series 36 | AQ8: Series 37 | AR8: Series 38 | AS8: Series 39 | AT8: Series 40 | AU8: Series 41 | AV8: Series 42
A9: 2004.5 | B9: 0.253 | D9: =ABS($B9-'Offsets Applied'!D9) -> 0.065 | E9: =ABS($B9-'Offsets Applied'!E9) -> 0.213 | G9: =ABS($B9-'Offsets Applied'!G9) -> 0.38058667 | H9: =ABS($B9-'Offsets Applied'!H9) -> 0.15971667 | I9: =ABS($B9-'Offsets Applied'!I9) -> 0.17219667 | J9: =ABS($B9-'Offsets Applied'!J9) -> 0.58440333 | K9: =ABS($B9-'Offsets Applied'!K9) -> 0.46794 | L9: =ABS($B9-'Offsets Applied'!L9) -> 0.57747667 | M9: =ABS($B9-'Offsets Applied'!M9) -> 0.30700667 | N9: =ABS($B9-'Offsets Applied'!N9) -> 0.32215 | ... AV9: =ABS($B9-'Offsets Applied'!AV9) -> 0.45691
A10: 2004.5833 | B10: 0.381 | D10: =ABS($B10-'Offsets Applied'!D10) -> 0.195 | E10: =ABS($B10-'Offsets Applied'!E10) -> 0.098 | G10: =ABS($B10-'Offsets Applied'!G10) -> 0.33517333 | H10: =ABS($B10-'Offsets Applied'!H10) -> 0.08932 | I10: =ABS($B10-'Offsets Applied'!I10) -> 0.24289333 | J10: =ABS($B10-'Offsets Applied'!J10) -> 0.54842667 | K10: =ABS($B10-'Offsets Applied'!K10) -> 0.17186333 | L10: =ABS($B10-'Offsets Applied'!L10) -> 0.42807667 | M10: =ABS($B10-'Offsets Applied'!M10) -> 0.28188 | N10: =ABS($B10-'Offsets Applied'!N10) -> 0.26775333 | ... AV10: =ABS($B10-'Offsets Applied'!AV10) -> 0.35927
A11: 2004.6667 | B11: 0.413 | D11: =ABS($B11-'Offsets Applied'!D11) -> 0.249 | E11: =ABS($B11-'Offsets Applied'!E11) -> 0.004 | G11: =ABS($B11-'Offsets Applied'!G11) -> 0.15416333 | H11: =ABS($B11-'Offsets Applied'!H11) -> 0.22896 | I11: =ABS($B11-'Offsets Applied'!I11) -> 0.17187333 | J11: =ABS($B11-'Offsets Applied'!J11) -> 0.51247 | K11: =ABS($B11-'Offsets Applied'!K11) -> 0.06507 | L11: =ABS($B11-'Offsets Applied'!L11) -> 0.29064667 | M11: =ABS($B11-'Offsets Applied'!M11) -> 0.26752667 | N11: =ABS($B11-'Offsets Applied'!N11) -> 0.1569 | ... AV11: =ABS($B11-'Offsets Applied'!AV11) -> 0.39592667
A12: 2004.75 | B12: 0.503 | D12: =ABS($B12-'Offsets Applied'!D12) -> 0.313 | E12: =ABS($B12-'Offsets Applied'!E12) -> 0.021 | G12: =ABS($B12-'Offsets Applied'!G12) -> 0.17672 | H12: =ABS($B12-'Offsets Applied'!H12) -> 0.19787 | I12: =ABS($B12-'Offsets Applied'!I12) -> 0.027666667 | J12: =ABS($B12-'Offsets Applied'!J12) -> 0.14261333 | K12: =ABS($B12-'Offsets Applied'!K12) -> 0.11734667 | L12: =ABS($B12-'Offsets Applied'!L12) -> 0.2928 | M12: =ABS($B12-'Offsets Applied'!M12) -> 0.10479667 | N12: =ABS($B12-'Offsets Applied'!N12) -> 0.19360333 | ... AV12: =ABS($B12-'Offsets Applied'!AV12) -> 0.38358667
A13: 2004.8333 | B13: 0.625 | D13: =ABS($B13-'Offsets Applied'!D13) -> 0.448 | E13: =ABS($B13-'Offsets Applied'!E13) -> 0.197 | G13: =ABS($B13-'Offsets Applied'!G13) -> 0.14531 | H13: =ABS($B13-'Offsets Applied'!H13) -> 0.0073766667 | I13: =ABS($B13-'Offsets Applied'!I13) -> 0.0059833333 | J13: =ABS($B13-'Offsets Applied'!J13) -> 0.12482 | K13: =ABS($B13-'Offsets Applied'!K13) -> 0.22997 | L13: =ABS($B13-'Offsets Applied'!L13) -> 0.073033333 | M13: =ABS($B13-'Offsets Applied'!M13) -> 0.021346667 | N13: =ABS($B13-'Offsets Applied'!N13) -> 0.16425667 | ... AV13: =ABS($B13-'Offsets Applied'!AV13) -> 0.39725333
A14: 2004.9167 | B14: 0.436 | D14: =ABS($B14-'Offsets Applied'!D14) -> 0.184 | E14: =ABS($B14-'Offsets Applied'!E14) -> 0.058 | G14: =ABS($B14-'Offsets Applied'!G14) -> 0.14813333 | H14: =ABS($B14-'Offsets Applied'!H14) -> 0.31496667 | I14: =ABS($B14-'Offsets Applied'!I14) -> 0.43506 | J14: =ABS($B14-'Offsets Applied'!J14) -> 0.49166 | K14: =ABS($B14-'Offsets Applied'!K14) -> 0.031703333 | L14: =ABS($B14-'Offsets Applied'!L14) -> 0.31578 | M14: =ABS($B14-'Offsets Applied'!M14) -> 0.36376 | N14: =ABS($B14-'Offsets Applied'!N14) -> 0.39713667 | ... AV14: =ABS($B14-'Offsets Applied'!AV14) -> 0.55073333
A15: 2005 | B15: 0.632 | D15: =ABS($B15-'Offsets Applied'!D15) -> 0.331 | E15: =ABS($B15-'Offsets Applied'!E15) -> 0.097 | G15: =ABS($B15-'Offsets Applied'!G15) -> 0.22506667 | H15: =ABS($B15-'Offsets Applied'!H15) -> 0.19383333 | I15: =ABS($B15-'Offsets Applied'!I15) -> 0.13130667 | J15: =ABS($B15-'Offsets Applied'!J15) -> 0.32499333 | K15: =ABS($B15-'Offsets Applied'!K15) -> 0.32383667 | L15: =ABS($B15-'Offsets Applied'!L15) -> 0.3482 | M15: =ABS($B15-'Offsets Applied'!M15) -> 0.19175333 | N15: =ABS($B15-'Offsets Applied'!N15) -> 0.49131 | ... AV15: =ABS($B15-'Offsets Applied'!AV15) -> 0.35831333
A16: 2005.0833 | B16: 0.503 | D16: =ABS($B16-'Offsets Applied'!D16) -> 0.192 | E16: =ABS($B16-'Offsets Applied'!E16) -> 0.112 | G16: =ABS($B16-'Offsets Applied'!G16) -> 0.3349 | H16: =ABS($B16-'Offsets Applied'!H16) -> 0.2242 | I16: =ABS($B16-'Offsets Applied'!I16) -> 0.071216667 | J16: =ABS($B16-'Offsets Applied'!J16) -> 0.39879667 | K16: =ABS($B16-'Offsets Applied'!K16) -> 0.16788667 | L16: =ABS($B16-'Offsets Applied'!L16) -> 0.43705 | M16: =ABS($B16-'Offsets Applied'!M16) -> 0.49068667 | N16: =ABS($B16-'Offsets Applied'!N16) -> 0.53159 | ... AV16: =ABS($B16-'Offsets Applied'!AV16) -> 0.47744667
A17: 2005.1667 | B17: 0.679 | D17: =ABS($B17-'Offsets Applied'!D17) -> 0.401 | E17: =ABS($B17-'Offsets Applied'!E17) -> 0.133 | G17: =ABS($B17-'Offsets Applied'!G17) -> 0.15474667 | H17: =ABS($B17-'Offsets Applied'!H17) -> 0.075176667 | I17: =ABS($B17-'Offsets Applied'!I17) -> 0.041886667 | J17: =ABS($B17-'Offsets Applied'!J17) -> 0.32472667 | K17: =ABS($B17-'Offsets Applied'!K17) -> 0.16201333 | L17: =ABS($B17-'Offsets Applied'!L17) -> 0.28925 | M17: =ABS($B17-'Offsets Applied'!M17) -> 0.13770667 | N17: =ABS($B17-'Offsets Applied'!N17) -> 0.21028667 | ... AV17: =ABS($B17-'Offsets Applied'!AV17) -> 0.29527667
A18: 2005.25 | B18: 0.682 | D18: =ABS($B18-'Offsets Applied'!D18) -> 0.415 | E18: =ABS($B18-'Offsets Applied'!E18) -> 0.168 | G18: =ABS($B18-'Offsets Applied'!G18) -> 0.072433333 | H18: =ABS($B18-'Offsets Applied'!H18) -> 0.066016667 | I18: =ABS($B18-'Offsets Applied'!I18) -> 0.18826 | J18: =ABS($B18-'Offsets Applied'!J18) -> 0.49883333 | K18: =ABS($B18-'Offsets Applied'!K18) -> 0.23414333 | L18: =ABS($B18-'Offsets Applied'!L18) -> 0.39596333 | M18: =ABS($B18-'Offsets Applied'!M18) -> 0.045973333 | N18: =ABS($B18-'Offsets Applied'!N18) -> 0.23081667 | ... AV18: =ABS($B18-'Offsets Applied'!AV18) -> 0.22966
A19: 2005.3333 | B19: 0.535 | D19: =ABS($B19-'Offsets Applied'!D19) -> 0.335 | E19: =ABS($B19-'Offsets Applied'!E19) -> 0.121 | G19: =ABS($B19-'Offsets Applied'!G19) -> 0.049113333 | H19: =ABS($B19-'Offsets Applied'!H19) -> 0.090566667 | I19: =ABS($B19-'Offsets Applied'!I19) -> 0.05925 | J19: =ABS($B19-'Offsets Applied'!J19) -> 0.35813 | K19: =ABS($B19-'Offsets Applied'!K19) -> 0.15794333 | L19: =ABS($B19-'Offsets Applied'!L19) -> 0.27889667 | M19: =ABS($B19-'Offsets Applied'!M19) -> 0.22202 | N19: =ABS($B19-'Offsets Applied'!N19) -> 0.36620333 | ... AV19: =ABS($B19-'Offsets Applied'!AV19) -> 0.11761
A20: 2005.4167 | B20: 0.555 | D20: =ABS($B20-'Offsets Applied'!D20) -> 0.356 | E20: =ABS($B20-'Offsets Applied'!E20) -> 0.107 | G20: =ABS($B20-'Offsets Applied'!G20) -> 0.026023333 | H20: =ABS($B20-'Offsets Applied'!H20) -> 0.019233333 | I20: =ABS($B20-'Offsets Applied'!I20) -> 0.063816667 | J20: =ABS($B20-'Offsets Applied'!J20) -> 0.30001 | K20: =ABS($B20-'Offsets Applied'!K20) -> 0.037456667 | L20: =ABS($B20-'Offsets Applied'!L20) -> 0.22130667 | M20: =ABS($B20-'Offsets Applied'!M20) -> 0.053086667 | N20: =ABS($B20-'Offsets Applied'!N20) -> 0.26551333 | ... AV20: =ABS($B20-'Offsets Applied'!AV20) -> 0.09252
... A188: 2019.4167 | B188: 0.68 | D188: =ABS($B188-'Offsets Applied'!D188) -> 0.481 | E188: =ABS($B188-'Offsets Applied'!E188) -> 0.008 | G188: =ABS($B188-'Offsets Applied'!G188) -> 0.21247667 | H188: =ABS($B188-'Offsets Applied'!H188) -> 0.36743333 | I188: =ABS($B188-'Offsets Applied'!I188) -> 0.0044166667 | J188: =ABS($B188-'Offsets Applied'!J188) -> 0.48161 | K188: =ABS($B188-'Offsets Applied'!K188) -> 0.63145667 | L188: =ABS($B188-'Offsets Applied'!L188) -> 0.28910667 | M188: =ABS($B188-'Offsets Applied'!M188) -> 0.11488667 | N188: =ABS($B188-'Offsets Applied'!N188) -> 0.18491333 | ... AV188: =ABS($B188-'Offsets Applied'!AV188) -> 0.01932
B190: TOTAL ERRO | D190: =SUM(D9:D188) -> 68.446 | E190: =SUM(E9:E188) -> 17.962 | G190: =SUM(G9:G188) -> 47.055917 | H190: =SUM(H9:H188) -> 47.467097 | I190: =SUM(I9:I188) -> 36.640603 | J190: =SUM(J9:J188) -> 53.137637 | K190: =SUM(K9:K188) -> 66.520407 | L190: =SUM(L9:L188) -> 58.90744 | M190: =SUM(M9:M188) -> 43.99931 | N190: =SUM(N9:N188) -> 43.327187 | ... AV190: =SUM(AV9:AV188) -> 31.425393
A192: Month | B192: Actual | D192: Average | E192: Trend | G192: Series 1 | H192: Series 2 | I192: Series 3 | J192: Series 4 | K192: Series 5 | L192: Series 6 | M192: Series 7 | N192: Series 8 | O192: Series 9 | P192: Series 10 | Q192: Series 11 | R192: Series 12 | S192: Series 13 | T192: Series 14 | U192: Series 15 | V192: Series 16 | W192: Series 17 | X192: Series 18 | Y192: Series 19 | Z192: Series 20 | AA192: Series 21 | AB192: Series 22 | AC192: Series 23 | AD192: Series 24 | AE192: Series 25 | AF192: Series 26 | AG192: Series 27 | AH192: Series 28 | AI192: Series 29 | AJ192: Series 30 | AK192: Series 31 | AL192: Series 32 | AM192: Series 33 | AN192: Series 34 | AO192: Series 35 | AP192: Series 36 | AQ192: Series 37 | AR192: Series 38 | AS192: Series 39 | AT192: Series 40 | AU192: Series 41 | AV192: Series 42
D194: Error Mean | E194: =SUM(E9:E188)/180 -> 0.099788889 | G194: =SUM(G9:G188)/180 -> 0.26142176 | H194: =SUM(H9:H188)/180 -> 0.26370609 | I194: =SUM(I9:I188)/180 -> 0.20355891 | J194: =SUM(J9:J188)/180 -> 0.29520909 | K194: =SUM(K9:K188)/180 -> 0.36955781 | L194: =SUM(L9:L188)/180 -> 0.32726356 | M194: =SUM(M9:M188)/180 -> 0.24444061 | N194: =SUM(N9:N188)/180 -> 0.24070659 | ... AV194: =SUM(AV9:AV188)/180 -> 0.17458552
D195: Error Sigma | E195: =STDEV(E9:E188) -> 0.090615523 | G195: =STDEV(G9:G188) -> 0.17241076 | H195: =STDEV(H9:H188) -> 0.17702147 | I195: =STDEV(I9:I188) -> 0.1455506 | J195: =STDEV(J9:J188) -> 0.1794757 | K195: =STDEV(K9:K188) -> 0.20299025 | L195: =STDEV(L9:L188) -> 0.18425597 | M195: =STDEV(M9:M188) -> 0.15513832 | N195: =STDEV(N9:N188) -> 0.1452575 | ... AV195: =STDEV(AV9:AV188) -> 0.1537647
D196: Error Max | E196: =MAX(E9:E188) -> 0.441 | G196: =MAX(G9:G188) -> 0.92136667 | H196: =MAX(H9:H188) -> 0.73063333 | I196: =MAX(I9:I188) -> 0.67289333 | J196: =MAX(J9:J188) -> 0.87739667 | K196: =MAX(K9:K188) -> 1.02594 | L196: =MAX(L9:L188) -> 0.84485 | M196: =MAX(M9:M188) -> 0.81598667 | N196: =MAX(N9:N188) -> 0.69295667 | ... AV196: =MAX(AV9:AV188) -> 0.75683333

Sheet Squared Errors
F1: Jan | G1: Feb | H1: Mar | I1: Apr | J1: May | K1: Jun | L1: Jul | M1: Aug | N1: Sep | O1: Oct | P1: Nov | Q1: Dec
E2: Trend Intercept | F2: -31.841165 | G2: -41.422903 | H2: -36.478 | I2: -33.667297 | J2: -29.086291 | K2: -33.942844 | L2: -35.287006 | M2: -37.940075 | N2: -32.043108 | O2: -37.216612 | P2: -31.872104 | Q2: -30.326241
E3: Trend Slope | F3: 0.016155951 | G3: 0.020976863 | H3: 0.018475195 | I3: 0.01705673 | J3: 0.014720578 | K3: 0.017161068 | L3: 0.017840887 | M3: 0.019171429 | N3: 0.016197537 | O3: 0.018811823 | P3: 0.016117734 | Q3: 0.01537931
A8: Month | B8: Actual | D8: Average | E8: Trend | G8: Series 1 | H8: Series 2 | I8: Series 3 | J8: Series 4 | K8: Series 5 | L8: Series 6 | M8: Series 7 | N8: Series 8 | O8: Series 9 | P8: Series 10 | Q8: Series 11 | R8: Series 12 | S8: Series 13 | T8: Series 14 | U8: Series 15 | V8: Series 16 | W8: Series 17 | X8: Series 18 | Y8: Series 19 | Z8: Series 20 | AA8: Series 21 | AB8: Series 22 | AC8: Series 23 | AD8: Series 24 | AE8: Series 25 | AF8: Series 26 | AG8: Series 27 | AH8: Series 28 | AI8: Series 29 | AJ8: Series 30 | AK8: Series 31 | AL8: Series 32 | AM8: Series 33 | AN8: Series 34 | AO8: Series 35 | AP8: Series 36 | AQ8: Series 37 | AR8: Series 38 | AS8: Series 39 | AT8: Series 40 | AU8: Series 41 | AV8: Series 42
A9: 2004.5 | B9: 0.253 | D9: =($B9-'Offsets Applied'!D9)^2 -> 0.004225 | E9: =($B9-'Offsets Applied'!E9)^2 -> 0.045369 | G9: =($B9-'Offsets Applied'!G9)^2 -> 0.14484621 | H9: =($B9-'Offsets Applied'!H9)^2 -> 0.025509414 | I9: =($B9-'Offsets Applied'!I9)^2 -> 0.029651692 | J9: =($B9-'Offsets Applied'!J9)^2 -> 0.34152726 | K9: =($B9-'Offsets Applied'!K9)^2 -> 0.21896784 | L9: =($B9-'Offsets Applied'!L9)^2 -> 0.3334793 | M9: =($B9-'Offsets Applied'!M9)^2 -> 0.094253093 | N9: =($B9-'Offsets Applied'!N9)^2 -> 0.10378062 | ... AV9: =($B9-'Offsets Applied'!AV9)^2 -> 0.20876675
A10: 2004.5833 | B10: 0.381 | D10: =($B10-'Offsets Applied'!D10)^2 -> 0.038025 | E10: =($B10-'Offsets Applied'!E10)^2 -> 0.009604 | G10: =($B10-'Offsets Applied'!G10)^2 -> 0.11234116 | H10: =($B10-'Offsets Applied'!H10)^2 -> 0.0079780624 | I10: =($B10-'Offsets Applied'!I10)^2 -> 0.058997171 | J10: =($B10-'Offsets Applied'!J10)^2 -> 0.30077181 | K10: =($B10-'Offsets Applied'!K10)^2 -> 0.029537005 | L10: =($B10-'Offsets Applied'!L10)^2 -> 0.18324963 | M10: =($B10-'Offsets Applied'!M10)^2 -> 0.079456334 | N10: =($B10-'Offsets Applied'!N10)^2 -> 0.071691848 | ... AV10: =($B10-'Offsets Applied'!AV10)^2 -> 0.12907493
A11: 2004.6667 | B11: 0.413 | D11: =($B11-'Offsets Applied'!D11)^2 -> 0.062001 | E11: =($B11-'Offsets Applied'!E11)^2 -> 1.6e-05 | G11: =($B11-'Offsets Applied'!G11)^2 -> 0.023766333 | H11: =($B11-'Offsets Applied'!H11)^2 -> 0.052422682 | I11: =($B11-'Offsets Applied'!I11)^2 -> 0.029540443 | J11: =($B11-'Offsets Applied'!J11)^2 -> 0.2626255 | K11: =($B11-'Offsets Applied'!K11)^2 -> 0.0042341049 | L11: =($B11-'Offsets Applied'!L11)^2 -> 0.084475485 | M11: =($B11-'Offsets Applied'!M11)^2 -> 0.071570517 | N11: =($B11-'Offsets Applied'!N11)^2 -> 0.02461761 | ... AV11: =($B11-'Offsets Applied'!AV11)^2 -> 0.15675793
A12: 2004.75 | B12: 0.503 | D12: =($B12-'Offsets Applied'!D12)^2 -> 0.097969 | E12: =($B12-'Offsets Applied'!E12)^2 -> 0.000441 | G12: =($B12-'Offsets Applied'!G12)^2 -> 0.031229958 | H12: =($B12-'Offsets Applied'!H12)^2 -> 0.039152537 | I12: =($B12-'Offsets Applied'!I12)^2 -> 0.00076544444 | J12: =($B12-'Offsets Applied'!J12)^2 -> 0.020338563 | K12: =($B12-'Offsets Applied'!K12)^2 -> 0.01377024 | L12: =($B12-'Offsets Applied'!L12)^2 -> 0.08573184 | M12: =($B12-'Offsets Applied'!M12)^2 -> 0.010982341 | N12: =($B12-'Offsets Applied'!N12)^2 -> 0.037482251 | ... AV12: =($B12-'Offsets Applied'!AV12)^2 -> 0.14713873
A13: 2004.8333 | B13: 0.625 | D13: =($B13-'Offsets Applied'!D13)^2 -> 0.200704 | E13: =($B13-'Offsets Applied'!E13)^2 -> 0.038809 | G13: =($B13-'Offsets Applied'!G13)^2 -> 0.021114996 | H13: =($B13-'Offsets Applied'!H13)^2 -> 5.4415211e-05 | I13: =($B13-'Offsets Applied'!I13)^2 -> 3.5800278e-05 | J13: =($B13-'Offsets Applied'!J13)^2 -> 0.015580032 | K13: =($B13-'Offsets Applied'!K13)^2 -> 0.052886201 | L13: =($B13-'Offsets Applied'!L13)^2 -> 0.0053338678 | M13: =($B13-'Offsets Applied'!M13)^2 -> 0.00045568018 | N13: =($B13-'Offsets Applied'!N13)^2 -> 0.026980253 | ... AV13: =($B13-'Offsets Applied'!AV13)^2 -> 0.15781021
A14: 2004.9167 | B14: 0.436 | D14: =($B14-'Offsets Applied'!D14)^2 -> 0.033856 | E14: =($B14-'Offsets Applied'!E14)^2 -> 0.003364 | G14: =($B14-'Offsets Applied'!G14)^2 -> 0.021943484 | H14: =($B14-'Offsets Applied'!H14)^2 -> 0.099204001 | I14: =($B14-'Offsets Applied'!I14)^2 -> 0.1892772 | J14: =($B14-'Offsets Applied'!J14)^2 -> 0.24172956 | K14: =($B14-'Offsets Applied'!K14)^2 -> 0.0010051013 | L14: =($B14-'Offsets Applied'!L14)^2 -> 0.099717008 | M14: =($B14-'Offsets Applied'!M14)^2 -> 0.13232134 | N14: =($B14-'Offsets Applied'!N14)^2 -> 0.15771753 | ... AV14: =($B14-'Offsets Applied'!AV14)^2 -> 0.3033072
A15: 2005 | B15: 0.632 | D15: =($B15-'Offsets Applied'!D15)^2 -> 0.109561 | E15: =($B15-'Offsets Applied'!E15)^2 -> 0.009409 | G15: =($B15-'Offsets Applied'!G15)^2 -> 0.050655004 | H15: =($B15-'Offsets Applied'!H15)^2 -> 0.037571361 | I15: =($B15-'Offsets Applied'!I15)^2 -> 0.017241441 | J15: =($B15-'Offsets Applied'!J15)^2 -> 0.10562067 | K15: =($B15-'Offsets Applied'!K15)^2 -> 0.10487019 | L15: =($B15-'Offsets Applied'!L15)^2 -> 0.12124324 | M15: =($B15-'Offsets Applied'!M15)^2 -> 0.036769341 | N15: =($B15-'Offsets Applied'!N15)^2 -> 0.24138552 | ... AV15: =($B15-'Offsets Applied'!AV15)^2 -> 0.12838844
A16: 2005.0833 | B16: 0.503 | D16: =($B16-'Offsets Applied'!D16)^2 -> 0.036864 | E16: =($B16-'Offsets Applied'!E16)^2 -> 0.012544 | G16: =($B16-'Offsets Applied'!G16)^2 -> 0.11215801 | H16: =($B16-'Offsets Applied'!H16)^2 -> 0.05026564 | I16: =($B16-'Offsets Applied'!I16)^2 -> 0.0050718136 | J16: =($B16-'Offsets Applied'!J16)^2 -> 0.15903878 | K16: =($B16-'Offsets Applied'!K16)^2 -> 0.028185933 | L16: =($B16-'Offsets Applied'!L16)^2 -> 0.1910127 | M16: =($B16-'Offsets Applied'!M16)^2 -> 0.2407734 | N16: =($B16-'Offsets Applied'!N16)^2 -> 0.28258793 | ... AV16: =($B16-'Offsets Applied'!AV16)^2 -> 0.22795532
A17: 2005.1667 | B17: 0.679 | D17: =($B17-'Offsets Applied'!D17)^2 -> 0.160801 | E17: =($B17-'Offsets Applied'!E17)^2 -> 0.017689 | G17: =($B17-'Offsets Applied'!G17)^2 -> 0.023946531 | H17: =($B17-'Offsets Applied'!H17)^2 -> 0.0056515312 | I17: =($B17-'Offsets Applied'!I17)^2 -> 0.0017544928 | J17: =($B17-'Offsets Applied'!J17)^2 -> 0.10544741 | K17: =($B17-'Offsets Applied'!K17)^2 -> 0.02624832 | L17: =($B17-'Offsets Applied'!L17)^2 -> 0.083665563 | M17: =($B17-'Offsets Applied'!M17)^2 -> 0.018963126 | N17: =($B17-'Offsets Applied'!N17)^2 -> 0.044220482 | ... AV17: =($B17-'Offsets Applied'!AV17)^2 -> 0.08718831
A18: 2005.25 | B18: 0.682 | D18: =($B18-'Offsets Applied'!D18)^2 -> 0.172225 | E18: =($B18-'Offsets Applied'!E18)^2 -> 0.028224 | G18: =($B18-'Offsets Applied'!G18)^2 -> 0.0052465878 | H18: =($B18-'Offsets Applied'!H18)^2 -> 0.0043582003 | I18: =($B18-'Offsets Applied'!I18)^2 -> 0.035441828 | J18: =($B18-'Offsets Applied'!J18)^2 -> 0.24883469 | K18: =($B18-'Offsets Applied'!K18)^2 -> 0.054823101 | L18: =($B18-'Offsets Applied'!L18)^2 -> 0.15678696 | M18: =($B18-'Offsets Applied'!M18)^2 -> 0.0021135474 | N18: =($B18-'Offsets Applied'!N18)^2 -> 0.053276334 | ... AV18: =($B18-'Offsets Applied'!AV18)^2 -> 0.052743716
A19: 2005.3333 | B19: 0.535 | D19: =($B19-'Offsets Applied'!D19)^2 -> 0.112225 | E19: =($B19-'Offsets Applied'!E19)^2 -> 0.014641 | G19: =($B19-'Offsets Applied'!G19)^2 -> 0.0024121195 | H19: =($B19-'Offsets Applied'!H19)^2 -> 0.0082023211 | I19: =($B19-'Offsets Applied'!I19)^2 -> 0.0035105625 | J19: =($B19-'Offsets Applied'!J19)^2 -> 0.1282571 | K19: =($B19-'Offsets Applied'!K19)^2 -> 0.024946097 | L19: =($B19-'Offsets Applied'!L19)^2 -> 0.077783351 | M19: =($B19-'Offsets Applied'!M19)^2 -> 0.04929288 | N19: =($B19-'Offsets Applied'!N19)^2 -> 0.13410488 | ... AV19: =($B19-'Offsets Applied'!AV19)^2 -> 0.013832112
A20: 2005.4167 | B20: 0.555 | D20: =($B20-'Offsets Applied'!D20)^2 -> 0.126736 | E20: =($B20-'Offsets Applied'!E20)^2 -> 0.011449 | G20: =($B20-'Offsets Applied'!G20)^2 -> 0.00067721388 | H20: =($B20-'Offsets Applied'!H20)^2 -> 0.00036992111 | I20: =($B20-'Offsets Applied'!I20)^2 -> 0.0040725669 | J20: =($B20-'Offsets Applied'!J20)^2 -> 0.090006 | K20: =($B20-'Offsets Applied'!K20)^2 -> 0.0014030019 | L20: =($B20-'Offsets Applied'!L20)^2 -> 0.048976641 | M20: =($B20-'Offsets Applied'!M20)^2 -> 0.0028181942 | N20: =($B20-'Offsets Applied'!N20)^2 -> 0.07049733 | ... AV20: =($B20-'Offsets Applied'!AV20)^2 -> 0.0085599504
... A188: 2019.4167 | B188: 0.68 | D188: =($B188-'Offsets Applied'!D188)^2 -> 0.231361 | E188: =($B188-'Offsets Applied'!E188)^2 -> 6.4e-05 | G188: =($B188-'Offsets Applied'!G188)^2 -> 0.045146334 | H188: =($B188-'Offsets Applied'!H188)^2 -> 0.13500725 | I188: =($B188-'Offsets Applied'!I188)^2 -> 1.9506944e-05 | J188: =($B188-'Offsets Applied'!J188)^2 -> 0.23194819 | K188: =($B188-'Offsets Applied'!K188)^2 -> 0.39873752 | L188: =($B188-'Offsets Applied'!L188)^2 -> 0.083582665 | M188: =($B188-'Offsets Applied'!M188)^2 -> 0.013198946 | N188: =($B188-'Offsets Applied'!N188)^2 -> 0.034192941 | ... AV188: =($B188-'Offsets Applied'!AV188)^2 -> 0.0003732624
B190: TOTAL ERROR | D190: =SUM(D9:D188) -> 30.15145 | E190: =SUM(E9:E188) -> 3.262208 | G190: =SUM(G9:G188) -> 17.622299 | H190: =SUM(H9:H188) -> 18.126614 | I190: =SUM(I9:I188) -> 11.250632 | J190: =SUM(J9:J188) -> 21.452577 | K190: =SUM(K9:K188) -> 31.958839 | L190: =SUM(L9:L188) -> 25.355355 | M190: =SUM(M9:M188) -> 15.063372 | N190: =SUM(N9:N188) -> 14.205993 | ... AV190: =SUM(AV9:AV188) -> 9.7186199
A192: Month | B192: Actual | D192: Average | E192: Trend | G192: Series 1 | H192: Series 2 | I192: Series 3 | J192: Series 4 | K192: Series 5 | L192: Series 6 | M192: Series 7 | N192: Series 8 | O192: Series 9 | P192: Series 10 | Q192: Series 11 | R192: Series 12 | S192: Series 13 | T192: Series 14 | U192: Series 15 | V192: Series 16 | W192: Series 17 | X192: Series 18 | Y192: Series 19 | Z192: Series 20 | AA192: Series 21 | AB192: Series 22 | AC192: Series 23 | AD192: Series 24 | AE192: Series 25 | AF192: Series 26 | AG192: Series 27 | AH192: Series 28 | AI192: Series 29 | AJ192: Series 30 | AK192: Series 31 | AL192: Series 32 | AM192: Series 33 | AN192: Series 34 | AO192: Series 35 | AP192: Series 36 | AQ192: Series 37 | AR192: Series 38 | AS192: Series 39 | AT192: Series 40 | AU192: Series 41 | AV192: Series 42

Sheet Absolute Leaderboard
A1: Trend | B1: 17.962
A2: Series 15 | B2: 20.846003 | C2: =B2/B1 -> 1.1605614
A3: Series 14 | B3: 24.25057
A4: Series 27 | B4: 24.502527
A5: Series 25 | B5: 25.080597
A6: Series 41 | B6: 25.926613
A7: Series 34 | B7: 26.215993
A8: Series 19 | B8: 27.620193
A9: Series 24 | B9: 28.463977
A10: Series 10 | B10: 28.91497
A11: Series 11 | B11: 29.09041
A12: Series 13 | B12: 29.217063
A13: Series 18 | B13: 29.960887
A14: Series 16 | B14: 30.155613
... A22: Series 39 | B22: 33.21684
A23: Series 36 | B23: 33.725133 | C23: =B23/B1 -> 1.8775823
A24: Series 22 | B24: 34.372767
A25: Series 9 | B25: 35.005883
A26: Series 35 | B26: 35.56604
A27: Series 3 | B27: 36.640603
A28: Series 26 | B28: 38.000673
A29: Series 12 | B29: 38.280587
A30: Series 38 | B30: 38.665627
A31: Series 37 | B31: 38.849883
A32: Series 8 | B32: 43.327187
A33: Series 7 | B33: 43.99931
A34: Series 32 | B34: 44.905733
A35: Series 1 | B35: 47.055917
... A44: Series 17 | B44: 75.95538

Sheet Squared Leaderboard
A1: Trend | B1: 3.262208
A2: Series 15 | B2: 3.841159
A3: Series 27 | B3: 5.3291345
A4: Series 14 | B4: 5.6378636
A5: Series 41 | B5: 5.8712488
A6: Series 25 | B6: 6.1224368
A7: Series 34 | B7: 6.174134
A8: Series 19 | B8: 6.7892357
A9: Series 13 | B9: 6.9946083
A10: Series 24 | B10: 7.5144786
A11: Series 20 | B11: 7.7363313
A12: Series 10 | B12: 7.8973285
... A44: Series 17 | B44: 39.772749

Sheet Sheet1
A1: Series 36
A3: 2004 | H3: 288.958 | I3: 288.7376 | J3: 287.8605 | K3: 287.1161 | L3: 286.3663 | M3: 285.9845
A4: 2005 | B4: 285.8679 | C4: 286.0174 | D4: 286.3927 | E4: 287.0031 | F4: 288.0268 | G4: 288.8 | H4: 289.1314 | I4: 288.8703 | J4: 288.0906 | K4: 287.1476 | L4: 286.3097 | M4: 285.949 | O4: 2004 | V4: 0.49533667 | W4: 0.54946667 | X4: 0.58469 | Y4: 0.65391333 | Z4: 0.76121667 | AA4: 0.76628667 | AB4: 3.81091
A5: 2006 | B5: 285.7316 | C5: 285.9763 | D5: 286.425 | E5: 287.148 | F5: 288.1875 | G5: 288.9056 | H5: 289.2045 | I5: 289.0403 | J5: 288.1679 | K5: 287.4564 | L5: 286.5937 | M5: 286.2786 | O5: 2005 | P5: 0.61914667 | Q5: 0.58919333 | R5: 0.61276 | S5: 0.62623 | T5: 0.49846667 | U5: 0.36855667 | V5: 0.43113667 | W5: 0.57986667 | X5: 0.50699 | Y5: 0.54371333 | Z5: 0.57801667 | AA5: 0.61628667 | AB5: 6.5703633
A6: 2007 | B6: 285.9698 | C6: 286.1278 | D6: 286.6563 | E6: 287.1908 | F6: 288.1445 | G6: 289.1006 | H6: 289.3095 | I6: 288.9178 | J6: 288.1151 | K6: 287.2883 | L6: 286.6484 | M6: 286.121 | O6: 2006 | P6: 0.70374667 | Q6: 0.67639333 | R6: 0.61026 | S6: 0.58933 | T6: 0.64436667 | U6: 0.57665667 | V6: 0.50683667 | W6: 0.59946667 | X6: 0.54129 | Y6: 0.44041333 | Z6: 0.42611667 | AA6: 0.60688667 | AB6: 6.9217633
A7: 2008 | B7: 285.9374 | C7: 285.9285 | D7: 286.5097 | E7: 287.332 | F7: 288.2483 | G7: 288.9922 | H7: 289.2434 | I7: 288.8718 | J7: 288.1743 | K7: 287.1801 | L7: 286.5478 | M7: 286.1921 | O7: 2007 | P7: 0.76744667 | Q7: 0.80799333 | R7: 0.79656 | S7: 0.66083 | T7: 0.50646667 | U7: 0.52595667 | V7: 0.45853667 | W7: 0.44556667 | X7: 0.42969 | Y7: 0.55581333 | Z7: 0.57331667 | AA7: 0.43038667 | AB7: 6.9585633
A8: 2009 | B8: 285.7606 | C8: 285.9099 | D8: 286.3659 | E8: 287.1136 | F8: 288.0708 | G8: 288.8135 | H8: 289.1944 | I8: 288.8991 | J8: 288.2052 | K8: 287.3066 | L8: 286.7058 | M8: 286.2384 | O8: 2008 | P8: 0.46104667 | Q8: 0.40509333 | R8: 0.56456 | S8: 0.63373 | T8: 0.42706667 | U8: 0.53955667 | V8: 0.42983667 | W8: 0.56996667 | X8: 0.58799 | Y8: 0.69511333 | Z8: 0.56231667 | AA8: 0.58868667 | AB8: 6.4649633
A9: 2010 | B9: 286.0659 | C9: 286.2317 | D9: 286.662 | E9: 287.3724 | F9: 288.3666 | G9: 289.0638 | H9: 289.3745 | I9: 289.2251 | J9: 288.247 | K9: 287.4428 | L9: 286.6249 | M9: 286.2935 | O9: 2009 | P9: 0.73104667 | Q9: 0.55879333 | R9: 0.67626 | S9: 0.47383 | T9: 0.51146667 | U9: 0.49875667 | V9: 0.47143667 | W9: 0.65206667 | X9: 0.52279 | Y9: 0.71601333 | Z9: 0.70421667 | AA9: 0.70408667 | AB9: 7.2207633
A10: 2011 | B10: 286.0554 | C10: 286.2005 | D10: 286.6805 | E10: 287.4477 | F10: 288.3811 | G10: 289.1138 | H10: 289.3478 | I10: 289.1109 | J10: 288.4526 | K10: 287.5891 | L10: 286.8668 | M10: 286.4094 | O10: 2010 | P10: 0.62564667 | Q10: 0.65499333 | R10: 0.90706 | S10: 0.71643 | T10: 0.51106667 | U10: 0.58795667 | V10: 0.53723667 | W10: 0.61946667 | X10: 0.54259 | Y10: 0.60861333 | Z10: 0.59961667 | AA10: 0.74488667 | AB10: 7.6555633
A11: 2012 | B11: 286.1258 | C11: 286.2981 | D11: 287.088 | E11: 287.7007 | F11: 288.6042 | G11: 289.3927 | H11: 289.5358 | I11: 289.261 | J11: 288.4229 | K11: 287.5063 | L11: 286.831 | M11: 286.5386 | O11: 2011 | P11: 0.54354667 | Q11: 0.54629333 | R11: 0.69336 | S11: 0.55543 | T11: 0.43626667 | U11: 0.40155667 | V11: 0.50833667 | W11: 0.44776667 | X11: 0.55599 | Y11: 0.72441333 | Z11: 0.46911667 | AA11: 0.51818667 | AB11: 6.4002633
A12: 2013 | B12: 286.3849 | C12: 286.4184 | D12: 286.6571 | E12: 287.4936 | F12: 288.5068 | G12: 289.2745 | H12: 289.6115 | I12: 289.2487 | J12: 288.4578 | K12: 287.5473 | L12: 286.8 | M12: 286.4797 | O12: 2012 | P12: 0.47744667 | Q12: 0.77469333 | R12: 0.54756 | S12: 0.59553 | T12: 0.49956667 | U12: 0.46805667 | V12: 0.53913667 | W12: 0.49856667 | X12: 0.46369 | Y12: 0.46941333 | Z12: 0.49751667 | AA12: 0.65788667 | AB12: 6.4890633
A13: 2014 | B13: 286.2163 | C13: 286.4358 | D13: 286.9427 | E13: 287.599 | F13: 288.5496 | G13: 289.2128 | H13: 289.7119 | I13: 289.2041 | J13: 288.4526 | K13: 287.5691 | L13: 286.8472 | M13: 286.4507 | O13: 2013 | P13: 0.68404667 | Q13: 0.76809333 | R13: 0.56196 | S13: 0.61233 | T13: 0.57286667 | U13: 0.58615667 | V13: 0.49103667 | W13: 0.67846667 | X13: 0.74869 | Y13: 0.73731333 | Z13: 0.80571667 | AA13: 0.91928667 | AB13: 8.1659633
A14: 2015 | B14: 286.2813 | C14: 286.3038 | D14: 286.9056 | E14: 287.5488 | F14: 288.3958 | G14: 289.2609 | H14: 289.6735 | I14: 289.306 | J14: 288.4229 | K14: 287.6824 | L14: 286.8309 | M14: 286.3324 | O14: 2014 | P14: 0.86414667 | Q14: 0.71919333 | R14: 0.66346 | S14: 0.76063 | T14: 0.71996667 | U14: 0.62605667 | V14: 0.54613667 | W14: 0.64866667 | X14: 0.64999 | Y14: 0.66751333 | Z14: 0.75201667 | AA14: 0.68018667 | AB14: 8.2979633
A15: 2016 | B15: 286.1821 | C15: 286.3784 | D15: 286.722 | E15: 287.3772 | F15: 288.3954 | G15: 289.2139 | H15: 289.4779 | I15: 289.2388 | J15: 288.5769 | K15: 287.5711 | L15: 286.9117 | M15: 286.5336 | O15: 2015 | P15: 0.66804667 | Q15: 0.70439333 | R15: 0.88316 | S15: 0.65133 | T15: 0.56366667 | U15: 0.62735667 | V15: 0.59083667 | W15: 0.65726667 | X15: 0.68499 | Y15: 0.69421333 | Z15: 0.64871667 | AA15: 0.65758667 | AB15: 8.0315633
A16: 2017 | B16: 286.1088 | C16: 286.3574 | D16: 286.9315 | E16: 287.7445 | F16: 288.5508 | G16: 289.3731 | H16: 289.5901 | I16: 289.2223 | J16: 288.5692 | K16: 287.6 | L16: 286.7617 | M16: 286.2871 | O16: 2016 | P16: 0.63944667 | Q16: 0.95849333 | R16: 0.79466 | S16: 0.83283 | T16: 0.71436667 | U16: 0.90715667 | V16: 0.78843667 | W16: 0.80516667 | X16: 0.82489 | Y16: 0.89821333 | Z16: 0.94141667 | AA16: 0.99838667 | AB16: 10.103463
A17: 2018 | B17: 286.2615 | C17: 286.555 | D17: 286.9298 | E17: 287.4569 | F17: 288.4809 | G17: 289.3067 | H17: 289.7001 | I17: 289.3 | J17: 288.5823 | K17: 287.5986 | L17: 286.9181 | M17: 286.397 | O17: 2017 | P17: 0.97754667 | Q17: 0.97739333 | R17: 0.88636 | S17: 0.86693 | T17: 0.78386667 | U17: 0.85755667 | V17: 0.82973667 | W17: 0.81986667 | X17: 0.76129 | Y17: 0.95021333 | Z17: 0.90861667 | AA17: 1.0175867 | AB17: 10.636963
A18: 2019 | B18: 286.3955 | C18: 286.5655 | D18: 287.1245 | E18: 287.8626 | F18: 288.5808 | G18: 289.4273 | O18: 2018 | P18: 0.73274667 | Q18: 0.85299333 | R18: 0.86016 | S18: 0.78613 | T18: 0.79366667 | U18: 0.83835667 | V18: 0.59293667 | W18: 0.61846667 | X18: 0.60879 | Y18: 0.71601333 | Z18: 0.83671667 | AA18: 0.91718667 | AB18: 9.1541633
O19: 2019 | P19: 0.76504667 | Q19: 0.82229333 | R19: 0.82066 | S19: 0.74893 | T19: 0.66436667 | U19: 0.82735667 | AB19: 4.6486533
B20: =SLOPE(B4:B18,$A$4:$A$18) -> 0.038352857 | C20: =SLOPE(C4:C18,$A$4:$A$18) -> 0.043086786 | D20: =SLOPE(D4:D18,$A$4:$A$18) -> 0.044763214 | E20: =SLOPE(E4:E18,$A$4:$A$18) -> 0.045085357 | F20: =SLOPE(F4:F18,$A$4:$A$18) -> 0.034732143 | G20: =SLOPE(G4:G18,$A$4:$A$18) -> 0.0387425 | H20: =SLOPE(H3:H17,$A$3:$A$17) -> 0.047038929 | I20: =SLOPE(I3:I17,$A$3:$A$17) -> 0.036878929 | J20: =SLOPE(J3:J17,$A$3:$A$17) -> 0.045415714 | K20: =SLOPE(K3:K17,$A$3:$A$17) -> 0.035548929 | L20: =SLOPE(L3:L17,$A$3:$A$17) -> 0.036383214 | M20: =SLOPE(M3:M17,$A$3:$A$17) -> 0.030500714
B21: -285.3082 | H21: -288.76145
A23: Series 39
A25: 2004 | H25: 289.563 | I25: 289.4344 | J25: 288.7632 | K25: 287.8169 | L25: 286.8896 | M25: 286.2474
A26: 2005 | B26: 285.9725 | C26: 286.3284 | D26: 286.9748 | E26: 288.0122 | F26: 288.9029 | G26: 289.4831 | H26: 289.6208 | I26: 289.3657 | J26: 288.6997 | K26: 287.9242 | L26: 286.9312 | M26: 285.9491
A27: 2006 | B27: 286.026 | C27: 286.4576 | D27: 286.9855 | E27: 288.052 | F27: 288.8561 | G27: 289.477 | H27: 289.5706 | I27: 289.2501 | J27: 288.7231 | K27: 287.9126 | L27: 286.9949 | M27: 286.1476
A28: 2007 | B28: 285.7952 | C28: 286.5042 | D28: 286.9012 | E28: 288.0629 | F28: 288.9038 | G28: 289.457 | H28: 289.7646 | I28: 289.6967 | J28: 289.1003 | K28: 288.0639 | L28: 286.9572 | M28: 286.3225
A29: 2008 | B29: 285.9879 | C29: 286.5041 | D29: 287.3136 | E29: 288.3065 | F29: 289.1766 | G29: 289.6748 | H29: 289.9804 | I29: 289.6736 | J29: 289.0581 | K29: 288.1379 | L29: 287.1537 | M29: 286.3917
A30: 2009 | B30: 286.0801 | C30: 286.634 | D30: 287.2786 | E30: 288.1533 | F30: 288.9934 | G30: 289.5317 | H30: 289.6008 | I30: 289.4292 | J30: 288.8871 | K30: 288.1396 | L30: 286.9797 | M30: 286.2387
A31: 2010 | B31: 285.9868 | C31: 286.4141 | D31: 287.1333 | E31: 288.1846 | F31: 289.0558 | G31: 289.6063 | H31: 289.8412 | I31: 289.6381 | J31: 289.1039 | K31: 288.1326 | L31: 287.0834 | M31: 286.2329
A32: 2011 | B32: 286.1421 | C32: 286.3384 | D32: 287.1727 | E32: 288.184 | F32: 289.1411 | G32: 289.5392 | H32: 289.7888 | I32: 289.5595 | J32: 288.8289 | K32: 288.0497 | L32: 287.0379 | M32: 286.2501
A33: 2012 | B33: 286.0354 | C33: 286.528 | D33: 287.3009 | E33: 288.0192 | F33: 288.9393 | G33: 289.609 | H33: 289.7253 | I33: 289.4427 | J33: 288.7979 | K33: 287.9294 | L33: 286.8634 | M33: 286.177
A34: 2013 | B34: 285.9229 | C34: 286.3304 | D34: 287.06 | E34: 288.1825 | F34: 288.9619 | G34: 289.471 | H34: 289.7676 | I34: 289.5212 | J34: 288.9436 | K34: 287.9845 | L34: 287.032 | M34: 286.1989
A35: 2014 | B35: 285.9934 | C35: 286.2978 | D35: 287.3241 | E35: 288.1491 | F35: 288.9051 | G35: 289.5677 | H35: 289.7997 | I35: 289.5979 | J35: 288.9341 | K35: 288.1459 | L35: 286.9275 | M35: 286.3203
A36: 2015 | B36: 285.8906 | C36: 286.4582 | D36: 287.0789 | E36: 288.2016 | F36: 289.1693 | G36: 289.6747 | H36: 289.8711 | I36: 289.6669 | J36: 289.1212 | K36: 288.1913 | L36: 287.0709 | M36: 286.2171
A37: 2016 | B37: 285.9474 | C37: 286.6153 | D37: 287.6549 | E37: 288.2362 | F37: 289.081 | G37: 289.8253 | H37: 289.9187 | I37: 289.6967 | J37: 289.101 | K37: 288.0845 | L37: 287.1949 | M37: 286.2917
... A39: 2018 | B39: 286.2696 | C39: 286.7264 | D39: 287.3267 | E39: 288.382 | F39: 289.3008 | G39: 289.8019 | H39: 289.9897 | I39: 289.8016 | J39: 289.0729 | K39: 288.2102 | L39: 287.0165 | M39: 286.3959
A40: 2019 | B40: 286.0676 | C40: 286.8304 | D40: 287.3263 | E40: 288.2558 | F40: 288.9611 | G40: 289.6735
B42: =SLOPE(B26:B40,$A$4:$A$18) -> 0.0096921429 | C42: =SLOPE(C26:C40,$A$4:$A$18) -> 0.021866429 | D42: =SLOPE(D26:D40,$A$4:$A$18) -> 0.0296525 | E42: =SLOPE(E26:E40,$A$4:$A$18) -> 0.015776429 | F42: =SLOPE(F26:F40,$A$4:$A$18) -> 0.015881429 | G42: =SLOPE(G26:G40,$A$4:$A$18) -> 0.022026071 | H42: =SLOPE(H25:H39,$A$3:$A$17) -> 0.023490714 | I42: =SLOPE(I25:I39,$A$3:$A$17) -> 0.023913214 | J42: =SLOPE(J25:J39,$A$3:$A$17) -> 0.022952143 | K42: =SLOPE(K25:K39,$A$3:$A$17) -> 0.023086429 | L42: =SLOPE(L25:L39,$A$3:$A$17) -> 0.015648929 | M42: =SLOPE(M25:M39,$A$3:$A$17) -> 0.015698214
