Workbook

Sheet CVRData
A1: Seed % | B1: Year | C1: Angel Seed Dollars | D1: Total Dollars | E1: Number | F1: Avg Investment | G1: Year | H1: Investment Amount Index
A2: 0.47 | B2: 2002 | C2: =D2*A2 -> 7.379 | D2: 15.7 | E2: 36000 | F2: =D2*1000000000/E2 -> 436111.11 | G2: =B2 -> 2002 | H2: =F2/$F$2*100 -> 100
A3: 0.52 | B3: 2003 | C3: =D3*A3 -> 9.412 | D3: 18.1 | E3: 42000 | F3: =D3*1000000000/E3 -> 430952.38 | G3: =B3 -> 2003 | H3: =F3/$F$2*100 -> 98.817106
A4: 0.535 | B4: 2004 | C4: =D4*A4 -> 12.0375 | D4: 22.5 | E4: 48000 | F4: =D4*1000000000/E4 -> 468750 | G4: =B4 -> 2004 | H4: =F4/$F$2*100 -> 107.48408 | I4: *
A5: 0.55 | B5: 2005 | C5: =D5*A5 -> 12.705 | D5: 23.1 | E5: 49500 | F5: =D5*1000000000/E5 -> 466666.67 | G5: =B5 -> 2005 | H5: =F5/$F$2*100 -> 107.00637
A6: 0.46 | B6: 2006 | C6: =D6*A6 -> 11.776 | D6: 25.6 | E6: 51000 | F6: =D6*1000000000/E6 -> 501960.78 | G6: =B6 -> 2006 | H6: =F6/$F$2*100 -> 115.09929
A7: 0.39 | B7: 2007 | C7: =D7*A7 -> 10.14 | D7: 26 | E7: 57120 | F7: =D7*1000000000/E7 -> 455182.07 | G7: =B7 -> 2007 | H7: =F7/$F$2*100 -> 104.37296
A8: 0.45 | B8: 2008 | C8: =D8*A8 -> 8.64 | D8: 19.2 | E8: 55480 | F8: =D8*1000000000/E8 -> 346070.66 | G8: =B8 -> 2008 | H8: =F8/$F$2*100 -> 79.353781
A9: 0.35 | B9: 2009 | C9: =D9*A9 -> 6.16 | D9: 17.6 | E9: 57225 | F9: =D9*1000000000/E9 -> 307557.89 | G9: =B9 -> 2009 | H9: =F9/$F$2*100 -> 70.522827
A10: 0.31 | B10: 2010 | C10: =D10*A10 -> 6.231 | D10: 20.1 | E10: 61900 | F10: =D10*1000000000/E10 -> 324717.29 | G10: =B10 -> 2010 | H10: =F10/$F$2*100 -> 74.457467 | I10: =(115-74)/115 -> 0.35652174 | J10: =A10*E10 -> 19189
A11: 0.42 | B11: 2011 | C11: =D11*A11 -> 9.45 | D11: 22.5 | E11: 66230 | F11: =D11*1000000000/E11 -> 339725.2 | G11: =B11 -> 2011 | H11: =F11/$F$2*100 -> 77.898772

Sheet NVCAData
A1: Year | B1: Seed Dollars | C1: Number | D1: Avg Investment | E1: Year | F1: Investment Amount Index
A2: 2002 | B2: 307 | C2: 178 | D2: =B2*1000000/C2 -> 1724719.1 | E2: =A2 -> 2002 | F2: =D2/$D$2*100 -> 100
A3: 2003 | B3: 327 | C3: 209 | D3: =B3*1000000/C3 -> 1564593.3 | E3: =A3 -> 2003 | F3: =D3/$D$2*100 -> 90.715833
A4: 2004 | B4: 460 | C4: 223 | D4: =B4*1000000/C4 -> 2062780.3 | E4: =A4 -> 2004 | F4: =D4/$D$2*100 -> 119.60094
A5: 2005 | B5: 921 | C5: 257 | D5: =B5*1000000/C5 -> 3583657.6 | E5: =A5 -> 2005 | F5: =D5/$D$2*100 -> 207.7821
A6: 2006 | B6: 1248 | C6: 388 | D6: =B6*1000000/C6 -> 3216494.8 | E6: =A6 -> 2006 | F6: =D6/$D$2*100 -> 186.49384
A7: 2007 | B7: 1492 | C7: 499 | D7: =B7*1000000/C7 -> 2989980 | E7: =A7 -> 2007 | F7: =D7/$D$2*100 -> 173.3604
A8: 2008 | B8: 1737 | C8: 512 | D8: =B8*1000000/C8 -> 3392578.1 | E8: =A8 -> 2008 | F8: =D8/$D$2*100 -> 196.70323
A9: 2009 | B9: 1798 | C9: 354 | D9: =B9*1000000/C9 -> 5079096 | E9: =A9 -> 2009 | F9: =D9/$D$2*100 -> 294.4883
A10: 2010 | B10: 1725 | C10: 373 | D10: =B10*1000000/C10 -> 4624664.9 | E10: =A10 -> 2010 | F10: =D10/$D$2*100 -> 268.14018
A11: 2011 | B11: =919 -> 919 | C11: 400 | D11: =B11*1000000/C11 -> 2297500 | E11: =A11 -> 2011 | F11: =D11/$D$2*100 -> 133.2101

Sheet SuperAngels
A1: Firm | B1: NVCA? | C1: 2010 Fund Size | D1: Net 2010 Fund Size | E1: 2011 Announced Fund Size | F1: 2011 Actual Fund Size | G1: 2011 Net Fund Size | H1: 2012 Announced Fund Size
A2: 500 Startups | C2: 30 | D2: =C2 -> 30 | G2: 30 | H2: 50 | I2: From SEC Form D-planned
A3: Felicis | B3: Yes | C3: 40 | I3: From SEC Form D-actual
A4: Floodgate | C4: 70 | D4: =C4 -> 70 | G4: 70 | I4: From SEC Form D-actual
A5: Founder Collective | C5: 40 | D5: =C5 -> 40 | G5: 40 | I5: From SEC Form D-actual 25M
A6: Founders Co-Op | C6: 2.5 | D6: =C6 -> 2.5 | G6: 2.5 | I6: No Edgar Entry
A7: Harrison Metal | C7: ? | I7: No Edgar Entry
A8: IA Ventures | C8: 25 | D8: =C8 -> 25 | E8: 110 | F8: 98 | G8: 98 | I8: From SEC Form D-actual 98M
A9: K-9 Ventures | C9: ? | I9: No Edgar Entry
A10: Lerer Ventures | C10: 7 | D10: =C10 -> 7 | E10: 25 | F10: 25 | G10: 25 | I10: From SEC Form D
A11: Lowercase Capital | C11: 28 | D11: =C11 -> 28 | G11: 28 | H11: 65 | I11: From SEC Form D-planned
A12: Social Leverage | C12: ? | D12: ? | E12: ? | F12: ? | I12: No Edgar Entry
A13: Softtech VC | B13: Yes | C13: 15 | E13: 55 | F13: 55 | I13: From SEC Form D-actual
A14: SV Angel | C14: 20 | D14: =C14 -> 20 | E14: 40 | F14: 12 | G14: 12 | I14: From SEC Form D-actual 12M
A15: Thrive Capital | C15: 10 | D15: =C15 -> 10 | E15: 40 | F15: 40 | G15: 40 | I15: From SEC Form D-actual
A16: Quest Venture Partners | C16: 20 | D16: 20 | E16: 20 | F16: ? | I16: No Edgar Entry
A17: IMAF | E17: =3+2+2+2+2+2 -> 13 | F17: 1.5 | G17: 1.5 | I17: From SEC Form D-actual 1.5M
A18: CrunchFund | E18: 16 | F18: 16 | G18: 16 | I18: From SEC Form D-actual
D20: =SUM(D2:D16) -> 252.5 | E20: =SUM(E3:E18) -> 319 | G20: =SUM(G2:G18) -> 363
A22: http://www.chubbybrain.com/blog/a-guide-to-super-angel-investors-who-are-they-what-do-they-invest-in/

Sheet TotalSeed
A1: Year | B1: Total Seed Dollars
A2: 2002 | B2: =CVRData!C2+NVCAData!B2/1000 -> 7.686
A3: 2003 | B3: =CVRData!C3+NVCAData!B3/1000 -> 9.739
A4: 2004 | B4: =CVRData!C4+NVCAData!B4/1000 -> 12.4975
A5: 2005 | B5: =CVRData!C5+NVCAData!B5/1000 -> 13.626
A6: 2006 | B6: =CVRData!C6+NVCAData!B6/1000 -> 13.024
A7: 2007 | B7: =CVRData!C7+NVCAData!B7/1000 -> 11.632
A8: 2008 | B8: =CVRData!C8+NVCAData!B8/1000 -> 10.377
A9: 2009 | B9: =CVRData!C9+NVCAData!B9/1000+0.253 -> 8.211
A10: 2010 | B10: =CVRData!C10+NVCAData!B10/1000+SuperAngels!D20/1000 -> 8.2085
A11: 2011 | B11: =CVRData!C11+NVCAData!B11/1000+SuperAngels!G20/1000 -> 10.732
